BEGIN:VCALENDAR
VERSION:2.0
PRODID:-//Old Colorado Brewing Company - ECPv6.15.20//NONSGML v1.0//EN
CALSCALE:GREGORIAN
METHOD:PUBLISH
X-ORIGINAL-URL:https://oldcoloradobrewing.com
X-WR-CALDESC:Events for Old Colorado Brewing Company
REFRESH-INTERVAL;VALUE=DURATION:PT1H
X-Robots-Tag:noindex
X-PUBLISHED-TTL:PT1H
BEGIN:VTIMEZONE
TZID:America/Denver
BEGIN:DAYLIGHT
TZOFFSETFROM:-0700
TZOFFSETTO:-0600
TZNAME:MDT
DTSTART:20250309T090000
END:DAYLIGHT
BEGIN:STANDARD
TZOFFSETFROM:-0600
TZOFFSETTO:-0700
TZNAME:MST
DTSTART:20251102T080000
END:STANDARD
BEGIN:DAYLIGHT
TZOFFSETFROM:-0700
TZOFFSETTO:-0600
TZNAME:MDT
DTSTART:20260308T090000
END:DAYLIGHT
BEGIN:STANDARD
TZOFFSETFROM:-0600
TZOFFSETTO:-0700
TZNAME:MST
DTSTART:20261101T080000
END:STANDARD
BEGIN:DAYLIGHT
TZOFFSETFROM:-0700
TZOFFSETTO:-0600
TZNAME:MDT
DTSTART:20270314T090000
END:DAYLIGHT
BEGIN:STANDARD
TZOFFSETFROM:-0600
TZOFFSETTO:-0700
TZNAME:MST
DTSTART:20271107T080000
END:STANDARD
END:VTIMEZONE
BEGIN:VEVENT
DTSTART;TZID=America/Denver:20260505T160000
DTEND;TZID=America/Denver:20260505T200000
DTSTAMP:20260425T190131
CREATED:20260323T035358Z
LAST-MODIFIED:20260323T035358Z
UID:10001052-1777996800-1778011200@oldcoloradobrewing.com
SUMMARY:Santa Elena's
DESCRIPTION:Santa Elena’s Food Truck brings bold\, authentic flavor to every bite with their signature wood-smoked Mexican provisions. Known for serving some of the best tacos in Northern Colorado\, their menu is built on slow-cooked meats\, fresh ingredients\, and time-honored techniques that deliver rich\, smoky depth you won’t find just anywhere.
URL:https://oldcoloradobrewing.com/event/santa-elenas/2026-05-05/
LOCATION:Old Colorado Brewing Company\, 3700 Cleveland Avenue\, Wellington\, Colorado\, 80549\, United States
CATEGORIES:Food Trucks
ATTACH;FMTTYPE=image/jpeg:https://oldcoloradobrewing.com/wp-content/uploads/2026/03/santa-elenas.jpg
END:VEVENT
BEGIN:VEVENT
DTSTART;TZID=America/Denver:20260505T183000
DTEND;TZID=America/Denver:20260505T203000
DTSTAMP:20260425T190131
CREATED:20260217T012642Z
LAST-MODIFIED:20260217T012643Z
UID:10000313-1778005800-1778013000@oldcoloradobrewing.com
SUMMARY:Trivia Tuesdays
DESCRIPTION:
URL:https://oldcoloradobrewing.com/event/trivia-tuesdays-2/2026-05-05/
LOCATION:Old Colorado Brewing Company\, 3700 Cleveland Avenue\, Wellington\, Colorado\, 80549\, United States
CATEGORIES:Trivia
ATTACH;FMTTYPE=image/png:https://oldcoloradobrewing.com/wp-content/uploads/2025/07/OCB-Trivia-Tuesdays.png
ORGANIZER;CN="Old Colorado Brewing Company":MAILTO:info@oldcoloradobrewing.com
END:VEVENT
END:VCALENDAR