BEGIN:VCALENDAR
VERSION:2.0
PRODID:-//Old Colorado Brewing Company - ECPv6.15.20//NONSGML v1.0//EN
CALSCALE:GREGORIAN
METHOD:PUBLISH
X-ORIGINAL-URL:https://oldcoloradobrewing.com
X-WR-CALDESC:Events for Old Colorado Brewing Company
REFRESH-INTERVAL;VALUE=DURATION:PT1H
X-Robots-Tag:noindex
X-PUBLISHED-TTL:PT1H
BEGIN:VTIMEZONE
TZID:America/Denver
BEGIN:DAYLIGHT
TZOFFSETFROM:-0700
TZOFFSETTO:-0600
TZNAME:MDT
DTSTART:20250309T090000
END:DAYLIGHT
BEGIN:STANDARD
TZOFFSETFROM:-0600
TZOFFSETTO:-0700
TZNAME:MST
DTSTART:20251102T080000
END:STANDARD
BEGIN:DAYLIGHT
TZOFFSETFROM:-0700
TZOFFSETTO:-0600
TZNAME:MDT
DTSTART:20260308T090000
END:DAYLIGHT
BEGIN:STANDARD
TZOFFSETFROM:-0600
TZOFFSETTO:-0700
TZNAME:MST
DTSTART:20261101T080000
END:STANDARD
BEGIN:DAYLIGHT
TZOFFSETFROM:-0700
TZOFFSETTO:-0600
TZNAME:MDT
DTSTART:20270314T090000
END:DAYLIGHT
BEGIN:STANDARD
TZOFFSETFROM:-0600
TZOFFSETTO:-0700
TZNAME:MST
DTSTART:20271107T080000
END:STANDARD
END:VTIMEZONE
BEGIN:VEVENT
DTSTART;TZID=America/Denver:20260516T150000
DTEND;TZID=America/Denver:20260516T200000
DTSTAMP:20260425T212540
CREATED:20250823T010451Z
LAST-MODIFIED:20260324T042843Z
UID:10001046-1778943600-1778961600@oldcoloradobrewing.com
SUMMARY:Lulu's Taters
DESCRIPTION:Dig into hearty baked potato creations loaded with flavor! From tender brisket to melty queso and all your favorite toppings\, Lulu’s Taters takes the humble spud and turns it into a full meal. Comfort food at its finest\, piled high and made to satisfy.
URL:https://oldcoloradobrewing.com/event/lulus-taters/2026-05-16/
LOCATION:Old Colorado Brewing Company\, 3700 Cleveland Avenue\, Wellington\, Colorado\, 80549\, United States
CATEGORIES:Food Trucks
ATTACH;FMTTYPE=image/jpeg:https://oldcoloradobrewing.com/wp-content/uploads/2025/08/lulus-1.jpg
END:VEVENT
BEGIN:VEVENT
DTSTART;TZID=America/Denver:20260517T140000
DTEND;TZID=America/Denver:20260517T200000
DTSTAMP:20260425T212540
CREATED:20251106T044031Z
LAST-MODIFIED:20260422T042603Z
UID:10001066-1779026400-1779048000@oldcoloradobrewing.com
SUMMARY:NOCO Pizza Company
DESCRIPTION:Join us for delicious wood-fired pizza from NOCO Pizza Company\, serving from their food truck right outside the taproom.
URL:https://oldcoloradobrewing.com/event/noco-pizza-company/2026-05-17/
LOCATION:Old Colorado Brewing Company\, 3700 Cleveland Avenue\, Wellington\, Colorado\, 80549\, United States
CATEGORIES:Food Trucks
ATTACH;FMTTYPE=image/png:https://oldcoloradobrewing.com/wp-content/uploads/2025/11/Noco-Pizza.png
END:VEVENT
BEGIN:VEVENT
DTSTART;TZID=America/Denver:20260519T160000
DTEND;TZID=America/Denver:20260519T200000
DTSTAMP:20260425T212540
CREATED:20250819T221400Z
LAST-MODIFIED:20260422T044206Z
UID:10001040-1779206400-1779220800@oldcoloradobrewing.com
SUMMARY:Fry It Riot
DESCRIPTION:
URL:https://oldcoloradobrewing.com/event/fry-it-riot-2/2026-05-19/
LOCATION:Old Colorado Brewing Company\, 3700 Cleveland Avenue\, Wellington\, Colorado\, 80549\, United States
CATEGORIES:Food Trucks
ATTACH;FMTTYPE=image/jpeg:https://oldcoloradobrewing.com/wp-content/uploads/2025/08/Fry-it-Riot-1.jpg
END:VEVENT
BEGIN:VEVENT
DTSTART;TZID=America/Denver:20260520T160000
DTEND;TZID=America/Denver:20260520T193000
DTSTAMP:20260425T212540
CREATED:20250818T192033Z
LAST-MODIFIED:20260423T015958Z
UID:10001082-1779292800-1779305400@oldcoloradobrewing.com
SUMMARY:Ranch Eats
DESCRIPTION:Ranch Eats is all about hearty\, rustic comfort food served up fresh from their food truck. Their rotating menu brings a little something for everyone — from savory mains to satisfying sides. Whether it’s a weekday pick-me-up or a weekend treat\, Ranch Eats is here to keep you full and happy while you enjoy a cold pint at OCB.
URL:https://oldcoloradobrewing.com/event/ranch-eats-3/2026-05-20/
LOCATION:Old Colorado Brewing Company\, 3700 Cleveland Avenue\, Wellington\, Colorado\, 80549\, United States
CATEGORIES:Food Trucks
ATTACH;FMTTYPE=image/jpeg:https://oldcoloradobrewing.com/wp-content/uploads/2025/08/ranch-eats-logo.jpg
END:VEVENT
BEGIN:VEVENT
DTSTART;TZID=America/Denver:20260521T113000
DTEND;TZID=America/Denver:20260521T190000
DTSTAMP:20260425T212540
CREATED:20250708T200034Z
LAST-MODIFIED:20250815T210807Z
UID:10000052-1779363000-1779390000@oldcoloradobrewing.com
SUMMARY:Double Dubs Wings
DESCRIPTION:
URL:https://oldcoloradobrewing.com/event/double-dubs-wings/2026-05-21/
LOCATION:Old Colorado Brewing Company\, 3700 Cleveland Avenue\, Wellington\, Colorado\, 80549\, United States
CATEGORIES:Food Trucks
ATTACH;FMTTYPE=image/jpeg:https://oldcoloradobrewing.com/wp-content/uploads/2025/07/dubs.jpg
ORGANIZER;CN="Old Colorado Brewing Company":MAILTO:info@oldcoloradobrewing.com
END:VEVENT
BEGIN:VEVENT
DTSTART;TZID=America/Denver:20260522T160000
DTEND;TZID=America/Denver:20260522T190000
DTSTAMP:20260425T212540
CREATED:20250902T035620Z
LAST-MODIFIED:20260422T043413Z
UID:10000984-1779465600-1779476400@oldcoloradobrewing.com
SUMMARY:Dos Medinas
DESCRIPTION:Serving up bold island favorites and family recipes\, Dos Medinas brings the taste of Puerto Rico to Northern Colorado—no plane ticket required.
URL:https://oldcoloradobrewing.com/event/dos-medinas-3/2026-05-22/
LOCATION:Old Colorado Brewing Company\, 3700 Cleveland Avenue\, Wellington\, Colorado\, 80549\, United States
CATEGORIES:Food Trucks
ATTACH;FMTTYPE=image/jpeg:https://oldcoloradobrewing.com/wp-content/uploads/2025/09/Dos-Medinas-Logo.jpg
END:VEVENT
BEGIN:VEVENT
DTSTART;TZID=America/Denver:20260524T160000
DTEND;TZID=America/Denver:20260524T200000
DTSTAMP:20260425T212540
CREATED:20260323T035358Z
LAST-MODIFIED:20260323T035358Z
UID:10001053-1779638400-1779652800@oldcoloradobrewing.com
SUMMARY:Santa Elena's
DESCRIPTION:Santa Elena’s Food Truck brings bold\, authentic flavor to every bite with their signature wood-smoked Mexican provisions. Known for serving some of the best tacos in Northern Colorado\, their menu is built on slow-cooked meats\, fresh ingredients\, and time-honored techniques that deliver rich\, smoky depth you won’t find just anywhere.
URL:https://oldcoloradobrewing.com/event/santa-elenas/2026-05-24/
LOCATION:Old Colorado Brewing Company\, 3700 Cleveland Avenue\, Wellington\, Colorado\, 80549\, United States
CATEGORIES:Food Trucks
ATTACH;FMTTYPE=image/jpeg:https://oldcoloradobrewing.com/wp-content/uploads/2026/03/santa-elenas.jpg
END:VEVENT
BEGIN:VEVENT
DTSTART;TZID=America/Denver:20260525T120000
DTEND;TZID=America/Denver:20260525T193000
DTSTAMP:20260425T212540
CREATED:20250818T192033Z
LAST-MODIFIED:20260423T015958Z
UID:10001102-1779710400-1779737400@oldcoloradobrewing.com
SUMMARY:Ranch Eats
DESCRIPTION:Ranch Eats is all about hearty\, rustic comfort food served up fresh from their food truck. Their rotating menu brings a little something for everyone — from savory mains to satisfying sides. Whether it’s a weekday pick-me-up or a weekend treat\, Ranch Eats is here to keep you full and happy while you enjoy a cold pint at OCB.
URL:https://oldcoloradobrewing.com/event/ranch-eats-3/2026-05-25/
LOCATION:Old Colorado Brewing Company\, 3700 Cleveland Avenue\, Wellington\, Colorado\, 80549\, United States
CATEGORIES:Food Trucks
ATTACH;FMTTYPE=image/jpeg:https://oldcoloradobrewing.com/wp-content/uploads/2025/08/ranch-eats-logo.jpg
END:VEVENT
BEGIN:VEVENT
DTSTART;TZID=America/Denver:20260526T160000
DTEND;TZID=America/Denver:20260526T200000
DTSTAMP:20260425T212540
CREATED:20250819T221400Z
LAST-MODIFIED:20260422T044206Z
UID:10001041-1779811200-1779825600@oldcoloradobrewing.com
SUMMARY:Fry It Riot
DESCRIPTION:
URL:https://oldcoloradobrewing.com/event/fry-it-riot-2/2026-05-26/
LOCATION:Old Colorado Brewing Company\, 3700 Cleveland Avenue\, Wellington\, Colorado\, 80549\, United States
CATEGORIES:Food Trucks
ATTACH;FMTTYPE=image/jpeg:https://oldcoloradobrewing.com/wp-content/uploads/2025/08/Fry-it-Riot-1.jpg
END:VEVENT
BEGIN:VEVENT
DTSTART;TZID=America/Denver:20260527T160000
DTEND;TZID=America/Denver:20260527T193000
DTSTAMP:20260425T212540
CREATED:20251106T044031Z
LAST-MODIFIED:20260422T042603Z
UID:10001090-1779897600-1779910200@oldcoloradobrewing.com
SUMMARY:NOCO Pizza Company
DESCRIPTION:Join us for delicious wood-fired pizza from NOCO Pizza Company\, serving from their food truck right outside the taproom.
URL:https://oldcoloradobrewing.com/event/noco-pizza-company/2026-05-27/
LOCATION:Old Colorado Brewing Company\, 3700 Cleveland Avenue\, Wellington\, Colorado\, 80549\, United States
CATEGORIES:Food Trucks
ATTACH;FMTTYPE=image/png:https://oldcoloradobrewing.com/wp-content/uploads/2025/11/Noco-Pizza.png
END:VEVENT
BEGIN:VEVENT
DTSTART;TZID=America/Denver:20260528T113000
DTEND;TZID=America/Denver:20260528T190000
DTSTAMP:20260425T212540
CREATED:20250708T200034Z
LAST-MODIFIED:20250815T210807Z
UID:10000053-1779967800-1779994800@oldcoloradobrewing.com
SUMMARY:Double Dubs Wings
DESCRIPTION:
URL:https://oldcoloradobrewing.com/event/double-dubs-wings/2026-05-28/
LOCATION:Old Colorado Brewing Company\, 3700 Cleveland Avenue\, Wellington\, Colorado\, 80549\, United States
CATEGORIES:Food Trucks
ATTACH;FMTTYPE=image/jpeg:https://oldcoloradobrewing.com/wp-content/uploads/2025/07/dubs.jpg
ORGANIZER;CN="Old Colorado Brewing Company":MAILTO:info@oldcoloradobrewing.com
END:VEVENT
BEGIN:VEVENT
DTSTART;TZID=America/Denver:20260529T150000
DTEND;TZID=America/Denver:20260529T200000
DTSTAMP:20260425T212540
CREATED:20250823T010451Z
LAST-MODIFIED:20260324T042843Z
UID:10001047-1780066800-1780084800@oldcoloradobrewing.com
SUMMARY:Lulu's Taters
DESCRIPTION:Dig into hearty baked potato creations loaded with flavor! From tender brisket to melty queso and all your favorite toppings\, Lulu’s Taters takes the humble spud and turns it into a full meal. Comfort food at its finest\, piled high and made to satisfy.
URL:https://oldcoloradobrewing.com/event/lulus-taters/2026-05-29/
LOCATION:Old Colorado Brewing Company\, 3700 Cleveland Avenue\, Wellington\, Colorado\, 80549\, United States
CATEGORIES:Food Trucks
ATTACH;FMTTYPE=image/jpeg:https://oldcoloradobrewing.com/wp-content/uploads/2025/08/lulus-1.jpg
END:VEVENT
BEGIN:VEVENT
DTSTART;TZID=America/Denver:20260530T160000
DTEND;TZID=America/Denver:20260530T200000
DTSTAMP:20260425T212540
CREATED:20250914T001333Z
LAST-MODIFIED:20260422T042914Z
UID:10001091-1780156800-1780171200@oldcoloradobrewing.com
SUMMARY:Bite of the Bayou
DESCRIPTION:Bite of the Bayou — Berthoud’s Veteran-Owned Cajun Food Truck \nCome get a taste of Louisiana right here in Wellington! Bite of the Bayou serves up bold Cajun flavors inspired by the Bayou’s rich food tradition.
URL:https://oldcoloradobrewing.com/event/bite-of-the-bayou/2026-05-30/
LOCATION:Old Colorado Brewing Company\, 3700 Cleveland Avenue\, Wellington\, Colorado\, 80549\, United States
CATEGORIES:Food Trucks
ATTACH;FMTTYPE=image/jpeg:https://oldcoloradobrewing.com/wp-content/uploads/2025/09/bitebayou2.jpg
END:VEVENT
BEGIN:VEVENT
DTSTART;TZID=America/Denver:20260602T160000
DTEND;TZID=America/Denver:20260602T193000
DTSTAMP:20260425T212540
CREATED:20250914T001333Z
LAST-MODIFIED:20260422T042914Z
UID:10001092-1780416000-1780428600@oldcoloradobrewing.com
SUMMARY:Bite of the Bayou
DESCRIPTION:Bite of the Bayou — Berthoud’s Veteran-Owned Cajun Food Truck \nCome get a taste of Louisiana right here in Wellington! Bite of the Bayou serves up bold Cajun flavors inspired by the Bayou’s rich food tradition.
URL:https://oldcoloradobrewing.com/event/bite-of-the-bayou/2026-06-02/
LOCATION:Old Colorado Brewing Company\, 3700 Cleveland Avenue\, Wellington\, Colorado\, 80549\, United States
CATEGORIES:Food Trucks
ATTACH;FMTTYPE=image/jpeg:https://oldcoloradobrewing.com/wp-content/uploads/2025/09/bitebayou2.jpg
END:VEVENT
BEGIN:VEVENT
DTSTART;TZID=America/Denver:20260603T160000
DTEND;TZID=America/Denver:20260603T193000
DTSTAMP:20260425T212540
CREATED:20250818T192033Z
LAST-MODIFIED:20260423T015958Z
UID:10001085-1780502400-1780515000@oldcoloradobrewing.com
SUMMARY:Ranch Eats
DESCRIPTION:Ranch Eats is all about hearty\, rustic comfort food served up fresh from their food truck. Their rotating menu brings a little something for everyone — from savory mains to satisfying sides. Whether it’s a weekday pick-me-up or a weekend treat\, Ranch Eats is here to keep you full and happy while you enjoy a cold pint at OCB.
URL:https://oldcoloradobrewing.com/event/ranch-eats-3/2026-06-03/
LOCATION:Old Colorado Brewing Company\, 3700 Cleveland Avenue\, Wellington\, Colorado\, 80549\, United States
CATEGORIES:Food Trucks
ATTACH;FMTTYPE=image/jpeg:https://oldcoloradobrewing.com/wp-content/uploads/2025/08/ranch-eats-logo.jpg
END:VEVENT
BEGIN:VEVENT
DTSTART;TZID=America/Denver:20260604T113000
DTEND;TZID=America/Denver:20260604T190000
DTSTAMP:20260425T212540
CREATED:20250708T200034Z
LAST-MODIFIED:20250815T210807Z
UID:10000054-1780572600-1780599600@oldcoloradobrewing.com
SUMMARY:Double Dubs Wings
DESCRIPTION:
URL:https://oldcoloradobrewing.com/event/double-dubs-wings/2026-06-04/
LOCATION:Old Colorado Brewing Company\, 3700 Cleveland Avenue\, Wellington\, Colorado\, 80549\, United States
CATEGORIES:Food Trucks
ATTACH;FMTTYPE=image/jpeg:https://oldcoloradobrewing.com/wp-content/uploads/2025/07/dubs.jpg
ORGANIZER;CN="Old Colorado Brewing Company":MAILTO:info@oldcoloradobrewing.com
END:VEVENT
BEGIN:VEVENT
DTSTART;TZID=America/Denver:20260605T163000
DTEND;TZID=America/Denver:20260605T210000
DTSTAMP:20260425T212540
CREATED:20260422T040626Z
LAST-MODIFIED:20260422T040626Z
UID:10001072-1780677000-1780693200@oldcoloradobrewing.com
SUMMARY:What The Cluck
DESCRIPTION:What The Cluck is serving up crispy\, golden fried chicken with a twist — paired perfectly with fluffy waffles for the ultimate comfort combo. This food truck keeps it fun\, flavorful\, and downright craveable\, whether you’re a fan of sweet\, savory\, or both. It’s comfort food that clucks all the boxes.
URL:https://oldcoloradobrewing.com/event/what-the-cluck/2026-06-05/
LOCATION:Old Colorado Brewing Company\, 3700 Cleveland Avenue\, Wellington\, Colorado\, 80549\, United States
CATEGORIES:Food Trucks
ATTACH;FMTTYPE=image/jpeg:https://oldcoloradobrewing.com/wp-content/uploads/2025/08/what-the-cluck.jpg
END:VEVENT
BEGIN:VEVENT
DTSTART;TZID=America/Denver:20260606T120000
DTEND;TZID=America/Denver:20260606T190000
DTSTAMP:20260425T212540
CREATED:20250902T035620Z
LAST-MODIFIED:20260422T043413Z
UID:10001094-1780747200-1780772400@oldcoloradobrewing.com
SUMMARY:Dos Medinas
DESCRIPTION:Serving up bold island favorites and family recipes\, Dos Medinas brings the taste of Puerto Rico to Northern Colorado—no plane ticket required.
URL:https://oldcoloradobrewing.com/event/dos-medinas-3/2026-06-06/
LOCATION:Old Colorado Brewing Company\, 3700 Cleveland Avenue\, Wellington\, Colorado\, 80549\, United States
CATEGORIES:Food Trucks
ATTACH;FMTTYPE=image/jpeg:https://oldcoloradobrewing.com/wp-content/uploads/2025/09/Dos-Medinas-Logo.jpg
END:VEVENT
BEGIN:VEVENT
DTSTART;TZID=America/Denver:20260609T160000
DTEND;TZID=America/Denver:20260609T193000
DTSTAMP:20260425T212540
CREATED:20250818T192033Z
LAST-MODIFIED:20260423T015958Z
UID:10001086-1781020800-1781033400@oldcoloradobrewing.com
SUMMARY:Ranch Eats
DESCRIPTION:Ranch Eats is all about hearty\, rustic comfort food served up fresh from their food truck. Their rotating menu brings a little something for everyone — from savory mains to satisfying sides. Whether it’s a weekday pick-me-up or a weekend treat\, Ranch Eats is here to keep you full and happy while you enjoy a cold pint at OCB.
URL:https://oldcoloradobrewing.com/event/ranch-eats-3/2026-06-09/
LOCATION:Old Colorado Brewing Company\, 3700 Cleveland Avenue\, Wellington\, Colorado\, 80549\, United States
CATEGORIES:Food Trucks
ATTACH;FMTTYPE=image/jpeg:https://oldcoloradobrewing.com/wp-content/uploads/2025/08/ranch-eats-logo.jpg
END:VEVENT
BEGIN:VEVENT
DTSTART;TZID=America/Denver:20260610T160000
DTEND;TZID=America/Denver:20260610T193000
DTSTAMP:20260425T212540
CREATED:20250819T221400Z
LAST-MODIFIED:20260422T044206Z
UID:10001099-1781107200-1781119800@oldcoloradobrewing.com
SUMMARY:Fry It Riot
DESCRIPTION:
URL:https://oldcoloradobrewing.com/event/fry-it-riot-2/2026-06-10/
LOCATION:Old Colorado Brewing Company\, 3700 Cleveland Avenue\, Wellington\, Colorado\, 80549\, United States
CATEGORIES:Food Trucks
ATTACH;FMTTYPE=image/jpeg:https://oldcoloradobrewing.com/wp-content/uploads/2025/08/Fry-it-Riot-1.jpg
END:VEVENT
BEGIN:VEVENT
DTSTART;TZID=America/Denver:20260611T113000
DTEND;TZID=America/Denver:20260611T190000
DTSTAMP:20260425T212540
CREATED:20250708T200034Z
LAST-MODIFIED:20250815T210807Z
UID:10000055-1781177400-1781204400@oldcoloradobrewing.com
SUMMARY:Double Dubs Wings
DESCRIPTION:
URL:https://oldcoloradobrewing.com/event/double-dubs-wings/2026-06-11/
LOCATION:Old Colorado Brewing Company\, 3700 Cleveland Avenue\, Wellington\, Colorado\, 80549\, United States
CATEGORIES:Food Trucks
ATTACH;FMTTYPE=image/jpeg:https://oldcoloradobrewing.com/wp-content/uploads/2025/07/dubs.jpg
ORGANIZER;CN="Old Colorado Brewing Company":MAILTO:info@oldcoloradobrewing.com
END:VEVENT
BEGIN:VEVENT
DTSTART;TZID=America/Denver:20260612T160000
DTEND;TZID=America/Denver:20260612T190000
DTSTAMP:20260425T212540
CREATED:20250902T035620Z
LAST-MODIFIED:20260422T043413Z
UID:10000985-1781280000-1781290800@oldcoloradobrewing.com
SUMMARY:Dos Medinas
DESCRIPTION:Serving up bold island favorites and family recipes\, Dos Medinas brings the taste of Puerto Rico to Northern Colorado—no plane ticket required.
URL:https://oldcoloradobrewing.com/event/dos-medinas-3/2026-06-12/
LOCATION:Old Colorado Brewing Company\, 3700 Cleveland Avenue\, Wellington\, Colorado\, 80549\, United States
CATEGORIES:Food Trucks
ATTACH;FMTTYPE=image/jpeg:https://oldcoloradobrewing.com/wp-content/uploads/2025/09/Dos-Medinas-Logo.jpg
END:VEVENT
BEGIN:VEVENT
DTSTART;TZID=America/Denver:20260614T160000
DTEND;TZID=America/Denver:20260614T193000
DTSTAMP:20260425T212540
CREATED:20250818T192033Z
LAST-MODIFIED:20260423T015958Z
UID:10001087-1781452800-1781465400@oldcoloradobrewing.com
SUMMARY:Ranch Eats
DESCRIPTION:Ranch Eats is all about hearty\, rustic comfort food served up fresh from their food truck. Their rotating menu brings a little something for everyone — from savory mains to satisfying sides. Whether it’s a weekday pick-me-up or a weekend treat\, Ranch Eats is here to keep you full and happy while you enjoy a cold pint at OCB.
URL:https://oldcoloradobrewing.com/event/ranch-eats-3/2026-06-14/
LOCATION:Old Colorado Brewing Company\, 3700 Cleveland Avenue\, Wellington\, Colorado\, 80549\, United States
CATEGORIES:Food Trucks
ATTACH;FMTTYPE=image/jpeg:https://oldcoloradobrewing.com/wp-content/uploads/2025/08/ranch-eats-logo.jpg
END:VEVENT
BEGIN:VEVENT
DTSTART;TZID=America/Denver:20260617T160000
DTEND;TZID=America/Denver:20260617T193000
DTSTAMP:20260425T212540
CREATED:20250819T221400Z
LAST-MODIFIED:20260422T044206Z
UID:10001100-1781712000-1781724600@oldcoloradobrewing.com
SUMMARY:Fry It Riot
DESCRIPTION:
URL:https://oldcoloradobrewing.com/event/fry-it-riot-2/2026-06-17/
LOCATION:Old Colorado Brewing Company\, 3700 Cleveland Avenue\, Wellington\, Colorado\, 80549\, United States
CATEGORIES:Food Trucks
ATTACH;FMTTYPE=image/jpeg:https://oldcoloradobrewing.com/wp-content/uploads/2025/08/Fry-it-Riot-1.jpg
END:VEVENT
BEGIN:VEVENT
DTSTART;TZID=America/Denver:20260618T113000
DTEND;TZID=America/Denver:20260618T190000
DTSTAMP:20260425T212540
CREATED:20250708T200034Z
LAST-MODIFIED:20250815T210807Z
UID:10000056-1781782200-1781809200@oldcoloradobrewing.com
SUMMARY:Double Dubs Wings
DESCRIPTION:
URL:https://oldcoloradobrewing.com/event/double-dubs-wings/2026-06-18/
LOCATION:Old Colorado Brewing Company\, 3700 Cleveland Avenue\, Wellington\, Colorado\, 80549\, United States
CATEGORIES:Food Trucks
ATTACH;FMTTYPE=image/jpeg:https://oldcoloradobrewing.com/wp-content/uploads/2025/07/dubs.jpg
ORGANIZER;CN="Old Colorado Brewing Company":MAILTO:info@oldcoloradobrewing.com
END:VEVENT
BEGIN:VEVENT
DTSTART;TZID=America/Denver:20260619T160000
DTEND;TZID=America/Denver:20260619T200000
DTSTAMP:20260425T212540
CREATED:20250914T001333Z
LAST-MODIFIED:20260422T042914Z
UID:10001093-1781884800-1781899200@oldcoloradobrewing.com
SUMMARY:Bite of the Bayou
DESCRIPTION:Bite of the Bayou — Berthoud’s Veteran-Owned Cajun Food Truck \nCome get a taste of Louisiana right here in Wellington! Bite of the Bayou serves up bold Cajun flavors inspired by the Bayou’s rich food tradition.
URL:https://oldcoloradobrewing.com/event/bite-of-the-bayou/2026-06-19/
LOCATION:Old Colorado Brewing Company\, 3700 Cleveland Avenue\, Wellington\, Colorado\, 80549\, United States
CATEGORIES:Food Trucks
ATTACH;FMTTYPE=image/jpeg:https://oldcoloradobrewing.com/wp-content/uploads/2025/09/bitebayou2.jpg
END:VEVENT
BEGIN:VEVENT
DTSTART;TZID=America/Denver:20260623T160000
DTEND;TZID=America/Denver:20260623T193000
DTSTAMP:20260425T212540
CREATED:20250819T221400Z
LAST-MODIFIED:20260422T044206Z
UID:10001101-1782230400-1782243000@oldcoloradobrewing.com
SUMMARY:Fry It Riot
DESCRIPTION:
URL:https://oldcoloradobrewing.com/event/fry-it-riot-2/2026-06-23/
LOCATION:Old Colorado Brewing Company\, 3700 Cleveland Avenue\, Wellington\, Colorado\, 80549\, United States
CATEGORIES:Food Trucks
ATTACH;FMTTYPE=image/jpeg:https://oldcoloradobrewing.com/wp-content/uploads/2025/08/Fry-it-Riot-1.jpg
END:VEVENT
BEGIN:VEVENT
DTSTART;TZID=America/Denver:20260624T160000
DTEND;TZID=America/Denver:20260624T193000
DTSTAMP:20260425T212540
CREATED:20250818T192033Z
LAST-MODIFIED:20260423T015958Z
UID:10001088-1782316800-1782329400@oldcoloradobrewing.com
SUMMARY:Ranch Eats
DESCRIPTION:Ranch Eats is all about hearty\, rustic comfort food served up fresh from their food truck. Their rotating menu brings a little something for everyone — from savory mains to satisfying sides. Whether it’s a weekday pick-me-up or a weekend treat\, Ranch Eats is here to keep you full and happy while you enjoy a cold pint at OCB.
URL:https://oldcoloradobrewing.com/event/ranch-eats-3/2026-06-24/
LOCATION:Old Colorado Brewing Company\, 3700 Cleveland Avenue\, Wellington\, Colorado\, 80549\, United States
CATEGORIES:Food Trucks
ATTACH;FMTTYPE=image/jpeg:https://oldcoloradobrewing.com/wp-content/uploads/2025/08/ranch-eats-logo.jpg
END:VEVENT
BEGIN:VEVENT
DTSTART;TZID=America/Denver:20260625T113000
DTEND;TZID=America/Denver:20260625T190000
DTSTAMP:20260425T212540
CREATED:20250708T200034Z
LAST-MODIFIED:20250815T210807Z
UID:10000057-1782387000-1782414000@oldcoloradobrewing.com
SUMMARY:Double Dubs Wings
DESCRIPTION:
URL:https://oldcoloradobrewing.com/event/double-dubs-wings/2026-06-25/
LOCATION:Old Colorado Brewing Company\, 3700 Cleveland Avenue\, Wellington\, Colorado\, 80549\, United States
CATEGORIES:Food Trucks
ATTACH;FMTTYPE=image/jpeg:https://oldcoloradobrewing.com/wp-content/uploads/2025/07/dubs.jpg
ORGANIZER;CN="Old Colorado Brewing Company":MAILTO:info@oldcoloradobrewing.com
END:VEVENT
BEGIN:VEVENT
DTSTART;TZID=America/Denver:20260626T160000
DTEND;TZID=America/Denver:20260626T190000
DTSTAMP:20260425T212540
CREATED:20250902T035620Z
LAST-MODIFIED:20260422T043413Z
UID:10000986-1782489600-1782500400@oldcoloradobrewing.com
SUMMARY:Dos Medinas
DESCRIPTION:Serving up bold island favorites and family recipes\, Dos Medinas brings the taste of Puerto Rico to Northern Colorado—no plane ticket required.
URL:https://oldcoloradobrewing.com/event/dos-medinas-3/2026-06-26/
LOCATION:Old Colorado Brewing Company\, 3700 Cleveland Avenue\, Wellington\, Colorado\, 80549\, United States
CATEGORIES:Food Trucks
ATTACH;FMTTYPE=image/jpeg:https://oldcoloradobrewing.com/wp-content/uploads/2025/09/Dos-Medinas-Logo.jpg
END:VEVENT
END:VCALENDAR