BEGIN:VCALENDAR
VERSION:2.0
PRODID:-//Old Colorado Brewing Company - ECPv6.15.20//NONSGML v1.0//EN
CALSCALE:GREGORIAN
METHOD:PUBLISH
X-ORIGINAL-URL:https://oldcoloradobrewing.com
X-WR-CALDESC:Events for Old Colorado Brewing Company
REFRESH-INTERVAL;VALUE=DURATION:PT1H
X-Robots-Tag:noindex
X-PUBLISHED-TTL:PT1H
BEGIN:VTIMEZONE
TZID:America/Denver
BEGIN:DAYLIGHT
TZOFFSETFROM:-0700
TZOFFSETTO:-0600
TZNAME:MDT
DTSTART:20250309T090000
END:DAYLIGHT
BEGIN:STANDARD
TZOFFSETFROM:-0600
TZOFFSETTO:-0700
TZNAME:MST
DTSTART:20251102T080000
END:STANDARD
BEGIN:DAYLIGHT
TZOFFSETFROM:-0700
TZOFFSETTO:-0600
TZNAME:MDT
DTSTART:20260308T090000
END:DAYLIGHT
BEGIN:STANDARD
TZOFFSETFROM:-0600
TZOFFSETTO:-0700
TZNAME:MST
DTSTART:20261101T080000
END:STANDARD
BEGIN:DAYLIGHT
TZOFFSETFROM:-0700
TZOFFSETTO:-0600
TZNAME:MDT
DTSTART:20270314T090000
END:DAYLIGHT
BEGIN:STANDARD
TZOFFSETFROM:-0600
TZOFFSETTO:-0700
TZNAME:MST
DTSTART:20271107T080000
END:STANDARD
END:VTIMEZONE
BEGIN:VEVENT
DTSTART;TZID=America/Denver:20260606T120000
DTEND;TZID=America/Denver:20260606T190000
DTSTAMP:20260425T212559
CREATED:20250902T035620Z
LAST-MODIFIED:20260422T043413Z
UID:10001094-1780747200-1780772400@oldcoloradobrewing.com
SUMMARY:Dos Medinas
DESCRIPTION:Serving up bold island favorites and family recipes\, Dos Medinas brings the taste of Puerto Rico to Northern Colorado—no plane ticket required.
URL:https://oldcoloradobrewing.com/event/dos-medinas-3/2026-06-06/
LOCATION:Old Colorado Brewing Company\, 3700 Cleveland Avenue\, Wellington\, Colorado\, 80549\, United States
CATEGORIES:Food Trucks
ATTACH;FMTTYPE=image/jpeg:https://oldcoloradobrewing.com/wp-content/uploads/2025/09/Dos-Medinas-Logo.jpg
END:VEVENT
BEGIN:VEVENT
DTSTART;TZID=America/Denver:20260609T160000
DTEND;TZID=America/Denver:20260609T193000
DTSTAMP:20260425T212559
CREATED:20250818T192033Z
LAST-MODIFIED:20260423T015958Z
UID:10001086-1781020800-1781033400@oldcoloradobrewing.com
SUMMARY:Ranch Eats
DESCRIPTION:Ranch Eats is all about hearty\, rustic comfort food served up fresh from their food truck. Their rotating menu brings a little something for everyone — from savory mains to satisfying sides. Whether it’s a weekday pick-me-up or a weekend treat\, Ranch Eats is here to keep you full and happy while you enjoy a cold pint at OCB.
URL:https://oldcoloradobrewing.com/event/ranch-eats-3/2026-06-09/
LOCATION:Old Colorado Brewing Company\, 3700 Cleveland Avenue\, Wellington\, Colorado\, 80549\, United States
CATEGORIES:Food Trucks
ATTACH;FMTTYPE=image/jpeg:https://oldcoloradobrewing.com/wp-content/uploads/2025/08/ranch-eats-logo.jpg
END:VEVENT
BEGIN:VEVENT
DTSTART;TZID=America/Denver:20260610T160000
DTEND;TZID=America/Denver:20260610T193000
DTSTAMP:20260425T212559
CREATED:20250819T221400Z
LAST-MODIFIED:20260422T044206Z
UID:10001099-1781107200-1781119800@oldcoloradobrewing.com
SUMMARY:Fry It Riot
DESCRIPTION:
URL:https://oldcoloradobrewing.com/event/fry-it-riot-2/2026-06-10/
LOCATION:Old Colorado Brewing Company\, 3700 Cleveland Avenue\, Wellington\, Colorado\, 80549\, United States
CATEGORIES:Food Trucks
ATTACH;FMTTYPE=image/jpeg:https://oldcoloradobrewing.com/wp-content/uploads/2025/08/Fry-it-Riot-1.jpg
END:VEVENT
BEGIN:VEVENT
DTSTART;TZID=America/Denver:20260611T113000
DTEND;TZID=America/Denver:20260611T190000
DTSTAMP:20260425T212559
CREATED:20250708T200034Z
LAST-MODIFIED:20250815T210807Z
UID:10000055-1781177400-1781204400@oldcoloradobrewing.com
SUMMARY:Double Dubs Wings
DESCRIPTION:
URL:https://oldcoloradobrewing.com/event/double-dubs-wings/2026-06-11/
LOCATION:Old Colorado Brewing Company\, 3700 Cleveland Avenue\, Wellington\, Colorado\, 80549\, United States
CATEGORIES:Food Trucks
ATTACH;FMTTYPE=image/jpeg:https://oldcoloradobrewing.com/wp-content/uploads/2025/07/dubs.jpg
ORGANIZER;CN="Old Colorado Brewing Company":MAILTO:info@oldcoloradobrewing.com
END:VEVENT
BEGIN:VEVENT
DTSTART;TZID=America/Denver:20260612T160000
DTEND;TZID=America/Denver:20260612T190000
DTSTAMP:20260425T212559
CREATED:20250902T035620Z
LAST-MODIFIED:20260422T043413Z
UID:10000985-1781280000-1781290800@oldcoloradobrewing.com
SUMMARY:Dos Medinas
DESCRIPTION:Serving up bold island favorites and family recipes\, Dos Medinas brings the taste of Puerto Rico to Northern Colorado—no plane ticket required.
URL:https://oldcoloradobrewing.com/event/dos-medinas-3/2026-06-12/
LOCATION:Old Colorado Brewing Company\, 3700 Cleveland Avenue\, Wellington\, Colorado\, 80549\, United States
CATEGORIES:Food Trucks
ATTACH;FMTTYPE=image/jpeg:https://oldcoloradobrewing.com/wp-content/uploads/2025/09/Dos-Medinas-Logo.jpg
END:VEVENT
BEGIN:VEVENT
DTSTART;TZID=America/Denver:20260614T160000
DTEND;TZID=America/Denver:20260614T193000
DTSTAMP:20260425T212559
CREATED:20250818T192033Z
LAST-MODIFIED:20260423T015958Z
UID:10001087-1781452800-1781465400@oldcoloradobrewing.com
SUMMARY:Ranch Eats
DESCRIPTION:Ranch Eats is all about hearty\, rustic comfort food served up fresh from their food truck. Their rotating menu brings a little something for everyone — from savory mains to satisfying sides. Whether it’s a weekday pick-me-up or a weekend treat\, Ranch Eats is here to keep you full and happy while you enjoy a cold pint at OCB.
URL:https://oldcoloradobrewing.com/event/ranch-eats-3/2026-06-14/
LOCATION:Old Colorado Brewing Company\, 3700 Cleveland Avenue\, Wellington\, Colorado\, 80549\, United States
CATEGORIES:Food Trucks
ATTACH;FMTTYPE=image/jpeg:https://oldcoloradobrewing.com/wp-content/uploads/2025/08/ranch-eats-logo.jpg
END:VEVENT
BEGIN:VEVENT
DTSTART;TZID=America/Denver:20260617T160000
DTEND;TZID=America/Denver:20260617T193000
DTSTAMP:20260425T212559
CREATED:20250819T221400Z
LAST-MODIFIED:20260422T044206Z
UID:10001100-1781712000-1781724600@oldcoloradobrewing.com
SUMMARY:Fry It Riot
DESCRIPTION:
URL:https://oldcoloradobrewing.com/event/fry-it-riot-2/2026-06-17/
LOCATION:Old Colorado Brewing Company\, 3700 Cleveland Avenue\, Wellington\, Colorado\, 80549\, United States
CATEGORIES:Food Trucks
ATTACH;FMTTYPE=image/jpeg:https://oldcoloradobrewing.com/wp-content/uploads/2025/08/Fry-it-Riot-1.jpg
END:VEVENT
BEGIN:VEVENT
DTSTART;TZID=America/Denver:20260618T113000
DTEND;TZID=America/Denver:20260618T190000
DTSTAMP:20260425T212559
CREATED:20250708T200034Z
LAST-MODIFIED:20250815T210807Z
UID:10000056-1781782200-1781809200@oldcoloradobrewing.com
SUMMARY:Double Dubs Wings
DESCRIPTION:
URL:https://oldcoloradobrewing.com/event/double-dubs-wings/2026-06-18/
LOCATION:Old Colorado Brewing Company\, 3700 Cleveland Avenue\, Wellington\, Colorado\, 80549\, United States
CATEGORIES:Food Trucks
ATTACH;FMTTYPE=image/jpeg:https://oldcoloradobrewing.com/wp-content/uploads/2025/07/dubs.jpg
ORGANIZER;CN="Old Colorado Brewing Company":MAILTO:info@oldcoloradobrewing.com
END:VEVENT
BEGIN:VEVENT
DTSTART;TZID=America/Denver:20260619T160000
DTEND;TZID=America/Denver:20260619T200000
DTSTAMP:20260425T212559
CREATED:20250914T001333Z
LAST-MODIFIED:20260422T042914Z
UID:10001093-1781884800-1781899200@oldcoloradobrewing.com
SUMMARY:Bite of the Bayou
DESCRIPTION:Bite of the Bayou — Berthoud’s Veteran-Owned Cajun Food Truck \nCome get a taste of Louisiana right here in Wellington! Bite of the Bayou serves up bold Cajun flavors inspired by the Bayou’s rich food tradition.
URL:https://oldcoloradobrewing.com/event/bite-of-the-bayou/2026-06-19/
LOCATION:Old Colorado Brewing Company\, 3700 Cleveland Avenue\, Wellington\, Colorado\, 80549\, United States
CATEGORIES:Food Trucks
ATTACH;FMTTYPE=image/jpeg:https://oldcoloradobrewing.com/wp-content/uploads/2025/09/bitebayou2.jpg
END:VEVENT
BEGIN:VEVENT
DTSTART;TZID=America/Denver:20260623T160000
DTEND;TZID=America/Denver:20260623T193000
DTSTAMP:20260425T212559
CREATED:20250819T221400Z
LAST-MODIFIED:20260422T044206Z
UID:10001101-1782230400-1782243000@oldcoloradobrewing.com
SUMMARY:Fry It Riot
DESCRIPTION:
URL:https://oldcoloradobrewing.com/event/fry-it-riot-2/2026-06-23/
LOCATION:Old Colorado Brewing Company\, 3700 Cleveland Avenue\, Wellington\, Colorado\, 80549\, United States
CATEGORIES:Food Trucks
ATTACH;FMTTYPE=image/jpeg:https://oldcoloradobrewing.com/wp-content/uploads/2025/08/Fry-it-Riot-1.jpg
END:VEVENT
BEGIN:VEVENT
DTSTART;TZID=America/Denver:20260624T160000
DTEND;TZID=America/Denver:20260624T193000
DTSTAMP:20260425T212559
CREATED:20250818T192033Z
LAST-MODIFIED:20260423T015958Z
UID:10001088-1782316800-1782329400@oldcoloradobrewing.com
SUMMARY:Ranch Eats
DESCRIPTION:Ranch Eats is all about hearty\, rustic comfort food served up fresh from their food truck. Their rotating menu brings a little something for everyone — from savory mains to satisfying sides. Whether it’s a weekday pick-me-up or a weekend treat\, Ranch Eats is here to keep you full and happy while you enjoy a cold pint at OCB.
URL:https://oldcoloradobrewing.com/event/ranch-eats-3/2026-06-24/
LOCATION:Old Colorado Brewing Company\, 3700 Cleveland Avenue\, Wellington\, Colorado\, 80549\, United States
CATEGORIES:Food Trucks
ATTACH;FMTTYPE=image/jpeg:https://oldcoloradobrewing.com/wp-content/uploads/2025/08/ranch-eats-logo.jpg
END:VEVENT
BEGIN:VEVENT
DTSTART;TZID=America/Denver:20260625T113000
DTEND;TZID=America/Denver:20260625T190000
DTSTAMP:20260425T212559
CREATED:20250708T200034Z
LAST-MODIFIED:20250815T210807Z
UID:10000057-1782387000-1782414000@oldcoloradobrewing.com
SUMMARY:Double Dubs Wings
DESCRIPTION:
URL:https://oldcoloradobrewing.com/event/double-dubs-wings/2026-06-25/
LOCATION:Old Colorado Brewing Company\, 3700 Cleveland Avenue\, Wellington\, Colorado\, 80549\, United States
CATEGORIES:Food Trucks
ATTACH;FMTTYPE=image/jpeg:https://oldcoloradobrewing.com/wp-content/uploads/2025/07/dubs.jpg
ORGANIZER;CN="Old Colorado Brewing Company":MAILTO:info@oldcoloradobrewing.com
END:VEVENT
BEGIN:VEVENT
DTSTART;TZID=America/Denver:20260626T160000
DTEND;TZID=America/Denver:20260626T190000
DTSTAMP:20260425T212559
CREATED:20250902T035620Z
LAST-MODIFIED:20260422T043413Z
UID:10000986-1782489600-1782500400@oldcoloradobrewing.com
SUMMARY:Dos Medinas
DESCRIPTION:Serving up bold island favorites and family recipes\, Dos Medinas brings the taste of Puerto Rico to Northern Colorado—no plane ticket required.
URL:https://oldcoloradobrewing.com/event/dos-medinas-3/2026-06-26/
LOCATION:Old Colorado Brewing Company\, 3700 Cleveland Avenue\, Wellington\, Colorado\, 80549\, United States
CATEGORIES:Food Trucks
ATTACH;FMTTYPE=image/jpeg:https://oldcoloradobrewing.com/wp-content/uploads/2025/09/Dos-Medinas-Logo.jpg
END:VEVENT
BEGIN:VEVENT
DTSTART;TZID=America/Denver:20260630T160000
DTEND;TZID=America/Denver:20260630T193000
DTSTAMP:20260425T212559
CREATED:20250818T192033Z
LAST-MODIFIED:20260423T015958Z
UID:10001089-1782835200-1782847800@oldcoloradobrewing.com
SUMMARY:Ranch Eats
DESCRIPTION:Ranch Eats is all about hearty\, rustic comfort food served up fresh from their food truck. Their rotating menu brings a little something for everyone — from savory mains to satisfying sides. Whether it’s a weekday pick-me-up or a weekend treat\, Ranch Eats is here to keep you full and happy while you enjoy a cold pint at OCB.
URL:https://oldcoloradobrewing.com/event/ranch-eats-3/2026-06-30/
LOCATION:Old Colorado Brewing Company\, 3700 Cleveland Avenue\, Wellington\, Colorado\, 80549\, United States
CATEGORIES:Food Trucks
ATTACH;FMTTYPE=image/jpeg:https://oldcoloradobrewing.com/wp-content/uploads/2025/08/ranch-eats-logo.jpg
END:VEVENT
BEGIN:VEVENT
DTSTART;TZID=America/Denver:20260702T113000
DTEND;TZID=America/Denver:20260702T190000
DTSTAMP:20260425T212559
CREATED:20250708T200034Z
LAST-MODIFIED:20250815T210807Z
UID:10000058-1782991800-1783018800@oldcoloradobrewing.com
SUMMARY:Double Dubs Wings
DESCRIPTION:
URL:https://oldcoloradobrewing.com/event/double-dubs-wings/2026-07-02/
LOCATION:Old Colorado Brewing Company\, 3700 Cleveland Avenue\, Wellington\, Colorado\, 80549\, United States
CATEGORIES:Food Trucks
ATTACH;FMTTYPE=image/jpeg:https://oldcoloradobrewing.com/wp-content/uploads/2025/07/dubs.jpg
ORGANIZER;CN="Old Colorado Brewing Company":MAILTO:info@oldcoloradobrewing.com
END:VEVENT
BEGIN:VEVENT
DTSTART;TZID=America/Denver:20260703T163000
DTEND;TZID=America/Denver:20260703T210000
DTSTAMP:20260425T212559
CREATED:20260422T040626Z
LAST-MODIFIED:20260422T040626Z
UID:10001073-1783096200-1783112400@oldcoloradobrewing.com
SUMMARY:What The Cluck
DESCRIPTION:What The Cluck is serving up crispy\, golden fried chicken with a twist — paired perfectly with fluffy waffles for the ultimate comfort combo. This food truck keeps it fun\, flavorful\, and downright craveable\, whether you’re a fan of sweet\, savory\, or both. It’s comfort food that clucks all the boxes.
URL:https://oldcoloradobrewing.com/event/what-the-cluck/2026-07-03/
LOCATION:Old Colorado Brewing Company\, 3700 Cleveland Avenue\, Wellington\, Colorado\, 80549\, United States
CATEGORIES:Food Trucks
ATTACH;FMTTYPE=image/jpeg:https://oldcoloradobrewing.com/wp-content/uploads/2025/08/what-the-cluck.jpg
END:VEVENT
BEGIN:VEVENT
DTSTART;TZID=America/Denver:20260709T113000
DTEND;TZID=America/Denver:20260709T190000
DTSTAMP:20260425T212559
CREATED:20250708T200034Z
LAST-MODIFIED:20250815T210807Z
UID:10000059-1783596600-1783623600@oldcoloradobrewing.com
SUMMARY:Double Dubs Wings
DESCRIPTION:
URL:https://oldcoloradobrewing.com/event/double-dubs-wings/2026-07-09/
LOCATION:Old Colorado Brewing Company\, 3700 Cleveland Avenue\, Wellington\, Colorado\, 80549\, United States
CATEGORIES:Food Trucks
ATTACH;FMTTYPE=image/jpeg:https://oldcoloradobrewing.com/wp-content/uploads/2025/07/dubs.jpg
ORGANIZER;CN="Old Colorado Brewing Company":MAILTO:info@oldcoloradobrewing.com
END:VEVENT
BEGIN:VEVENT
DTSTART;TZID=America/Denver:20260710T163000
DTEND;TZID=America/Denver:20260710T210000
DTSTAMP:20260425T212559
CREATED:20260422T040626Z
LAST-MODIFIED:20260422T040626Z
UID:10001074-1783701000-1783717200@oldcoloradobrewing.com
SUMMARY:What The Cluck
DESCRIPTION:What The Cluck is serving up crispy\, golden fried chicken with a twist — paired perfectly with fluffy waffles for the ultimate comfort combo. This food truck keeps it fun\, flavorful\, and downright craveable\, whether you’re a fan of sweet\, savory\, or both. It’s comfort food that clucks all the boxes.
URL:https://oldcoloradobrewing.com/event/what-the-cluck/2026-07-10/
LOCATION:Old Colorado Brewing Company\, 3700 Cleveland Avenue\, Wellington\, Colorado\, 80549\, United States
CATEGORIES:Food Trucks
ATTACH;FMTTYPE=image/jpeg:https://oldcoloradobrewing.com/wp-content/uploads/2025/08/what-the-cluck.jpg
END:VEVENT
BEGIN:VEVENT
DTSTART;TZID=America/Denver:20260711T120000
DTEND;TZID=America/Denver:20260711T200000
DTSTAMP:20260425T212559
CREATED:20250902T035620Z
LAST-MODIFIED:20260422T043413Z
UID:10001095-1783771200-1783800000@oldcoloradobrewing.com
SUMMARY:Dos Medinas
DESCRIPTION:Serving up bold island favorites and family recipes\, Dos Medinas brings the taste of Puerto Rico to Northern Colorado—no plane ticket required.
URL:https://oldcoloradobrewing.com/event/dos-medinas-3/2026-07-11/
LOCATION:Old Colorado Brewing Company\, 3700 Cleveland Avenue\, Wellington\, Colorado\, 80549\, United States
CATEGORIES:Food Trucks
ATTACH;FMTTYPE=image/jpeg:https://oldcoloradobrewing.com/wp-content/uploads/2025/09/Dos-Medinas-Logo.jpg
END:VEVENT
BEGIN:VEVENT
DTSTART;TZID=America/Denver:20260716T113000
DTEND;TZID=America/Denver:20260716T190000
DTSTAMP:20260425T212559
CREATED:20250708T200034Z
LAST-MODIFIED:20250815T210807Z
UID:10000060-1784201400-1784228400@oldcoloradobrewing.com
SUMMARY:Double Dubs Wings
DESCRIPTION:
URL:https://oldcoloradobrewing.com/event/double-dubs-wings/2026-07-16/
LOCATION:Old Colorado Brewing Company\, 3700 Cleveland Avenue\, Wellington\, Colorado\, 80549\, United States
CATEGORIES:Food Trucks
ATTACH;FMTTYPE=image/jpeg:https://oldcoloradobrewing.com/wp-content/uploads/2025/07/dubs.jpg
ORGANIZER;CN="Old Colorado Brewing Company":MAILTO:info@oldcoloradobrewing.com
END:VEVENT
BEGIN:VEVENT
DTSTART;TZID=America/Denver:20260719T120000
DTEND;TZID=America/Denver:20260719T200000
DTSTAMP:20260425T212559
CREATED:20260422T040626Z
LAST-MODIFIED:20260422T040626Z
UID:10001075-1784462400-1784491200@oldcoloradobrewing.com
SUMMARY:What The Cluck
DESCRIPTION:What The Cluck is serving up crispy\, golden fried chicken with a twist — paired perfectly with fluffy waffles for the ultimate comfort combo. This food truck keeps it fun\, flavorful\, and downright craveable\, whether you’re a fan of sweet\, savory\, or both. It’s comfort food that clucks all the boxes.
URL:https://oldcoloradobrewing.com/event/what-the-cluck/2026-07-19/
LOCATION:Old Colorado Brewing Company\, 3700 Cleveland Avenue\, Wellington\, Colorado\, 80549\, United States
CATEGORIES:Food Trucks
ATTACH;FMTTYPE=image/jpeg:https://oldcoloradobrewing.com/wp-content/uploads/2025/08/what-the-cluck.jpg
END:VEVENT
BEGIN:VEVENT
DTSTART;TZID=America/Denver:20260723T113000
DTEND;TZID=America/Denver:20260723T190000
DTSTAMP:20260425T212559
CREATED:20250708T200034Z
LAST-MODIFIED:20250815T210807Z
UID:10000061-1784806200-1784833200@oldcoloradobrewing.com
SUMMARY:Double Dubs Wings
DESCRIPTION:
URL:https://oldcoloradobrewing.com/event/double-dubs-wings/2026-07-23/
LOCATION:Old Colorado Brewing Company\, 3700 Cleveland Avenue\, Wellington\, Colorado\, 80549\, United States
CATEGORIES:Food Trucks
ATTACH;FMTTYPE=image/jpeg:https://oldcoloradobrewing.com/wp-content/uploads/2025/07/dubs.jpg
ORGANIZER;CN="Old Colorado Brewing Company":MAILTO:info@oldcoloradobrewing.com
END:VEVENT
BEGIN:VEVENT
DTSTART;TZID=America/Denver:20260724T120000
DTEND;TZID=America/Denver:20260724T200000
DTSTAMP:20260425T212559
CREATED:20250902T035620Z
LAST-MODIFIED:20260422T043413Z
UID:10001096-1784894400-1784923200@oldcoloradobrewing.com
SUMMARY:Dos Medinas
DESCRIPTION:Serving up bold island favorites and family recipes\, Dos Medinas brings the taste of Puerto Rico to Northern Colorado—no plane ticket required.
URL:https://oldcoloradobrewing.com/event/dos-medinas-3/2026-07-24/
LOCATION:Old Colorado Brewing Company\, 3700 Cleveland Avenue\, Wellington\, Colorado\, 80549\, United States
CATEGORIES:Food Trucks
ATTACH;FMTTYPE=image/jpeg:https://oldcoloradobrewing.com/wp-content/uploads/2025/09/Dos-Medinas-Logo.jpg
END:VEVENT
BEGIN:VEVENT
DTSTART;TZID=America/Denver:20260725T163000
DTEND;TZID=America/Denver:20260725T210000
DTSTAMP:20260425T212559
CREATED:20260422T040626Z
LAST-MODIFIED:20260422T040626Z
UID:10001076-1784997000-1785013200@oldcoloradobrewing.com
SUMMARY:What The Cluck
DESCRIPTION:What The Cluck is serving up crispy\, golden fried chicken with a twist — paired perfectly with fluffy waffles for the ultimate comfort combo. This food truck keeps it fun\, flavorful\, and downright craveable\, whether you’re a fan of sweet\, savory\, or both. It’s comfort food that clucks all the boxes.
URL:https://oldcoloradobrewing.com/event/what-the-cluck/2026-07-25/
LOCATION:Old Colorado Brewing Company\, 3700 Cleveland Avenue\, Wellington\, Colorado\, 80549\, United States
CATEGORIES:Food Trucks
ATTACH;FMTTYPE=image/jpeg:https://oldcoloradobrewing.com/wp-content/uploads/2025/08/what-the-cluck.jpg
END:VEVENT
BEGIN:VEVENT
DTSTART;TZID=America/Denver:20260730T113000
DTEND;TZID=America/Denver:20260730T190000
DTSTAMP:20260425T212559
CREATED:20250708T200034Z
LAST-MODIFIED:20250815T210807Z
UID:10000062-1785411000-1785438000@oldcoloradobrewing.com
SUMMARY:Double Dubs Wings
DESCRIPTION:
URL:https://oldcoloradobrewing.com/event/double-dubs-wings/2026-07-30/
LOCATION:Old Colorado Brewing Company\, 3700 Cleveland Avenue\, Wellington\, Colorado\, 80549\, United States
CATEGORIES:Food Trucks
ATTACH;FMTTYPE=image/jpeg:https://oldcoloradobrewing.com/wp-content/uploads/2025/07/dubs.jpg
ORGANIZER;CN="Old Colorado Brewing Company":MAILTO:info@oldcoloradobrewing.com
END:VEVENT
BEGIN:VEVENT
DTSTART;TZID=America/Denver:20260801T163000
DTEND;TZID=America/Denver:20260801T210000
DTSTAMP:20260425T212559
CREATED:20260422T040626Z
LAST-MODIFIED:20260422T040626Z
UID:10001077-1785601800-1785618000@oldcoloradobrewing.com
SUMMARY:What The Cluck
DESCRIPTION:What The Cluck is serving up crispy\, golden fried chicken with a twist — paired perfectly with fluffy waffles for the ultimate comfort combo. This food truck keeps it fun\, flavorful\, and downright craveable\, whether you’re a fan of sweet\, savory\, or both. It’s comfort food that clucks all the boxes.
URL:https://oldcoloradobrewing.com/event/what-the-cluck/2026-08-01/
LOCATION:Old Colorado Brewing Company\, 3700 Cleveland Avenue\, Wellington\, Colorado\, 80549\, United States
CATEGORIES:Food Trucks
ATTACH;FMTTYPE=image/jpeg:https://oldcoloradobrewing.com/wp-content/uploads/2025/08/what-the-cluck.jpg
END:VEVENT
BEGIN:VEVENT
DTSTART;TZID=America/Denver:20260806T113000
DTEND;TZID=America/Denver:20260806T190000
DTSTAMP:20260425T212559
CREATED:20250708T200034Z
LAST-MODIFIED:20250815T210807Z
UID:10000063-1786015800-1786042800@oldcoloradobrewing.com
SUMMARY:Double Dubs Wings
DESCRIPTION:
URL:https://oldcoloradobrewing.com/event/double-dubs-wings/2026-08-06/
LOCATION:Old Colorado Brewing Company\, 3700 Cleveland Avenue\, Wellington\, Colorado\, 80549\, United States
CATEGORIES:Food Trucks
ATTACH;FMTTYPE=image/jpeg:https://oldcoloradobrewing.com/wp-content/uploads/2025/07/dubs.jpg
ORGANIZER;CN="Old Colorado Brewing Company":MAILTO:info@oldcoloradobrewing.com
END:VEVENT
BEGIN:VEVENT
DTSTART;TZID=America/Denver:20260807T160000
DTEND;TZID=America/Denver:20260807T200000
DTSTAMP:20260425T212559
CREATED:20250902T035620Z
LAST-MODIFIED:20260422T043413Z
UID:10001097-1786118400-1786132800@oldcoloradobrewing.com
SUMMARY:Dos Medinas
DESCRIPTION:Serving up bold island favorites and family recipes\, Dos Medinas brings the taste of Puerto Rico to Northern Colorado—no plane ticket required.
URL:https://oldcoloradobrewing.com/event/dos-medinas-3/2026-08-07/
LOCATION:Old Colorado Brewing Company\, 3700 Cleveland Avenue\, Wellington\, Colorado\, 80549\, United States
CATEGORIES:Food Trucks
ATTACH;FMTTYPE=image/jpeg:https://oldcoloradobrewing.com/wp-content/uploads/2025/09/Dos-Medinas-Logo.jpg
END:VEVENT
BEGIN:VEVENT
DTSTART;TZID=America/Denver:20260808T163000
DTEND;TZID=America/Denver:20260808T210000
DTSTAMP:20260425T212559
CREATED:20260422T040626Z
LAST-MODIFIED:20260422T040626Z
UID:10001078-1786206600-1786222800@oldcoloradobrewing.com
SUMMARY:What The Cluck
DESCRIPTION:What The Cluck is serving up crispy\, golden fried chicken with a twist — paired perfectly with fluffy waffles for the ultimate comfort combo. This food truck keeps it fun\, flavorful\, and downright craveable\, whether you’re a fan of sweet\, savory\, or both. It’s comfort food that clucks all the boxes.
URL:https://oldcoloradobrewing.com/event/what-the-cluck/2026-08-08/
LOCATION:Old Colorado Brewing Company\, 3700 Cleveland Avenue\, Wellington\, Colorado\, 80549\, United States
CATEGORIES:Food Trucks
ATTACH;FMTTYPE=image/jpeg:https://oldcoloradobrewing.com/wp-content/uploads/2025/08/what-the-cluck.jpg
END:VEVENT
BEGIN:VEVENT
DTSTART;TZID=America/Denver:20260813T113000
DTEND;TZID=America/Denver:20260813T190000
DTSTAMP:20260425T212559
CREATED:20250708T200034Z
LAST-MODIFIED:20250815T210807Z
UID:10000064-1786620600-1786647600@oldcoloradobrewing.com
SUMMARY:Double Dubs Wings
DESCRIPTION:
URL:https://oldcoloradobrewing.com/event/double-dubs-wings/2026-08-13/
LOCATION:Old Colorado Brewing Company\, 3700 Cleveland Avenue\, Wellington\, Colorado\, 80549\, United States
CATEGORIES:Food Trucks
ATTACH;FMTTYPE=image/jpeg:https://oldcoloradobrewing.com/wp-content/uploads/2025/07/dubs.jpg
ORGANIZER;CN="Old Colorado Brewing Company":MAILTO:info@oldcoloradobrewing.com
END:VEVENT
END:VCALENDAR