BEGIN:VCALENDAR
VERSION:2.0
PRODID:-//Old Colorado Brewing Company - ECPv6.15.20//NONSGML v1.0//EN
CALSCALE:GREGORIAN
METHOD:PUBLISH
X-WR-CALNAME:Old Colorado Brewing Company
X-ORIGINAL-URL:https://oldcoloradobrewing.com
X-WR-CALDESC:Events for Old Colorado Brewing Company
REFRESH-INTERVAL;VALUE=DURATION:PT1H
X-Robots-Tag:noindex
X-PUBLISHED-TTL:PT1H
BEGIN:VTIMEZONE
TZID:America/Denver
BEGIN:DAYLIGHT
TZOFFSETFROM:-0700
TZOFFSETTO:-0600
TZNAME:MDT
DTSTART:20250309T090000
END:DAYLIGHT
BEGIN:STANDARD
TZOFFSETFROM:-0600
TZOFFSETTO:-0700
TZNAME:MST
DTSTART:20251102T080000
END:STANDARD
BEGIN:DAYLIGHT
TZOFFSETFROM:-0700
TZOFFSETTO:-0600
TZNAME:MDT
DTSTART:20260308T090000
END:DAYLIGHT
BEGIN:STANDARD
TZOFFSETFROM:-0600
TZOFFSETTO:-0700
TZNAME:MST
DTSTART:20261101T080000
END:STANDARD
BEGIN:DAYLIGHT
TZOFFSETFROM:-0700
TZOFFSETTO:-0600
TZNAME:MDT
DTSTART:20270314T090000
END:DAYLIGHT
BEGIN:STANDARD
TZOFFSETFROM:-0600
TZOFFSETTO:-0700
TZNAME:MST
DTSTART:20271107T080000
END:STANDARD
BEGIN:DAYLIGHT
TZOFFSETFROM:-0700
TZOFFSETTO:-0600
TZNAME:MDT
DTSTART:20280312T090000
END:DAYLIGHT
BEGIN:STANDARD
TZOFFSETFROM:-0600
TZOFFSETTO:-0700
TZNAME:MST
DTSTART:20281105T080000
END:STANDARD
BEGIN:DAYLIGHT
TZOFFSETFROM:-0700
TZOFFSETTO:-0600
TZNAME:MDT
DTSTART:20290311T090000
END:DAYLIGHT
BEGIN:STANDARD
TZOFFSETFROM:-0600
TZOFFSETTO:-0700
TZNAME:MST
DTSTART:20291104T080000
END:STANDARD
END:VTIMEZONE
BEGIN:VEVENT
DTSTART;TZID=America/Denver:20260503T120000
DTEND;TZID=America/Denver:20260503T140000
DTSTAMP:20260425T171524
CREATED:20250708T203300Z
LAST-MODIFIED:20250731T225255Z
UID:10000666-1777809600-1777816800@oldcoloradobrewing.com
SUMMARY:Sip & Swap
DESCRIPTION:
URL:https://oldcoloradobrewing.com/event/sip-swap/2026-05-03/
LOCATION:Old Colorado Brewing Company\, 3700 Cleveland Avenue\, Wellington\, Colorado\, 80549\, United States
CATEGORIES:Plants
ATTACH;FMTTYPE=image/jpeg:https://oldcoloradobrewing.com/wp-content/uploads/2025/07/Sip-and-Swap.jpg
ORGANIZER;CN="Old Colorado Brewing Company":MAILTO:info@oldcoloradobrewing.com
END:VEVENT
BEGIN:VEVENT
DTSTART;TZID=America/Denver:20260607T120000
DTEND;TZID=America/Denver:20260607T140000
DTSTAMP:20260425T171524
CREATED:20250708T203300Z
LAST-MODIFIED:20250731T225255Z
UID:10000667-1780833600-1780840800@oldcoloradobrewing.com
SUMMARY:Sip & Swap
DESCRIPTION:
URL:https://oldcoloradobrewing.com/event/sip-swap/2026-06-07/
LOCATION:Old Colorado Brewing Company\, 3700 Cleveland Avenue\, Wellington\, Colorado\, 80549\, United States
CATEGORIES:Plants
ATTACH;FMTTYPE=image/jpeg:https://oldcoloradobrewing.com/wp-content/uploads/2025/07/Sip-and-Swap.jpg
ORGANIZER;CN="Old Colorado Brewing Company":MAILTO:info@oldcoloradobrewing.com
END:VEVENT
BEGIN:VEVENT
DTSTART;TZID=America/Denver:20260705T120000
DTEND;TZID=America/Denver:20260705T140000
DTSTAMP:20260425T171524
CREATED:20250708T203300Z
LAST-MODIFIED:20250731T225255Z
UID:10000668-1783252800-1783260000@oldcoloradobrewing.com
SUMMARY:Sip & Swap
DESCRIPTION:
URL:https://oldcoloradobrewing.com/event/sip-swap/2026-07-05/
LOCATION:Old Colorado Brewing Company\, 3700 Cleveland Avenue\, Wellington\, Colorado\, 80549\, United States
CATEGORIES:Plants
ATTACH;FMTTYPE=image/jpeg:https://oldcoloradobrewing.com/wp-content/uploads/2025/07/Sip-and-Swap.jpg
ORGANIZER;CN="Old Colorado Brewing Company":MAILTO:info@oldcoloradobrewing.com
END:VEVENT
BEGIN:VEVENT
DTSTART;TZID=America/Denver:20260802T120000
DTEND;TZID=America/Denver:20260802T140000
DTSTAMP:20260425T171524
CREATED:20250708T203300Z
LAST-MODIFIED:20250731T225255Z
UID:10000669-1785672000-1785679200@oldcoloradobrewing.com
SUMMARY:Sip & Swap
DESCRIPTION:
URL:https://oldcoloradobrewing.com/event/sip-swap/2026-08-02/
LOCATION:Old Colorado Brewing Company\, 3700 Cleveland Avenue\, Wellington\, Colorado\, 80549\, United States
CATEGORIES:Plants
ATTACH;FMTTYPE=image/jpeg:https://oldcoloradobrewing.com/wp-content/uploads/2025/07/Sip-and-Swap.jpg
ORGANIZER;CN="Old Colorado Brewing Company":MAILTO:info@oldcoloradobrewing.com
END:VEVENT
BEGIN:VEVENT
DTSTART;TZID=America/Denver:20260906T120000
DTEND;TZID=America/Denver:20260906T140000
DTSTAMP:20260425T171524
CREATED:20250708T203300Z
LAST-MODIFIED:20250731T225255Z
UID:10000670-1788696000-1788703200@oldcoloradobrewing.com
SUMMARY:Sip & Swap
DESCRIPTION:
URL:https://oldcoloradobrewing.com/event/sip-swap/2026-09-06/
LOCATION:Old Colorado Brewing Company\, 3700 Cleveland Avenue\, Wellington\, Colorado\, 80549\, United States
CATEGORIES:Plants
ATTACH;FMTTYPE=image/jpeg:https://oldcoloradobrewing.com/wp-content/uploads/2025/07/Sip-and-Swap.jpg
ORGANIZER;CN="Old Colorado Brewing Company":MAILTO:info@oldcoloradobrewing.com
END:VEVENT
BEGIN:VEVENT
DTSTART;TZID=America/Denver:20261004T120000
DTEND;TZID=America/Denver:20261004T140000
DTSTAMP:20260425T171524
CREATED:20250708T203300Z
LAST-MODIFIED:20250731T225255Z
UID:10000671-1791115200-1791122400@oldcoloradobrewing.com
SUMMARY:Sip & Swap
DESCRIPTION:
URL:https://oldcoloradobrewing.com/event/sip-swap/2026-10-04/
LOCATION:Old Colorado Brewing Company\, 3700 Cleveland Avenue\, Wellington\, Colorado\, 80549\, United States
CATEGORIES:Plants
ATTACH;FMTTYPE=image/jpeg:https://oldcoloradobrewing.com/wp-content/uploads/2025/07/Sip-and-Swap.jpg
ORGANIZER;CN="Old Colorado Brewing Company":MAILTO:info@oldcoloradobrewing.com
END:VEVENT
BEGIN:VEVENT
DTSTART;TZID=America/Denver:20261101T120000
DTEND;TZID=America/Denver:20261101T140000
DTSTAMP:20260425T171524
CREATED:20250708T203300Z
LAST-MODIFIED:20250731T225255Z
UID:10000672-1793534400-1793541600@oldcoloradobrewing.com
SUMMARY:Sip & Swap
DESCRIPTION:
URL:https://oldcoloradobrewing.com/event/sip-swap/2026-11-01/
LOCATION:Old Colorado Brewing Company\, 3700 Cleveland Avenue\, Wellington\, Colorado\, 80549\, United States
CATEGORIES:Plants
ATTACH;FMTTYPE=image/jpeg:https://oldcoloradobrewing.com/wp-content/uploads/2025/07/Sip-and-Swap.jpg
ORGANIZER;CN="Old Colorado Brewing Company":MAILTO:info@oldcoloradobrewing.com
END:VEVENT
BEGIN:VEVENT
DTSTART;TZID=America/Denver:20261206T120000
DTEND;TZID=America/Denver:20261206T140000
DTSTAMP:20260425T171524
CREATED:20250708T203300Z
LAST-MODIFIED:20250731T225255Z
UID:10000673-1796558400-1796565600@oldcoloradobrewing.com
SUMMARY:Sip & Swap
DESCRIPTION:
URL:https://oldcoloradobrewing.com/event/sip-swap/2026-12-06/
LOCATION:Old Colorado Brewing Company\, 3700 Cleveland Avenue\, Wellington\, Colorado\, 80549\, United States
CATEGORIES:Plants
ATTACH;FMTTYPE=image/jpeg:https://oldcoloradobrewing.com/wp-content/uploads/2025/07/Sip-and-Swap.jpg
ORGANIZER;CN="Old Colorado Brewing Company":MAILTO:info@oldcoloradobrewing.com
END:VEVENT
BEGIN:VEVENT
DTSTART;TZID=America/Denver:20270103T120000
DTEND;TZID=America/Denver:20270103T140000
DTSTAMP:20260425T171524
CREATED:20250708T203300Z
LAST-MODIFIED:20250731T225255Z
UID:10000674-1798977600-1798984800@oldcoloradobrewing.com
SUMMARY:Sip & Swap
DESCRIPTION:
URL:https://oldcoloradobrewing.com/event/sip-swap/2027-01-03/
LOCATION:Old Colorado Brewing Company\, 3700 Cleveland Avenue\, Wellington\, Colorado\, 80549\, United States
CATEGORIES:Plants
ATTACH;FMTTYPE=image/jpeg:https://oldcoloradobrewing.com/wp-content/uploads/2025/07/Sip-and-Swap.jpg
ORGANIZER;CN="Old Colorado Brewing Company":MAILTO:info@oldcoloradobrewing.com
END:VEVENT
BEGIN:VEVENT
DTSTART;TZID=America/Denver:20270207T120000
DTEND;TZID=America/Denver:20270207T140000
DTSTAMP:20260425T171524
CREATED:20250708T203300Z
LAST-MODIFIED:20250731T225255Z
UID:10000675-1802001600-1802008800@oldcoloradobrewing.com
SUMMARY:Sip & Swap
DESCRIPTION:
URL:https://oldcoloradobrewing.com/event/sip-swap/2027-02-07/
LOCATION:Old Colorado Brewing Company\, 3700 Cleveland Avenue\, Wellington\, Colorado\, 80549\, United States
CATEGORIES:Plants
ATTACH;FMTTYPE=image/jpeg:https://oldcoloradobrewing.com/wp-content/uploads/2025/07/Sip-and-Swap.jpg
ORGANIZER;CN="Old Colorado Brewing Company":MAILTO:info@oldcoloradobrewing.com
END:VEVENT
BEGIN:VEVENT
DTSTART;TZID=America/Denver:20270307T120000
DTEND;TZID=America/Denver:20270307T140000
DTSTAMP:20260425T171524
CREATED:20250708T203300Z
LAST-MODIFIED:20250731T225255Z
UID:10000676-1804420800-1804428000@oldcoloradobrewing.com
SUMMARY:Sip & Swap
DESCRIPTION:
URL:https://oldcoloradobrewing.com/event/sip-swap/2027-03-07/
LOCATION:Old Colorado Brewing Company\, 3700 Cleveland Avenue\, Wellington\, Colorado\, 80549\, United States
CATEGORIES:Plants
ATTACH;FMTTYPE=image/jpeg:https://oldcoloradobrewing.com/wp-content/uploads/2025/07/Sip-and-Swap.jpg
ORGANIZER;CN="Old Colorado Brewing Company":MAILTO:info@oldcoloradobrewing.com
END:VEVENT
BEGIN:VEVENT
DTSTART;TZID=America/Denver:20270404T120000
DTEND;TZID=America/Denver:20270404T140000
DTSTAMP:20260425T171524
CREATED:20250708T203300Z
LAST-MODIFIED:20250731T225255Z
UID:10000677-1806840000-1806847200@oldcoloradobrewing.com
SUMMARY:Sip & Swap
DESCRIPTION:
URL:https://oldcoloradobrewing.com/event/sip-swap/2027-04-04/
LOCATION:Old Colorado Brewing Company\, 3700 Cleveland Avenue\, Wellington\, Colorado\, 80549\, United States
CATEGORIES:Plants
ATTACH;FMTTYPE=image/jpeg:https://oldcoloradobrewing.com/wp-content/uploads/2025/07/Sip-and-Swap.jpg
ORGANIZER;CN="Old Colorado Brewing Company":MAILTO:info@oldcoloradobrewing.com
END:VEVENT
BEGIN:VEVENT
DTSTART;TZID=America/Denver:20270502T120000
DTEND;TZID=America/Denver:20270502T140000
DTSTAMP:20260425T171524
CREATED:20250708T203300Z
LAST-MODIFIED:20250731T225255Z
UID:10000678-1809259200-1809266400@oldcoloradobrewing.com
SUMMARY:Sip & Swap
DESCRIPTION:
URL:https://oldcoloradobrewing.com/event/sip-swap/2027-05-02/
LOCATION:Old Colorado Brewing Company\, 3700 Cleveland Avenue\, Wellington\, Colorado\, 80549\, United States
CATEGORIES:Plants
ATTACH;FMTTYPE=image/jpeg:https://oldcoloradobrewing.com/wp-content/uploads/2025/07/Sip-and-Swap.jpg
ORGANIZER;CN="Old Colorado Brewing Company":MAILTO:info@oldcoloradobrewing.com
END:VEVENT
BEGIN:VEVENT
DTSTART;TZID=America/Denver:20270606T120000
DTEND;TZID=America/Denver:20270606T140000
DTSTAMP:20260425T171524
CREATED:20250708T203300Z
LAST-MODIFIED:20250731T225255Z
UID:10000679-1812283200-1812290400@oldcoloradobrewing.com
SUMMARY:Sip & Swap
DESCRIPTION:
URL:https://oldcoloradobrewing.com/event/sip-swap/2027-06-06/
LOCATION:Old Colorado Brewing Company\, 3700 Cleveland Avenue\, Wellington\, Colorado\, 80549\, United States
CATEGORIES:Plants
ATTACH;FMTTYPE=image/jpeg:https://oldcoloradobrewing.com/wp-content/uploads/2025/07/Sip-and-Swap.jpg
ORGANIZER;CN="Old Colorado Brewing Company":MAILTO:info@oldcoloradobrewing.com
END:VEVENT
BEGIN:VEVENT
DTSTART;TZID=America/Denver:20270704T120000
DTEND;TZID=America/Denver:20270704T140000
DTSTAMP:20260425T171524
CREATED:20250708T203300Z
LAST-MODIFIED:20250731T225255Z
UID:10000680-1814702400-1814709600@oldcoloradobrewing.com
SUMMARY:Sip & Swap
DESCRIPTION:
URL:https://oldcoloradobrewing.com/event/sip-swap/2027-07-04/
LOCATION:Old Colorado Brewing Company\, 3700 Cleveland Avenue\, Wellington\, Colorado\, 80549\, United States
CATEGORIES:Plants
ATTACH;FMTTYPE=image/jpeg:https://oldcoloradobrewing.com/wp-content/uploads/2025/07/Sip-and-Swap.jpg
ORGANIZER;CN="Old Colorado Brewing Company":MAILTO:info@oldcoloradobrewing.com
END:VEVENT
BEGIN:VEVENT
DTSTART;TZID=America/Denver:20270801T120000
DTEND;TZID=America/Denver:20270801T140000
DTSTAMP:20260425T171524
CREATED:20250708T203300Z
LAST-MODIFIED:20250731T225255Z
UID:10000681-1817121600-1817128800@oldcoloradobrewing.com
SUMMARY:Sip & Swap
DESCRIPTION:
URL:https://oldcoloradobrewing.com/event/sip-swap/2027-08-01/
LOCATION:Old Colorado Brewing Company\, 3700 Cleveland Avenue\, Wellington\, Colorado\, 80549\, United States
CATEGORIES:Plants
ATTACH;FMTTYPE=image/jpeg:https://oldcoloradobrewing.com/wp-content/uploads/2025/07/Sip-and-Swap.jpg
ORGANIZER;CN="Old Colorado Brewing Company":MAILTO:info@oldcoloradobrewing.com
END:VEVENT
BEGIN:VEVENT
DTSTART;TZID=America/Denver:20270905T120000
DTEND;TZID=America/Denver:20270905T140000
DTSTAMP:20260425T171524
CREATED:20250708T203300Z
LAST-MODIFIED:20250731T225255Z
UID:10000682-1820145600-1820152800@oldcoloradobrewing.com
SUMMARY:Sip & Swap
DESCRIPTION:
URL:https://oldcoloradobrewing.com/event/sip-swap/2027-09-05/
LOCATION:Old Colorado Brewing Company\, 3700 Cleveland Avenue\, Wellington\, Colorado\, 80549\, United States
CATEGORIES:Plants
ATTACH;FMTTYPE=image/jpeg:https://oldcoloradobrewing.com/wp-content/uploads/2025/07/Sip-and-Swap.jpg
ORGANIZER;CN="Old Colorado Brewing Company":MAILTO:info@oldcoloradobrewing.com
END:VEVENT
BEGIN:VEVENT
DTSTART;TZID=America/Denver:20271003T120000
DTEND;TZID=America/Denver:20271003T140000
DTSTAMP:20260425T171524
CREATED:20250708T203300Z
LAST-MODIFIED:20250731T225255Z
UID:10000683-1822564800-1822572000@oldcoloradobrewing.com
SUMMARY:Sip & Swap
DESCRIPTION:
URL:https://oldcoloradobrewing.com/event/sip-swap/2027-10-03/
LOCATION:Old Colorado Brewing Company\, 3700 Cleveland Avenue\, Wellington\, Colorado\, 80549\, United States
CATEGORIES:Plants
ATTACH;FMTTYPE=image/jpeg:https://oldcoloradobrewing.com/wp-content/uploads/2025/07/Sip-and-Swap.jpg
ORGANIZER;CN="Old Colorado Brewing Company":MAILTO:info@oldcoloradobrewing.com
END:VEVENT
BEGIN:VEVENT
DTSTART;TZID=America/Denver:20271107T120000
DTEND;TZID=America/Denver:20271107T140000
DTSTAMP:20260425T171524
CREATED:20250708T203300Z
LAST-MODIFIED:20250731T225255Z
UID:10000684-1825588800-1825596000@oldcoloradobrewing.com
SUMMARY:Sip & Swap
DESCRIPTION:
URL:https://oldcoloradobrewing.com/event/sip-swap/2027-11-07/
LOCATION:Old Colorado Brewing Company\, 3700 Cleveland Avenue\, Wellington\, Colorado\, 80549\, United States
CATEGORIES:Plants
ATTACH;FMTTYPE=image/jpeg:https://oldcoloradobrewing.com/wp-content/uploads/2025/07/Sip-and-Swap.jpg
ORGANIZER;CN="Old Colorado Brewing Company":MAILTO:info@oldcoloradobrewing.com
END:VEVENT
BEGIN:VEVENT
DTSTART;TZID=America/Denver:20271205T120000
DTEND;TZID=America/Denver:20271205T140000
DTSTAMP:20260425T171524
CREATED:20250708T203300Z
LAST-MODIFIED:20250731T225255Z
UID:10000685-1828008000-1828015200@oldcoloradobrewing.com
SUMMARY:Sip & Swap
DESCRIPTION:
URL:https://oldcoloradobrewing.com/event/sip-swap/2027-12-05/
LOCATION:Old Colorado Brewing Company\, 3700 Cleveland Avenue\, Wellington\, Colorado\, 80549\, United States
CATEGORIES:Plants
ATTACH;FMTTYPE=image/jpeg:https://oldcoloradobrewing.com/wp-content/uploads/2025/07/Sip-and-Swap.jpg
ORGANIZER;CN="Old Colorado Brewing Company":MAILTO:info@oldcoloradobrewing.com
END:VEVENT
BEGIN:VEVENT
DTSTART;TZID=America/Denver:20280102T120000
DTEND;TZID=America/Denver:20280102T140000
DTSTAMP:20260425T171524
CREATED:20250708T203300Z
LAST-MODIFIED:20250731T225255Z
UID:10000686-1830427200-1830434400@oldcoloradobrewing.com
SUMMARY:Sip & Swap
DESCRIPTION:
URL:https://oldcoloradobrewing.com/event/sip-swap/2028-01-02/
LOCATION:Old Colorado Brewing Company\, 3700 Cleveland Avenue\, Wellington\, Colorado\, 80549\, United States
CATEGORIES:Plants
ATTACH;FMTTYPE=image/jpeg:https://oldcoloradobrewing.com/wp-content/uploads/2025/07/Sip-and-Swap.jpg
ORGANIZER;CN="Old Colorado Brewing Company":MAILTO:info@oldcoloradobrewing.com
END:VEVENT
BEGIN:VEVENT
DTSTART;TZID=America/Denver:20280206T120000
DTEND;TZID=America/Denver:20280206T140000
DTSTAMP:20260425T171524
CREATED:20250708T203300Z
LAST-MODIFIED:20250731T225255Z
UID:10000687-1833451200-1833458400@oldcoloradobrewing.com
SUMMARY:Sip & Swap
DESCRIPTION:
URL:https://oldcoloradobrewing.com/event/sip-swap/2028-02-06/
LOCATION:Old Colorado Brewing Company\, 3700 Cleveland Avenue\, Wellington\, Colorado\, 80549\, United States
CATEGORIES:Plants
ATTACH;FMTTYPE=image/jpeg:https://oldcoloradobrewing.com/wp-content/uploads/2025/07/Sip-and-Swap.jpg
ORGANIZER;CN="Old Colorado Brewing Company":MAILTO:info@oldcoloradobrewing.com
END:VEVENT
BEGIN:VEVENT
DTSTART;TZID=America/Denver:20280305T120000
DTEND;TZID=America/Denver:20280305T140000
DTSTAMP:20260425T171524
CREATED:20250708T203300Z
LAST-MODIFIED:20250731T225255Z
UID:10000688-1835870400-1835877600@oldcoloradobrewing.com
SUMMARY:Sip & Swap
DESCRIPTION:
URL:https://oldcoloradobrewing.com/event/sip-swap/2028-03-05/
LOCATION:Old Colorado Brewing Company\, 3700 Cleveland Avenue\, Wellington\, Colorado\, 80549\, United States
CATEGORIES:Plants
ATTACH;FMTTYPE=image/jpeg:https://oldcoloradobrewing.com/wp-content/uploads/2025/07/Sip-and-Swap.jpg
ORGANIZER;CN="Old Colorado Brewing Company":MAILTO:info@oldcoloradobrewing.com
END:VEVENT
BEGIN:VEVENT
DTSTART;TZID=America/Denver:20280402T120000
DTEND;TZID=America/Denver:20280402T140000
DTSTAMP:20260425T171524
CREATED:20250708T203300Z
LAST-MODIFIED:20250731T225255Z
UID:10000689-1838289600-1838296800@oldcoloradobrewing.com
SUMMARY:Sip & Swap
DESCRIPTION:
URL:https://oldcoloradobrewing.com/event/sip-swap/2028-04-02/
LOCATION:Old Colorado Brewing Company\, 3700 Cleveland Avenue\, Wellington\, Colorado\, 80549\, United States
CATEGORIES:Plants
ATTACH;FMTTYPE=image/jpeg:https://oldcoloradobrewing.com/wp-content/uploads/2025/07/Sip-and-Swap.jpg
ORGANIZER;CN="Old Colorado Brewing Company":MAILTO:info@oldcoloradobrewing.com
END:VEVENT
BEGIN:VEVENT
DTSTART;TZID=America/Denver:20280507T120000
DTEND;TZID=America/Denver:20280507T140000
DTSTAMP:20260425T171524
CREATED:20250708T203300Z
LAST-MODIFIED:20250731T225255Z
UID:10000690-1841313600-1841320800@oldcoloradobrewing.com
SUMMARY:Sip & Swap
DESCRIPTION:
URL:https://oldcoloradobrewing.com/event/sip-swap/2028-05-07/
LOCATION:Old Colorado Brewing Company\, 3700 Cleveland Avenue\, Wellington\, Colorado\, 80549\, United States
CATEGORIES:Plants
ATTACH;FMTTYPE=image/jpeg:https://oldcoloradobrewing.com/wp-content/uploads/2025/07/Sip-and-Swap.jpg
ORGANIZER;CN="Old Colorado Brewing Company":MAILTO:info@oldcoloradobrewing.com
END:VEVENT
BEGIN:VEVENT
DTSTART;TZID=America/Denver:20280604T120000
DTEND;TZID=America/Denver:20280604T140000
DTSTAMP:20260425T171524
CREATED:20250708T203300Z
LAST-MODIFIED:20250731T225255Z
UID:10000691-1843732800-1843740000@oldcoloradobrewing.com
SUMMARY:Sip & Swap
DESCRIPTION:
URL:https://oldcoloradobrewing.com/event/sip-swap/2028-06-04/
LOCATION:Old Colorado Brewing Company\, 3700 Cleveland Avenue\, Wellington\, Colorado\, 80549\, United States
CATEGORIES:Plants
ATTACH;FMTTYPE=image/jpeg:https://oldcoloradobrewing.com/wp-content/uploads/2025/07/Sip-and-Swap.jpg
ORGANIZER;CN="Old Colorado Brewing Company":MAILTO:info@oldcoloradobrewing.com
END:VEVENT
BEGIN:VEVENT
DTSTART;TZID=America/Denver:20280702T120000
DTEND;TZID=America/Denver:20280702T140000
DTSTAMP:20260425T171524
CREATED:20250708T203300Z
LAST-MODIFIED:20250731T225255Z
UID:10000692-1846152000-1846159200@oldcoloradobrewing.com
SUMMARY:Sip & Swap
DESCRIPTION:
URL:https://oldcoloradobrewing.com/event/sip-swap/2028-07-02/
LOCATION:Old Colorado Brewing Company\, 3700 Cleveland Avenue\, Wellington\, Colorado\, 80549\, United States
CATEGORIES:Plants
ATTACH;FMTTYPE=image/jpeg:https://oldcoloradobrewing.com/wp-content/uploads/2025/07/Sip-and-Swap.jpg
ORGANIZER;CN="Old Colorado Brewing Company":MAILTO:info@oldcoloradobrewing.com
END:VEVENT
BEGIN:VEVENT
DTSTART;TZID=America/Denver:20280806T120000
DTEND;TZID=America/Denver:20280806T140000
DTSTAMP:20260425T171524
CREATED:20250708T203300Z
LAST-MODIFIED:20250731T225255Z
UID:10000693-1849176000-1849183200@oldcoloradobrewing.com
SUMMARY:Sip & Swap
DESCRIPTION:
URL:https://oldcoloradobrewing.com/event/sip-swap/2028-08-06/
LOCATION:Old Colorado Brewing Company\, 3700 Cleveland Avenue\, Wellington\, Colorado\, 80549\, United States
CATEGORIES:Plants
ATTACH;FMTTYPE=image/jpeg:https://oldcoloradobrewing.com/wp-content/uploads/2025/07/Sip-and-Swap.jpg
ORGANIZER;CN="Old Colorado Brewing Company":MAILTO:info@oldcoloradobrewing.com
END:VEVENT
BEGIN:VEVENT
DTSTART;TZID=America/Denver:20280903T120000
DTEND;TZID=America/Denver:20280903T140000
DTSTAMP:20260425T171524
CREATED:20250708T203300Z
LAST-MODIFIED:20250731T225255Z
UID:10000694-1851595200-1851602400@oldcoloradobrewing.com
SUMMARY:Sip & Swap
DESCRIPTION:
URL:https://oldcoloradobrewing.com/event/sip-swap/2028-09-03/
LOCATION:Old Colorado Brewing Company\, 3700 Cleveland Avenue\, Wellington\, Colorado\, 80549\, United States
CATEGORIES:Plants
ATTACH;FMTTYPE=image/jpeg:https://oldcoloradobrewing.com/wp-content/uploads/2025/07/Sip-and-Swap.jpg
ORGANIZER;CN="Old Colorado Brewing Company":MAILTO:info@oldcoloradobrewing.com
END:VEVENT
BEGIN:VEVENT
DTSTART;TZID=America/Denver:20281001T120000
DTEND;TZID=America/Denver:20281001T140000
DTSTAMP:20260425T171524
CREATED:20250708T203300Z
LAST-MODIFIED:20250731T225255Z
UID:10000695-1854014400-1854021600@oldcoloradobrewing.com
SUMMARY:Sip & Swap
DESCRIPTION:
URL:https://oldcoloradobrewing.com/event/sip-swap/2028-10-01/
LOCATION:Old Colorado Brewing Company\, 3700 Cleveland Avenue\, Wellington\, Colorado\, 80549\, United States
CATEGORIES:Plants
ATTACH;FMTTYPE=image/jpeg:https://oldcoloradobrewing.com/wp-content/uploads/2025/07/Sip-and-Swap.jpg
ORGANIZER;CN="Old Colorado Brewing Company":MAILTO:info@oldcoloradobrewing.com
END:VEVENT
END:VCALENDAR