BEGIN:VCALENDAR
VERSION:2.0
PRODID:-//Old Colorado Brewing Company - ECPv6.15.20//NONSGML v1.0//EN
CALSCALE:GREGORIAN
METHOD:PUBLISH
X-WR-CALNAME:Old Colorado Brewing Company
X-ORIGINAL-URL:https://oldcoloradobrewing.com
X-WR-CALDESC:Events for Old Colorado Brewing Company
REFRESH-INTERVAL;VALUE=DURATION:PT1H
X-Robots-Tag:noindex
X-PUBLISHED-TTL:PT1H
BEGIN:VTIMEZONE
TZID:America/Denver
BEGIN:DAYLIGHT
TZOFFSETFROM:-0700
TZOFFSETTO:-0600
TZNAME:MDT
DTSTART:20250309T090000
END:DAYLIGHT
BEGIN:STANDARD
TZOFFSETFROM:-0600
TZOFFSETTO:-0700
TZNAME:MST
DTSTART:20251102T080000
END:STANDARD
BEGIN:DAYLIGHT
TZOFFSETFROM:-0700
TZOFFSETTO:-0600
TZNAME:MDT
DTSTART:20260308T090000
END:DAYLIGHT
BEGIN:STANDARD
TZOFFSETFROM:-0600
TZOFFSETTO:-0700
TZNAME:MST
DTSTART:20261101T080000
END:STANDARD
BEGIN:DAYLIGHT
TZOFFSETFROM:-0700
TZOFFSETTO:-0600
TZNAME:MDT
DTSTART:20270314T090000
END:DAYLIGHT
BEGIN:STANDARD
TZOFFSETFROM:-0600
TZOFFSETTO:-0700
TZNAME:MST
DTSTART:20271107T080000
END:STANDARD
BEGIN:DAYLIGHT
TZOFFSETFROM:-0700
TZOFFSETTO:-0600
TZNAME:MDT
DTSTART:20280312T090000
END:DAYLIGHT
BEGIN:STANDARD
TZOFFSETFROM:-0600
TZOFFSETTO:-0700
TZNAME:MST
DTSTART:20281105T080000
END:STANDARD
END:VTIMEZONE
BEGIN:VEVENT
DTSTART;TZID=America/Denver:20261013T183000
DTEND;TZID=America/Denver:20261013T203000
DTSTAMP:20260425T193805
CREATED:20260217T012642Z
LAST-MODIFIED:20260217T012643Z
UID:10000336-1791916200-1791923400@oldcoloradobrewing.com
SUMMARY:Trivia Tuesdays
DESCRIPTION:
URL:https://oldcoloradobrewing.com/event/trivia-tuesdays-2/2026-10-13/
LOCATION:Old Colorado Brewing Company\, 3700 Cleveland Avenue\, Wellington\, Colorado\, 80549\, United States
CATEGORIES:Trivia
ATTACH;FMTTYPE=image/png:https://oldcoloradobrewing.com/wp-content/uploads/2025/07/OCB-Trivia-Tuesdays.png
ORGANIZER;CN="Old Colorado Brewing Company":MAILTO:info@oldcoloradobrewing.com
END:VEVENT
BEGIN:VEVENT
DTSTART;TZID=America/Denver:20261020T183000
DTEND;TZID=America/Denver:20261020T203000
DTSTAMP:20260425T193805
CREATED:20260217T012642Z
LAST-MODIFIED:20260217T012643Z
UID:10000337-1792521000-1792528200@oldcoloradobrewing.com
SUMMARY:Trivia Tuesdays
DESCRIPTION:
URL:https://oldcoloradobrewing.com/event/trivia-tuesdays-2/2026-10-20/
LOCATION:Old Colorado Brewing Company\, 3700 Cleveland Avenue\, Wellington\, Colorado\, 80549\, United States
CATEGORIES:Trivia
ATTACH;FMTTYPE=image/png:https://oldcoloradobrewing.com/wp-content/uploads/2025/07/OCB-Trivia-Tuesdays.png
ORGANIZER;CN="Old Colorado Brewing Company":MAILTO:info@oldcoloradobrewing.com
END:VEVENT
BEGIN:VEVENT
DTSTART;TZID=America/Denver:20261027T183000
DTEND;TZID=America/Denver:20261027T203000
DTSTAMP:20260425T193805
CREATED:20260217T012642Z
LAST-MODIFIED:20260217T012643Z
UID:10000338-1793125800-1793133000@oldcoloradobrewing.com
SUMMARY:Trivia Tuesdays
DESCRIPTION:
URL:https://oldcoloradobrewing.com/event/trivia-tuesdays-2/2026-10-27/
LOCATION:Old Colorado Brewing Company\, 3700 Cleveland Avenue\, Wellington\, Colorado\, 80549\, United States
CATEGORIES:Trivia
ATTACH;FMTTYPE=image/png:https://oldcoloradobrewing.com/wp-content/uploads/2025/07/OCB-Trivia-Tuesdays.png
ORGANIZER;CN="Old Colorado Brewing Company":MAILTO:info@oldcoloradobrewing.com
END:VEVENT
BEGIN:VEVENT
DTSTART;TZID=America/Denver:20261103T183000
DTEND;TZID=America/Denver:20261103T203000
DTSTAMP:20260425T193805
CREATED:20260217T012642Z
LAST-MODIFIED:20260217T012643Z
UID:10000339-1793730600-1793737800@oldcoloradobrewing.com
SUMMARY:Trivia Tuesdays
DESCRIPTION:
URL:https://oldcoloradobrewing.com/event/trivia-tuesdays-2/2026-11-03/
LOCATION:Old Colorado Brewing Company\, 3700 Cleveland Avenue\, Wellington\, Colorado\, 80549\, United States
CATEGORIES:Trivia
ATTACH;FMTTYPE=image/png:https://oldcoloradobrewing.com/wp-content/uploads/2025/07/OCB-Trivia-Tuesdays.png
ORGANIZER;CN="Old Colorado Brewing Company":MAILTO:info@oldcoloradobrewing.com
END:VEVENT
BEGIN:VEVENT
DTSTART;TZID=America/Denver:20261110T183000
DTEND;TZID=America/Denver:20261110T203000
DTSTAMP:20260425T193805
CREATED:20260217T012642Z
LAST-MODIFIED:20260217T012643Z
UID:10000340-1794335400-1794342600@oldcoloradobrewing.com
SUMMARY:Trivia Tuesdays
DESCRIPTION:
URL:https://oldcoloradobrewing.com/event/trivia-tuesdays-2/2026-11-10/
LOCATION:Old Colorado Brewing Company\, 3700 Cleveland Avenue\, Wellington\, Colorado\, 80549\, United States
CATEGORIES:Trivia
ATTACH;FMTTYPE=image/png:https://oldcoloradobrewing.com/wp-content/uploads/2025/07/OCB-Trivia-Tuesdays.png
ORGANIZER;CN="Old Colorado Brewing Company":MAILTO:info@oldcoloradobrewing.com
END:VEVENT
BEGIN:VEVENT
DTSTART;TZID=America/Denver:20261117T183000
DTEND;TZID=America/Denver:20261117T203000
DTSTAMP:20260425T193805
CREATED:20260217T012642Z
LAST-MODIFIED:20260217T012643Z
UID:10000341-1794940200-1794947400@oldcoloradobrewing.com
SUMMARY:Trivia Tuesdays
DESCRIPTION:
URL:https://oldcoloradobrewing.com/event/trivia-tuesdays-2/2026-11-17/
LOCATION:Old Colorado Brewing Company\, 3700 Cleveland Avenue\, Wellington\, Colorado\, 80549\, United States
CATEGORIES:Trivia
ATTACH;FMTTYPE=image/png:https://oldcoloradobrewing.com/wp-content/uploads/2025/07/OCB-Trivia-Tuesdays.png
ORGANIZER;CN="Old Colorado Brewing Company":MAILTO:info@oldcoloradobrewing.com
END:VEVENT
BEGIN:VEVENT
DTSTART;TZID=America/Denver:20261124T183000
DTEND;TZID=America/Denver:20261124T203000
DTSTAMP:20260425T193805
CREATED:20260217T012642Z
LAST-MODIFIED:20260217T012643Z
UID:10000342-1795545000-1795552200@oldcoloradobrewing.com
SUMMARY:Trivia Tuesdays
DESCRIPTION:
URL:https://oldcoloradobrewing.com/event/trivia-tuesdays-2/2026-11-24/
LOCATION:Old Colorado Brewing Company\, 3700 Cleveland Avenue\, Wellington\, Colorado\, 80549\, United States
CATEGORIES:Trivia
ATTACH;FMTTYPE=image/png:https://oldcoloradobrewing.com/wp-content/uploads/2025/07/OCB-Trivia-Tuesdays.png
ORGANIZER;CN="Old Colorado Brewing Company":MAILTO:info@oldcoloradobrewing.com
END:VEVENT
BEGIN:VEVENT
DTSTART;TZID=America/Denver:20261201T183000
DTEND;TZID=America/Denver:20261201T203000
DTSTAMP:20260425T193805
CREATED:20260217T012642Z
LAST-MODIFIED:20260217T012643Z
UID:10000343-1796149800-1796157000@oldcoloradobrewing.com
SUMMARY:Trivia Tuesdays
DESCRIPTION:
URL:https://oldcoloradobrewing.com/event/trivia-tuesdays-2/2026-12-01/
LOCATION:Old Colorado Brewing Company\, 3700 Cleveland Avenue\, Wellington\, Colorado\, 80549\, United States
CATEGORIES:Trivia
ATTACH;FMTTYPE=image/png:https://oldcoloradobrewing.com/wp-content/uploads/2025/07/OCB-Trivia-Tuesdays.png
ORGANIZER;CN="Old Colorado Brewing Company":MAILTO:info@oldcoloradobrewing.com
END:VEVENT
BEGIN:VEVENT
DTSTART;TZID=America/Denver:20261208T183000
DTEND;TZID=America/Denver:20261208T203000
DTSTAMP:20260425T193805
CREATED:20260217T012642Z
LAST-MODIFIED:20260217T012643Z
UID:10000344-1796754600-1796761800@oldcoloradobrewing.com
SUMMARY:Trivia Tuesdays
DESCRIPTION:
URL:https://oldcoloradobrewing.com/event/trivia-tuesdays-2/2026-12-08/
LOCATION:Old Colorado Brewing Company\, 3700 Cleveland Avenue\, Wellington\, Colorado\, 80549\, United States
CATEGORIES:Trivia
ATTACH;FMTTYPE=image/png:https://oldcoloradobrewing.com/wp-content/uploads/2025/07/OCB-Trivia-Tuesdays.png
ORGANIZER;CN="Old Colorado Brewing Company":MAILTO:info@oldcoloradobrewing.com
END:VEVENT
BEGIN:VEVENT
DTSTART;TZID=America/Denver:20261215T183000
DTEND;TZID=America/Denver:20261215T203000
DTSTAMP:20260425T193805
CREATED:20260217T012642Z
LAST-MODIFIED:20260217T012643Z
UID:10000345-1797359400-1797366600@oldcoloradobrewing.com
SUMMARY:Trivia Tuesdays
DESCRIPTION:
URL:https://oldcoloradobrewing.com/event/trivia-tuesdays-2/2026-12-15/
LOCATION:Old Colorado Brewing Company\, 3700 Cleveland Avenue\, Wellington\, Colorado\, 80549\, United States
CATEGORIES:Trivia
ATTACH;FMTTYPE=image/png:https://oldcoloradobrewing.com/wp-content/uploads/2025/07/OCB-Trivia-Tuesdays.png
ORGANIZER;CN="Old Colorado Brewing Company":MAILTO:info@oldcoloradobrewing.com
END:VEVENT
BEGIN:VEVENT
DTSTART;TZID=America/Denver:20261222T183000
DTEND;TZID=America/Denver:20261222T203000
DTSTAMP:20260425T193805
CREATED:20260217T012642Z
LAST-MODIFIED:20260217T012643Z
UID:10000346-1797964200-1797971400@oldcoloradobrewing.com
SUMMARY:Trivia Tuesdays
DESCRIPTION:
URL:https://oldcoloradobrewing.com/event/trivia-tuesdays-2/2026-12-22/
LOCATION:Old Colorado Brewing Company\, 3700 Cleveland Avenue\, Wellington\, Colorado\, 80549\, United States
CATEGORIES:Trivia
ATTACH;FMTTYPE=image/png:https://oldcoloradobrewing.com/wp-content/uploads/2025/07/OCB-Trivia-Tuesdays.png
ORGANIZER;CN="Old Colorado Brewing Company":MAILTO:info@oldcoloradobrewing.com
END:VEVENT
BEGIN:VEVENT
DTSTART;TZID=America/Denver:20261229T183000
DTEND;TZID=America/Denver:20261229T203000
DTSTAMP:20260425T193805
CREATED:20260217T012642Z
LAST-MODIFIED:20260217T012643Z
UID:10000347-1798569000-1798576200@oldcoloradobrewing.com
SUMMARY:Trivia Tuesdays
DESCRIPTION:
URL:https://oldcoloradobrewing.com/event/trivia-tuesdays-2/2026-12-29/
LOCATION:Old Colorado Brewing Company\, 3700 Cleveland Avenue\, Wellington\, Colorado\, 80549\, United States
CATEGORIES:Trivia
ATTACH;FMTTYPE=image/png:https://oldcoloradobrewing.com/wp-content/uploads/2025/07/OCB-Trivia-Tuesdays.png
ORGANIZER;CN="Old Colorado Brewing Company":MAILTO:info@oldcoloradobrewing.com
END:VEVENT
BEGIN:VEVENT
DTSTART;TZID=America/Denver:20270105T183000
DTEND;TZID=America/Denver:20270105T203000
DTSTAMP:20260425T193805
CREATED:20260217T012642Z
LAST-MODIFIED:20260217T012643Z
UID:10000348-1799173800-1799181000@oldcoloradobrewing.com
SUMMARY:Trivia Tuesdays
DESCRIPTION:
URL:https://oldcoloradobrewing.com/event/trivia-tuesdays-2/2027-01-05/
LOCATION:Old Colorado Brewing Company\, 3700 Cleveland Avenue\, Wellington\, Colorado\, 80549\, United States
CATEGORIES:Trivia
ATTACH;FMTTYPE=image/png:https://oldcoloradobrewing.com/wp-content/uploads/2025/07/OCB-Trivia-Tuesdays.png
ORGANIZER;CN="Old Colorado Brewing Company":MAILTO:info@oldcoloradobrewing.com
END:VEVENT
BEGIN:VEVENT
DTSTART;TZID=America/Denver:20270112T183000
DTEND;TZID=America/Denver:20270112T203000
DTSTAMP:20260425T193805
CREATED:20260217T012642Z
LAST-MODIFIED:20260217T012643Z
UID:10000349-1799778600-1799785800@oldcoloradobrewing.com
SUMMARY:Trivia Tuesdays
DESCRIPTION:
URL:https://oldcoloradobrewing.com/event/trivia-tuesdays-2/2027-01-12/
LOCATION:Old Colorado Brewing Company\, 3700 Cleveland Avenue\, Wellington\, Colorado\, 80549\, United States
CATEGORIES:Trivia
ATTACH;FMTTYPE=image/png:https://oldcoloradobrewing.com/wp-content/uploads/2025/07/OCB-Trivia-Tuesdays.png
ORGANIZER;CN="Old Colorado Brewing Company":MAILTO:info@oldcoloradobrewing.com
END:VEVENT
BEGIN:VEVENT
DTSTART;TZID=America/Denver:20270119T183000
DTEND;TZID=America/Denver:20270119T203000
DTSTAMP:20260425T193805
CREATED:20260217T012642Z
LAST-MODIFIED:20260217T012643Z
UID:10000350-1800383400-1800390600@oldcoloradobrewing.com
SUMMARY:Trivia Tuesdays
DESCRIPTION:
URL:https://oldcoloradobrewing.com/event/trivia-tuesdays-2/2027-01-19/
LOCATION:Old Colorado Brewing Company\, 3700 Cleveland Avenue\, Wellington\, Colorado\, 80549\, United States
CATEGORIES:Trivia
ATTACH;FMTTYPE=image/png:https://oldcoloradobrewing.com/wp-content/uploads/2025/07/OCB-Trivia-Tuesdays.png
ORGANIZER;CN="Old Colorado Brewing Company":MAILTO:info@oldcoloradobrewing.com
END:VEVENT
BEGIN:VEVENT
DTSTART;TZID=America/Denver:20270126T183000
DTEND;TZID=America/Denver:20270126T203000
DTSTAMP:20260425T193805
CREATED:20260217T012642Z
LAST-MODIFIED:20260217T012643Z
UID:10000351-1800988200-1800995400@oldcoloradobrewing.com
SUMMARY:Trivia Tuesdays
DESCRIPTION:
URL:https://oldcoloradobrewing.com/event/trivia-tuesdays-2/2027-01-26/
LOCATION:Old Colorado Brewing Company\, 3700 Cleveland Avenue\, Wellington\, Colorado\, 80549\, United States
CATEGORIES:Trivia
ATTACH;FMTTYPE=image/png:https://oldcoloradobrewing.com/wp-content/uploads/2025/07/OCB-Trivia-Tuesdays.png
ORGANIZER;CN="Old Colorado Brewing Company":MAILTO:info@oldcoloradobrewing.com
END:VEVENT
BEGIN:VEVENT
DTSTART;TZID=America/Denver:20270202T183000
DTEND;TZID=America/Denver:20270202T203000
DTSTAMP:20260425T193805
CREATED:20260217T012642Z
LAST-MODIFIED:20260217T012643Z
UID:10000352-1801593000-1801600200@oldcoloradobrewing.com
SUMMARY:Trivia Tuesdays
DESCRIPTION:
URL:https://oldcoloradobrewing.com/event/trivia-tuesdays-2/2027-02-02/
LOCATION:Old Colorado Brewing Company\, 3700 Cleveland Avenue\, Wellington\, Colorado\, 80549\, United States
CATEGORIES:Trivia
ATTACH;FMTTYPE=image/png:https://oldcoloradobrewing.com/wp-content/uploads/2025/07/OCB-Trivia-Tuesdays.png
ORGANIZER;CN="Old Colorado Brewing Company":MAILTO:info@oldcoloradobrewing.com
END:VEVENT
BEGIN:VEVENT
DTSTART;TZID=America/Denver:20270209T183000
DTEND;TZID=America/Denver:20270209T203000
DTSTAMP:20260425T193805
CREATED:20260217T012642Z
LAST-MODIFIED:20260217T012643Z
UID:10000353-1802197800-1802205000@oldcoloradobrewing.com
SUMMARY:Trivia Tuesdays
DESCRIPTION:
URL:https://oldcoloradobrewing.com/event/trivia-tuesdays-2/2027-02-09/
LOCATION:Old Colorado Brewing Company\, 3700 Cleveland Avenue\, Wellington\, Colorado\, 80549\, United States
CATEGORIES:Trivia
ATTACH;FMTTYPE=image/png:https://oldcoloradobrewing.com/wp-content/uploads/2025/07/OCB-Trivia-Tuesdays.png
ORGANIZER;CN="Old Colorado Brewing Company":MAILTO:info@oldcoloradobrewing.com
END:VEVENT
BEGIN:VEVENT
DTSTART;TZID=America/Denver:20270216T183000
DTEND;TZID=America/Denver:20270216T203000
DTSTAMP:20260425T193805
CREATED:20260217T012642Z
LAST-MODIFIED:20260217T012643Z
UID:10000354-1802802600-1802809800@oldcoloradobrewing.com
SUMMARY:Trivia Tuesdays
DESCRIPTION:
URL:https://oldcoloradobrewing.com/event/trivia-tuesdays-2/2027-02-16/
LOCATION:Old Colorado Brewing Company\, 3700 Cleveland Avenue\, Wellington\, Colorado\, 80549\, United States
CATEGORIES:Trivia
ATTACH;FMTTYPE=image/png:https://oldcoloradobrewing.com/wp-content/uploads/2025/07/OCB-Trivia-Tuesdays.png
ORGANIZER;CN="Old Colorado Brewing Company":MAILTO:info@oldcoloradobrewing.com
END:VEVENT
BEGIN:VEVENT
DTSTART;TZID=America/Denver:20270223T183000
DTEND;TZID=America/Denver:20270223T203000
DTSTAMP:20260425T193805
CREATED:20260217T012642Z
LAST-MODIFIED:20260217T012643Z
UID:10000355-1803407400-1803414600@oldcoloradobrewing.com
SUMMARY:Trivia Tuesdays
DESCRIPTION:
URL:https://oldcoloradobrewing.com/event/trivia-tuesdays-2/2027-02-23/
LOCATION:Old Colorado Brewing Company\, 3700 Cleveland Avenue\, Wellington\, Colorado\, 80549\, United States
CATEGORIES:Trivia
ATTACH;FMTTYPE=image/png:https://oldcoloradobrewing.com/wp-content/uploads/2025/07/OCB-Trivia-Tuesdays.png
ORGANIZER;CN="Old Colorado Brewing Company":MAILTO:info@oldcoloradobrewing.com
END:VEVENT
BEGIN:VEVENT
DTSTART;TZID=America/Denver:20270302T183000
DTEND;TZID=America/Denver:20270302T203000
DTSTAMP:20260425T193805
CREATED:20260217T012642Z
LAST-MODIFIED:20260217T012643Z
UID:10000356-1804012200-1804019400@oldcoloradobrewing.com
SUMMARY:Trivia Tuesdays
DESCRIPTION:
URL:https://oldcoloradobrewing.com/event/trivia-tuesdays-2/2027-03-02/
LOCATION:Old Colorado Brewing Company\, 3700 Cleveland Avenue\, Wellington\, Colorado\, 80549\, United States
CATEGORIES:Trivia
ATTACH;FMTTYPE=image/png:https://oldcoloradobrewing.com/wp-content/uploads/2025/07/OCB-Trivia-Tuesdays.png
ORGANIZER;CN="Old Colorado Brewing Company":MAILTO:info@oldcoloradobrewing.com
END:VEVENT
BEGIN:VEVENT
DTSTART;TZID=America/Denver:20270309T183000
DTEND;TZID=America/Denver:20270309T203000
DTSTAMP:20260425T193805
CREATED:20260217T012642Z
LAST-MODIFIED:20260217T012643Z
UID:10000357-1804617000-1804624200@oldcoloradobrewing.com
SUMMARY:Trivia Tuesdays
DESCRIPTION:
URL:https://oldcoloradobrewing.com/event/trivia-tuesdays-2/2027-03-09/
LOCATION:Old Colorado Brewing Company\, 3700 Cleveland Avenue\, Wellington\, Colorado\, 80549\, United States
CATEGORIES:Trivia
ATTACH;FMTTYPE=image/png:https://oldcoloradobrewing.com/wp-content/uploads/2025/07/OCB-Trivia-Tuesdays.png
ORGANIZER;CN="Old Colorado Brewing Company":MAILTO:info@oldcoloradobrewing.com
END:VEVENT
BEGIN:VEVENT
DTSTART;TZID=America/Denver:20270316T183000
DTEND;TZID=America/Denver:20270316T203000
DTSTAMP:20260425T193805
CREATED:20260217T012642Z
LAST-MODIFIED:20260217T012643Z
UID:10000358-1805221800-1805229000@oldcoloradobrewing.com
SUMMARY:Trivia Tuesdays
DESCRIPTION:
URL:https://oldcoloradobrewing.com/event/trivia-tuesdays-2/2027-03-16/
LOCATION:Old Colorado Brewing Company\, 3700 Cleveland Avenue\, Wellington\, Colorado\, 80549\, United States
CATEGORIES:Trivia
ATTACH;FMTTYPE=image/png:https://oldcoloradobrewing.com/wp-content/uploads/2025/07/OCB-Trivia-Tuesdays.png
ORGANIZER;CN="Old Colorado Brewing Company":MAILTO:info@oldcoloradobrewing.com
END:VEVENT
BEGIN:VEVENT
DTSTART;TZID=America/Denver:20270323T183000
DTEND;TZID=America/Denver:20270323T203000
DTSTAMP:20260425T193805
CREATED:20260217T012642Z
LAST-MODIFIED:20260217T012643Z
UID:10000359-1805826600-1805833800@oldcoloradobrewing.com
SUMMARY:Trivia Tuesdays
DESCRIPTION:
URL:https://oldcoloradobrewing.com/event/trivia-tuesdays-2/2027-03-23/
LOCATION:Old Colorado Brewing Company\, 3700 Cleveland Avenue\, Wellington\, Colorado\, 80549\, United States
CATEGORIES:Trivia
ATTACH;FMTTYPE=image/png:https://oldcoloradobrewing.com/wp-content/uploads/2025/07/OCB-Trivia-Tuesdays.png
ORGANIZER;CN="Old Colorado Brewing Company":MAILTO:info@oldcoloradobrewing.com
END:VEVENT
BEGIN:VEVENT
DTSTART;TZID=America/Denver:20270330T183000
DTEND;TZID=America/Denver:20270330T203000
DTSTAMP:20260425T193805
CREATED:20260217T012642Z
LAST-MODIFIED:20260217T012643Z
UID:10000360-1806431400-1806438600@oldcoloradobrewing.com
SUMMARY:Trivia Tuesdays
DESCRIPTION:
URL:https://oldcoloradobrewing.com/event/trivia-tuesdays-2/2027-03-30/
LOCATION:Old Colorado Brewing Company\, 3700 Cleveland Avenue\, Wellington\, Colorado\, 80549\, United States
CATEGORIES:Trivia
ATTACH;FMTTYPE=image/png:https://oldcoloradobrewing.com/wp-content/uploads/2025/07/OCB-Trivia-Tuesdays.png
ORGANIZER;CN="Old Colorado Brewing Company":MAILTO:info@oldcoloradobrewing.com
END:VEVENT
BEGIN:VEVENT
DTSTART;TZID=America/Denver:20270406T183000
DTEND;TZID=America/Denver:20270406T203000
DTSTAMP:20260425T193805
CREATED:20260217T012642Z
LAST-MODIFIED:20260217T012643Z
UID:10000361-1807036200-1807043400@oldcoloradobrewing.com
SUMMARY:Trivia Tuesdays
DESCRIPTION:
URL:https://oldcoloradobrewing.com/event/trivia-tuesdays-2/2027-04-06/
LOCATION:Old Colorado Brewing Company\, 3700 Cleveland Avenue\, Wellington\, Colorado\, 80549\, United States
CATEGORIES:Trivia
ATTACH;FMTTYPE=image/png:https://oldcoloradobrewing.com/wp-content/uploads/2025/07/OCB-Trivia-Tuesdays.png
ORGANIZER;CN="Old Colorado Brewing Company":MAILTO:info@oldcoloradobrewing.com
END:VEVENT
BEGIN:VEVENT
DTSTART;TZID=America/Denver:20270413T183000
DTEND;TZID=America/Denver:20270413T203000
DTSTAMP:20260425T193805
CREATED:20260217T012642Z
LAST-MODIFIED:20260217T012643Z
UID:10000362-1807641000-1807648200@oldcoloradobrewing.com
SUMMARY:Trivia Tuesdays
DESCRIPTION:
URL:https://oldcoloradobrewing.com/event/trivia-tuesdays-2/2027-04-13/
LOCATION:Old Colorado Brewing Company\, 3700 Cleveland Avenue\, Wellington\, Colorado\, 80549\, United States
CATEGORIES:Trivia
ATTACH;FMTTYPE=image/png:https://oldcoloradobrewing.com/wp-content/uploads/2025/07/OCB-Trivia-Tuesdays.png
ORGANIZER;CN="Old Colorado Brewing Company":MAILTO:info@oldcoloradobrewing.com
END:VEVENT
BEGIN:VEVENT
DTSTART;TZID=America/Denver:20270420T183000
DTEND;TZID=America/Denver:20270420T203000
DTSTAMP:20260425T193805
CREATED:20260217T012642Z
LAST-MODIFIED:20260217T012643Z
UID:10000363-1808245800-1808253000@oldcoloradobrewing.com
SUMMARY:Trivia Tuesdays
DESCRIPTION:
URL:https://oldcoloradobrewing.com/event/trivia-tuesdays-2/2027-04-20/
LOCATION:Old Colorado Brewing Company\, 3700 Cleveland Avenue\, Wellington\, Colorado\, 80549\, United States
CATEGORIES:Trivia
ATTACH;FMTTYPE=image/png:https://oldcoloradobrewing.com/wp-content/uploads/2025/07/OCB-Trivia-Tuesdays.png
ORGANIZER;CN="Old Colorado Brewing Company":MAILTO:info@oldcoloradobrewing.com
END:VEVENT
BEGIN:VEVENT
DTSTART;TZID=America/Denver:20270427T183000
DTEND;TZID=America/Denver:20270427T203000
DTSTAMP:20260425T193805
CREATED:20260217T012642Z
LAST-MODIFIED:20260217T012643Z
UID:10000364-1808850600-1808857800@oldcoloradobrewing.com
SUMMARY:Trivia Tuesdays
DESCRIPTION:
URL:https://oldcoloradobrewing.com/event/trivia-tuesdays-2/2027-04-27/
LOCATION:Old Colorado Brewing Company\, 3700 Cleveland Avenue\, Wellington\, Colorado\, 80549\, United States
CATEGORIES:Trivia
ATTACH;FMTTYPE=image/png:https://oldcoloradobrewing.com/wp-content/uploads/2025/07/OCB-Trivia-Tuesdays.png
ORGANIZER;CN="Old Colorado Brewing Company":MAILTO:info@oldcoloradobrewing.com
END:VEVENT
BEGIN:VEVENT
DTSTART;TZID=America/Denver:20270504T183000
DTEND;TZID=America/Denver:20270504T203000
DTSTAMP:20260425T193805
CREATED:20260217T012642Z
LAST-MODIFIED:20260217T012643Z
UID:10000365-1809455400-1809462600@oldcoloradobrewing.com
SUMMARY:Trivia Tuesdays
DESCRIPTION:
URL:https://oldcoloradobrewing.com/event/trivia-tuesdays-2/2027-05-04/
LOCATION:Old Colorado Brewing Company\, 3700 Cleveland Avenue\, Wellington\, Colorado\, 80549\, United States
CATEGORIES:Trivia
ATTACH;FMTTYPE=image/png:https://oldcoloradobrewing.com/wp-content/uploads/2025/07/OCB-Trivia-Tuesdays.png
ORGANIZER;CN="Old Colorado Brewing Company":MAILTO:info@oldcoloradobrewing.com
END:VEVENT
END:VCALENDAR