BEGIN:VCALENDAR
VERSION:2.0
PRODID:-//Old Colorado Brewing Company - ECPv6.15.20//NONSGML v1.0//EN
CALSCALE:GREGORIAN
METHOD:PUBLISH
X-WR-CALNAME:Old Colorado Brewing Company
X-ORIGINAL-URL:https://oldcoloradobrewing.com
X-WR-CALDESC:Events for Old Colorado Brewing Company
REFRESH-INTERVAL;VALUE=DURATION:PT1H
X-Robots-Tag:noindex
X-PUBLISHED-TTL:PT1H
BEGIN:VTIMEZONE
TZID:America/Denver
BEGIN:DAYLIGHT
TZOFFSETFROM:-0700
TZOFFSETTO:-0600
TZNAME:MDT
DTSTART:20250309T090000
END:DAYLIGHT
BEGIN:STANDARD
TZOFFSETFROM:-0600
TZOFFSETTO:-0700
TZNAME:MST
DTSTART:20251102T080000
END:STANDARD
BEGIN:DAYLIGHT
TZOFFSETFROM:-0700
TZOFFSETTO:-0600
TZNAME:MDT
DTSTART:20260308T090000
END:DAYLIGHT
BEGIN:STANDARD
TZOFFSETFROM:-0600
TZOFFSETTO:-0700
TZNAME:MST
DTSTART:20261101T080000
END:STANDARD
BEGIN:DAYLIGHT
TZOFFSETFROM:-0700
TZOFFSETTO:-0600
TZNAME:MDT
DTSTART:20270314T090000
END:DAYLIGHT
BEGIN:STANDARD
TZOFFSETFROM:-0600
TZOFFSETTO:-0700
TZNAME:MST
DTSTART:20271107T080000
END:STANDARD
END:VTIMEZONE
BEGIN:VEVENT
DTSTART;TZID=America/Denver:20260425T160000
DTEND;TZID=America/Denver:20260425T200000
DTSTAMP:20260425T210246
CREATED:20250819T221400Z
LAST-MODIFIED:20260422T044206Z
UID:10001038-1777132800-1777147200@oldcoloradobrewing.com
SUMMARY:Fry It Riot
DESCRIPTION:
URL:https://oldcoloradobrewing.com/event/fry-it-riot-2/2026-04-25/
LOCATION:Old Colorado Brewing Company\, 3700 Cleveland Avenue\, Wellington\, Colorado\, 80549\, United States
CATEGORIES:Food Trucks
ATTACH;FMTTYPE=image/jpeg:https://oldcoloradobrewing.com/wp-content/uploads/2025/08/Fry-it-Riot-1.jpg
END:VEVENT
BEGIN:VEVENT
DTSTART;TZID=America/Denver:20260424T160000
DTEND;TZID=America/Denver:20260424T200000
DTSTAMP:20260425T210246
CREATED:20250818T192033Z
LAST-MODIFIED:20260423T015958Z
UID:10001056-1777046400-1777060800@oldcoloradobrewing.com
SUMMARY:Ranch Eats
DESCRIPTION:Ranch Eats is all about hearty\, rustic comfort food served up fresh from their food truck. Their rotating menu brings a little something for everyone — from savory mains to satisfying sides. Whether it’s a weekday pick-me-up or a weekend treat\, Ranch Eats is here to keep you full and happy while you enjoy a cold pint at OCB.
URL:https://oldcoloradobrewing.com/event/ranch-eats-3/2026-04-24/
LOCATION:Old Colorado Brewing Company\, 3700 Cleveland Avenue\, Wellington\, Colorado\, 80549\, United States
CATEGORIES:Food Trucks
ATTACH;FMTTYPE=image/jpeg:https://oldcoloradobrewing.com/wp-content/uploads/2025/08/ranch-eats-logo.jpg
END:VEVENT
BEGIN:VEVENT
DTSTART;TZID=America/Denver:20260423T113000
DTEND;TZID=America/Denver:20260423T190000
DTSTAMP:20260425T210246
CREATED:20250708T200034Z
LAST-MODIFIED:20250815T210807Z
UID:10000048-1776943800-1776970800@oldcoloradobrewing.com
SUMMARY:Double Dubs Wings
DESCRIPTION:
URL:https://oldcoloradobrewing.com/event/double-dubs-wings/2026-04-23/
LOCATION:Old Colorado Brewing Company\, 3700 Cleveland Avenue\, Wellington\, Colorado\, 80549\, United States
CATEGORIES:Food Trucks
ATTACH;FMTTYPE=image/jpeg:https://oldcoloradobrewing.com/wp-content/uploads/2025/07/dubs.jpg
ORGANIZER;CN="Old Colorado Brewing Company":MAILTO:info@oldcoloradobrewing.com
END:VEVENT
BEGIN:VEVENT
DTSTART;TZID=America/Denver:20260422T160000
DTEND;TZID=America/Denver:20260422T193000
DTSTAMP:20260425T210246
CREATED:20260422T030608Z
LAST-MODIFIED:20260422T030608Z
UID:10001067-1776873600-1776886200@oldcoloradobrewing.com
SUMMARY:Marchio's Grill
DESCRIPTION:Marchio’s Grill is a Northern Colorado food truck bringing together the best of both worlds—authentic Italian dishes and iconic American favorites.
URL:https://oldcoloradobrewing.com/event/marchios-grill/2026-04-22/
LOCATION:Old Colorado Brewing Company\, 3700 Cleveland Avenue\, Wellington\, Colorado\, 80549\, United States
CATEGORIES:Food Trucks
ATTACH;FMTTYPE=image/png:https://oldcoloradobrewing.com/wp-content/uploads/2026/04/Marchios-Grill.png
END:VEVENT
BEGIN:VEVENT
DTSTART;TZID=America/Denver:20260421T183000
DTEND;TZID=America/Denver:20260421T203000
DTSTAMP:20260425T210246
CREATED:20260217T012642Z
LAST-MODIFIED:20260217T012643Z
UID:10000311-1776796200-1776803400@oldcoloradobrewing.com
SUMMARY:Trivia Tuesdays
DESCRIPTION:
URL:https://oldcoloradobrewing.com/event/trivia-tuesdays-2/2026-04-21/
LOCATION:Old Colorado Brewing Company\, 3700 Cleveland Avenue\, Wellington\, Colorado\, 80549\, United States
CATEGORIES:Trivia
ATTACH;FMTTYPE=image/png:https://oldcoloradobrewing.com/wp-content/uploads/2025/07/OCB-Trivia-Tuesdays.png
ORGANIZER;CN="Old Colorado Brewing Company":MAILTO:info@oldcoloradobrewing.com
END:VEVENT
BEGIN:VEVENT
DTSTART;TZID=America/Denver:20260421T160000
DTEND;TZID=America/Denver:20260421T200000
DTSTAMP:20260425T210246
CREATED:20250823T010451Z
LAST-MODIFIED:20260324T042843Z
UID:10001045-1776787200-1776801600@oldcoloradobrewing.com
SUMMARY:Lulu's Taters
DESCRIPTION:Dig into hearty baked potato creations loaded with flavor! From tender brisket to melty queso and all your favorite toppings\, Lulu’s Taters takes the humble spud and turns it into a full meal. Comfort food at its finest\, piled high and made to satisfy.
URL:https://oldcoloradobrewing.com/event/lulus-taters/2026-04-21/
LOCATION:Old Colorado Brewing Company\, 3700 Cleveland Avenue\, Wellington\, Colorado\, 80549\, United States
CATEGORIES:Food Trucks
ATTACH;FMTTYPE=image/jpeg:https://oldcoloradobrewing.com/wp-content/uploads/2025/08/lulus-1.jpg
END:VEVENT
BEGIN:VEVENT
DTSTART;TZID=America/Denver:20260419T140000
DTEND;TZID=America/Denver:20260419T200000
DTSTAMP:20260425T210246
CREATED:20251106T044031Z
LAST-MODIFIED:20260422T042603Z
UID:10001065-1776607200-1776628800@oldcoloradobrewing.com
SUMMARY:NOCO Pizza Company
DESCRIPTION:Join us for delicious wood-fired pizza from NOCO Pizza Company\, serving from their food truck right outside the taproom.
URL:https://oldcoloradobrewing.com/event/noco-pizza-company/2026-04-19/
LOCATION:Old Colorado Brewing Company\, 3700 Cleveland Avenue\, Wellington\, Colorado\, 80549\, United States
CATEGORIES:Food Trucks
ATTACH;FMTTYPE=image/png:https://oldcoloradobrewing.com/wp-content/uploads/2025/11/Noco-Pizza.png
END:VEVENT
BEGIN:VEVENT
DTSTART;TZID=America/Denver:20260417T160000
DTEND;TZID=America/Denver:20260417T200000
DTSTAMP:20260425T210246
CREATED:20260123T045830Z
LAST-MODIFIED:20260414T024827Z
UID:10001064-1776441600-1776456000@oldcoloradobrewing.com
SUMMARY:Huka Sushi
DESCRIPTION:Rolling up with fresh fish and big flavor\, Huka Sushi serves street-style sushi done right. Everything is made fresh with quality ingredients and a whole lot of care. Fast\, fresh\, and seriously satisfying\, Huka Sushi is your go-to for sushi on the move 🍣
URL:https://oldcoloradobrewing.com/event/huka-sushi/2026-04-17/
LOCATION:Old Colorado Brewing Company\, 3700 Cleveland Avenue\, Wellington\, Colorado\, 80549\, United States
CATEGORIES:Food Trucks
ATTACH;FMTTYPE=image/jpeg:https://oldcoloradobrewing.com/wp-content/uploads/2026/01/Huka-Sushi-logo.jpg
END:VEVENT
BEGIN:VEVENT
DTSTART;TZID=America/Denver:20260416T113000
DTEND;TZID=America/Denver:20260416T190000
DTSTAMP:20260425T210246
CREATED:20250708T200034Z
LAST-MODIFIED:20250815T210807Z
UID:10000047-1776339000-1776366000@oldcoloradobrewing.com
SUMMARY:Double Dubs Wings
DESCRIPTION:
URL:https://oldcoloradobrewing.com/event/double-dubs-wings/2026-04-16/
LOCATION:Old Colorado Brewing Company\, 3700 Cleveland Avenue\, Wellington\, Colorado\, 80549\, United States
CATEGORIES:Food Trucks
ATTACH;FMTTYPE=image/jpeg:https://oldcoloradobrewing.com/wp-content/uploads/2025/07/dubs.jpg
ORGANIZER;CN="Old Colorado Brewing Company":MAILTO:info@oldcoloradobrewing.com
END:VEVENT
BEGIN:VEVENT
DTSTART;TZID=America/Denver:20260414T183000
DTEND;TZID=America/Denver:20260414T203000
DTSTAMP:20260425T210246
CREATED:20260217T012642Z
LAST-MODIFIED:20260217T012643Z
UID:10000310-1776191400-1776198600@oldcoloradobrewing.com
SUMMARY:Trivia Tuesdays
DESCRIPTION:
URL:https://oldcoloradobrewing.com/event/trivia-tuesdays-2/2026-04-14/
LOCATION:Old Colorado Brewing Company\, 3700 Cleveland Avenue\, Wellington\, Colorado\, 80549\, United States
CATEGORIES:Trivia
ATTACH;FMTTYPE=image/png:https://oldcoloradobrewing.com/wp-content/uploads/2025/07/OCB-Trivia-Tuesdays.png
ORGANIZER;CN="Old Colorado Brewing Company":MAILTO:info@oldcoloradobrewing.com
END:VEVENT
BEGIN:VEVENT
DTSTART;TZID=America/Denver:20260412T160000
DTEND;TZID=America/Denver:20260412T200000
DTSTAMP:20260425T210246
CREATED:20260323T035358Z
LAST-MODIFIED:20260323T035358Z
UID:10001049-1776009600-1776024000@oldcoloradobrewing.com
SUMMARY:Santa Elena's
DESCRIPTION:Santa Elena’s Food Truck brings bold\, authentic flavor to every bite with their signature wood-smoked Mexican provisions. Known for serving some of the best tacos in Northern Colorado\, their menu is built on slow-cooked meats\, fresh ingredients\, and time-honored techniques that deliver rich\, smoky depth you won’t find just anywhere.
URL:https://oldcoloradobrewing.com/event/santa-elenas/2026-04-12/
LOCATION:Old Colorado Brewing Company\, 3700 Cleveland Avenue\, Wellington\, Colorado\, 80549\, United States
CATEGORIES:Food Trucks
ATTACH;FMTTYPE=image/jpeg:https://oldcoloradobrewing.com/wp-content/uploads/2026/03/santa-elenas.jpg
END:VEVENT
BEGIN:VEVENT
DTSTART;TZID=America/Denver:20260411T120000
DTEND;TZID=America/Denver:20260411T190000
DTSTAMP:20260425T210246
CREATED:20250902T035620Z
LAST-MODIFIED:20260422T043413Z
UID:10000982-1775908800-1775934000@oldcoloradobrewing.com
SUMMARY:Dos Medinas
DESCRIPTION:Serving up bold island favorites and family recipes\, Dos Medinas brings the taste of Puerto Rico to Northern Colorado—no plane ticket required.
URL:https://oldcoloradobrewing.com/event/dos-medinas-3/2026-04-11/
LOCATION:Old Colorado Brewing Company\, 3700 Cleveland Avenue\, Wellington\, Colorado\, 80549\, United States
CATEGORIES:Food Trucks
ATTACH;FMTTYPE=image/jpeg:https://oldcoloradobrewing.com/wp-content/uploads/2025/09/Dos-Medinas-Logo.jpg
END:VEVENT
BEGIN:VEVENT
DTSTART;TZID=America/Denver:20260410T150000
DTEND;TZID=America/Denver:20260410T200000
DTSTAMP:20260425T210246
CREATED:20250823T010451Z
LAST-MODIFIED:20260324T042843Z
UID:10001044-1775833200-1775851200@oldcoloradobrewing.com
SUMMARY:Lulu's Taters
DESCRIPTION:Dig into hearty baked potato creations loaded with flavor! From tender brisket to melty queso and all your favorite toppings\, Lulu’s Taters takes the humble spud and turns it into a full meal. Comfort food at its finest\, piled high and made to satisfy.
URL:https://oldcoloradobrewing.com/event/lulus-taters/2026-04-10/
LOCATION:Old Colorado Brewing Company\, 3700 Cleveland Avenue\, Wellington\, Colorado\, 80549\, United States
CATEGORIES:Food Trucks
ATTACH;FMTTYPE=image/jpeg:https://oldcoloradobrewing.com/wp-content/uploads/2025/08/lulus-1.jpg
END:VEVENT
BEGIN:VEVENT
DTSTART;TZID=America/Denver:20260409T113000
DTEND;TZID=America/Denver:20260409T190000
DTSTAMP:20260425T210246
CREATED:20250708T200034Z
LAST-MODIFIED:20250815T210807Z
UID:10000046-1775734200-1775761200@oldcoloradobrewing.com
SUMMARY:Double Dubs Wings
DESCRIPTION:
URL:https://oldcoloradobrewing.com/event/double-dubs-wings/2026-04-09/
LOCATION:Old Colorado Brewing Company\, 3700 Cleveland Avenue\, Wellington\, Colorado\, 80549\, United States
CATEGORIES:Food Trucks
ATTACH;FMTTYPE=image/jpeg:https://oldcoloradobrewing.com/wp-content/uploads/2025/07/dubs.jpg
ORGANIZER;CN="Old Colorado Brewing Company":MAILTO:info@oldcoloradobrewing.com
END:VEVENT
BEGIN:VEVENT
DTSTART;TZID=America/Denver:20260407T183000
DTEND;TZID=America/Denver:20260407T203000
DTSTAMP:20260425T210246
CREATED:20260217T012642Z
LAST-MODIFIED:20260217T012643Z
UID:10000309-1775586600-1775593800@oldcoloradobrewing.com
SUMMARY:Trivia Tuesdays
DESCRIPTION:
URL:https://oldcoloradobrewing.com/event/trivia-tuesdays-2/2026-04-07/
LOCATION:Old Colorado Brewing Company\, 3700 Cleveland Avenue\, Wellington\, Colorado\, 80549\, United States
CATEGORIES:Trivia
ATTACH;FMTTYPE=image/png:https://oldcoloradobrewing.com/wp-content/uploads/2025/07/OCB-Trivia-Tuesdays.png
ORGANIZER;CN="Old Colorado Brewing Company":MAILTO:info@oldcoloradobrewing.com
END:VEVENT
BEGIN:VEVENT
DTSTART;TZID=America/Denver:20260407T160000
DTEND;TZID=America/Denver:20260407T200000
DTSTAMP:20260425T210246
CREATED:20250819T221400Z
LAST-MODIFIED:20260422T044206Z
UID:10001037-1775577600-1775592000@oldcoloradobrewing.com
SUMMARY:Fry It Riot
DESCRIPTION:
URL:https://oldcoloradobrewing.com/event/fry-it-riot-2/2026-04-07/
LOCATION:Old Colorado Brewing Company\, 3700 Cleveland Avenue\, Wellington\, Colorado\, 80549\, United States
CATEGORIES:Food Trucks
ATTACH;FMTTYPE=image/jpeg:https://oldcoloradobrewing.com/wp-content/uploads/2025/08/Fry-it-Riot-1.jpg
END:VEVENT
BEGIN:VEVENT
DTSTART;TZID=America/Denver:20260405T120000
DTEND;TZID=America/Denver:20260405T190000
DTSTAMP:20260425T210246
CREATED:20251002T034235Z
LAST-MODIFIED:20260331T025730Z
UID:10001061-1775390400-1775415600@oldcoloradobrewing.com
SUMMARY:Sizzlin' Eats & Treats
DESCRIPTION:Sizzlin’ Eats brings the heat with all your comfort food favorites — juicy burgers stacked high\, crispy wings tossed in bold flavors\, and loaded nachos piled to perfection. Whether you’re craving a quick bite or a full-on feast\, Sizzlin’ Eats serves up big flavor that always hits the spot.
URL:https://oldcoloradobrewing.com/event/sizzlin-eats-treats/2026-04-05/
LOCATION:Old Colorado Brewing Company\, 3700 Cleveland Avenue\, Wellington\, Colorado\, 80549\, United States
CATEGORIES:Food Trucks
ATTACH;FMTTYPE=image/jpeg:https://oldcoloradobrewing.com/wp-content/uploads/2025/10/Sizzlin-Eats.jpg
END:VEVENT
BEGIN:VEVENT
DTSTART;TZID=America/Denver:20260405T120000
DTEND;TZID=America/Denver:20260405T140000
DTSTAMP:20260425T210246
CREATED:20250708T203300Z
LAST-MODIFIED:20250731T225255Z
UID:10000665-1775390400-1775397600@oldcoloradobrewing.com
SUMMARY:Sip & Swap
DESCRIPTION:
URL:https://oldcoloradobrewing.com/event/sip-swap/2026-04-05/
LOCATION:Old Colorado Brewing Company\, 3700 Cleveland Avenue\, Wellington\, Colorado\, 80549\, United States
CATEGORIES:Plants
ATTACH;FMTTYPE=image/jpeg:https://oldcoloradobrewing.com/wp-content/uploads/2025/07/Sip-and-Swap.jpg
ORGANIZER;CN="Old Colorado Brewing Company":MAILTO:info@oldcoloradobrewing.com
END:VEVENT
BEGIN:VEVENT
DTSTART;TZID=America/Denver:20260403T160000
DTEND;TZID=America/Denver:20260403T200000
DTSTAMP:20260425T210246
CREATED:20260123T045830Z
LAST-MODIFIED:20260414T024827Z
UID:10001057-1775232000-1775246400@oldcoloradobrewing.com
SUMMARY:Huka Sushi
DESCRIPTION:Rolling up with fresh fish and big flavor\, Huka Sushi serves street-style sushi done right. Everything is made fresh with quality ingredients and a whole lot of care. Fast\, fresh\, and seriously satisfying\, Huka Sushi is your go-to for sushi on the move 🍣
URL:https://oldcoloradobrewing.com/event/huka-sushi/2026-04-03/
LOCATION:Old Colorado Brewing Company\, 3700 Cleveland Avenue\, Wellington\, Colorado\, 80549\, United States
CATEGORIES:Food Trucks
ATTACH;FMTTYPE=image/jpeg:https://oldcoloradobrewing.com/wp-content/uploads/2026/01/Huka-Sushi-logo.jpg
END:VEVENT
BEGIN:VEVENT
DTSTART;TZID=America/Denver:20260402T113000
DTEND;TZID=America/Denver:20260402T190000
DTSTAMP:20260425T210246
CREATED:20250708T200034Z
LAST-MODIFIED:20250815T210807Z
UID:10000045-1775129400-1775156400@oldcoloradobrewing.com
SUMMARY:Double Dubs Wings
DESCRIPTION:
URL:https://oldcoloradobrewing.com/event/double-dubs-wings/2026-04-02/
LOCATION:Old Colorado Brewing Company\, 3700 Cleveland Avenue\, Wellington\, Colorado\, 80549\, United States
CATEGORIES:Food Trucks
ATTACH;FMTTYPE=image/jpeg:https://oldcoloradobrewing.com/wp-content/uploads/2025/07/dubs.jpg
ORGANIZER;CN="Old Colorado Brewing Company":MAILTO:info@oldcoloradobrewing.com
END:VEVENT
BEGIN:VEVENT
DTSTART;TZID=America/Denver:20260331T183000
DTEND;TZID=America/Denver:20260331T203000
DTSTAMP:20260425T210246
CREATED:20260217T012642Z
LAST-MODIFIED:20260217T012643Z
UID:10000308-1774981800-1774989000@oldcoloradobrewing.com
SUMMARY:Trivia Tuesdays
DESCRIPTION:
URL:https://oldcoloradobrewing.com/event/trivia-tuesdays-2/2026-03-31/
LOCATION:Old Colorado Brewing Company\, 3700 Cleveland Avenue\, Wellington\, Colorado\, 80549\, United States
CATEGORIES:Trivia
ATTACH;FMTTYPE=image/png:https://oldcoloradobrewing.com/wp-content/uploads/2025/07/OCB-Trivia-Tuesdays.png
ORGANIZER;CN="Old Colorado Brewing Company":MAILTO:info@oldcoloradobrewing.com
END:VEVENT
BEGIN:VEVENT
DTSTART;TZID=America/Denver:20260331T160000
DTEND;TZID=America/Denver:20260331T200000
DTSTAMP:20260425T210246
CREATED:20250818T192033Z
LAST-MODIFIED:20260423T015958Z
UID:10001055-1774972800-1774987200@oldcoloradobrewing.com
SUMMARY:Ranch Eats
DESCRIPTION:Ranch Eats is all about hearty\, rustic comfort food served up fresh from their food truck. Their rotating menu brings a little something for everyone — from savory mains to satisfying sides. Whether it’s a weekday pick-me-up or a weekend treat\, Ranch Eats is here to keep you full and happy while you enjoy a cold pint at OCB.
URL:https://oldcoloradobrewing.com/event/ranch-eats-3/2026-03-31/
LOCATION:Old Colorado Brewing Company\, 3700 Cleveland Avenue\, Wellington\, Colorado\, 80549\, United States
CATEGORIES:Food Trucks
ATTACH;FMTTYPE=image/jpeg:https://oldcoloradobrewing.com/wp-content/uploads/2025/08/ranch-eats-logo.jpg
END:VEVENT
BEGIN:VEVENT
DTSTART;TZID=America/Denver:20260329T160000
DTEND;TZID=America/Denver:20260329T200000
DTSTAMP:20260425T210246
CREATED:20260323T035358Z
LAST-MODIFIED:20260323T035358Z
UID:10001048-1774800000-1774814400@oldcoloradobrewing.com
SUMMARY:Santa Elena's
DESCRIPTION:Santa Elena’s Food Truck brings bold\, authentic flavor to every bite with their signature wood-smoked Mexican provisions. Known for serving some of the best tacos in Northern Colorado\, their menu is built on slow-cooked meats\, fresh ingredients\, and time-honored techniques that deliver rich\, smoky depth you won’t find just anywhere.
URL:https://oldcoloradobrewing.com/event/santa-elenas/2026-03-29/
LOCATION:Old Colorado Brewing Company\, 3700 Cleveland Avenue\, Wellington\, Colorado\, 80549\, United States
CATEGORIES:Food Trucks
ATTACH;FMTTYPE=image/jpeg:https://oldcoloradobrewing.com/wp-content/uploads/2026/03/santa-elenas.jpg
END:VEVENT
BEGIN:VEVENT
DTSTART;TZID=America/Denver:20260328T120000
DTEND;TZID=America/Denver:20260328T170000
DTSTAMP:20260425T210246
CREATED:20260323T032158Z
LAST-MODIFIED:20260323T032158Z
UID:10001042-1774699200-1774717200@oldcoloradobrewing.com
SUMMARY:Olson Fundraiser - Cornhole Tournament\, Silent Auction & Bake Sale
DESCRIPTION:Join us for a community fundraiser in support of the Olson Family 💛 \nThis special event features a cornhole tournament\, a silent auction\, and a bake sale—all coming together for an afternoon of fun\, generosity\, and community. Bid on unique items and local goodies\, enjoy delicious homemade treats\, and take part in the tournament excitement. \nEvery dollar raised goes directly to supporting the Olson Family in their time of need. \nWhether you’re competing\, bidding\, baking\, or simply showing up to support\, we’d love to have you there. Donations are also welcome\, and we are currently accepting contributions for both auction items and baked goods. \nLet’s come together and show what this community is all about.
URL:https://oldcoloradobrewing.com/event/olson-fundraiser-cornhole-tournament-silent-auction-bake-sale/
LOCATION:Old Colorado Brewing Company\, 3700 Cleveland Avenue\, Wellington\, Colorado\, 80549\, United States
CATEGORIES:Community Event
ATTACH;FMTTYPE=image/png:https://oldcoloradobrewing.com/wp-content/uploads/2026/03/Cornhole-Fundraiser-1.png
END:VEVENT
BEGIN:VEVENT
DTSTART;TZID=America/Denver:20260327T160000
DTEND;TZID=America/Denver:20260327T200000
DTSTAMP:20260425T210246
CREATED:20260123T045830Z
LAST-MODIFIED:20260414T024827Z
UID:10001059-1774627200-1774641600@oldcoloradobrewing.com
SUMMARY:Huka Sushi
DESCRIPTION:Rolling up with fresh fish and big flavor\, Huka Sushi serves street-style sushi done right. Everything is made fresh with quality ingredients and a whole lot of care. Fast\, fresh\, and seriously satisfying\, Huka Sushi is your go-to for sushi on the move 🍣
URL:https://oldcoloradobrewing.com/event/huka-sushi/2026-03-27/
LOCATION:Old Colorado Brewing Company\, 3700 Cleveland Avenue\, Wellington\, Colorado\, 80549\, United States
CATEGORIES:Food Trucks
ATTACH;FMTTYPE=image/jpeg:https://oldcoloradobrewing.com/wp-content/uploads/2026/01/Huka-Sushi-logo.jpg
END:VEVENT
BEGIN:VEVENT
DTSTART;TZID=America/Denver:20260326T113000
DTEND;TZID=America/Denver:20260326T190000
DTSTAMP:20260425T210246
CREATED:20250708T200034Z
LAST-MODIFIED:20250815T210807Z
UID:10000044-1774524600-1774551600@oldcoloradobrewing.com
SUMMARY:Double Dubs Wings
DESCRIPTION:
URL:https://oldcoloradobrewing.com/event/double-dubs-wings/2026-03-26/
LOCATION:Old Colorado Brewing Company\, 3700 Cleveland Avenue\, Wellington\, Colorado\, 80549\, United States
CATEGORIES:Food Trucks
ATTACH;FMTTYPE=image/jpeg:https://oldcoloradobrewing.com/wp-content/uploads/2025/07/dubs.jpg
ORGANIZER;CN="Old Colorado Brewing Company":MAILTO:info@oldcoloradobrewing.com
END:VEVENT
BEGIN:VEVENT
DTSTART;TZID=America/Denver:20260324T183000
DTEND;TZID=America/Denver:20260324T203000
DTSTAMP:20260425T210246
CREATED:20260217T012642Z
LAST-MODIFIED:20260217T012643Z
UID:10000307-1774377000-1774384200@oldcoloradobrewing.com
SUMMARY:Trivia Tuesdays
DESCRIPTION:
URL:https://oldcoloradobrewing.com/event/trivia-tuesdays-2/2026-03-24/
LOCATION:Old Colorado Brewing Company\, 3700 Cleveland Avenue\, Wellington\, Colorado\, 80549\, United States
CATEGORIES:Trivia
ATTACH;FMTTYPE=image/png:https://oldcoloradobrewing.com/wp-content/uploads/2025/07/OCB-Trivia-Tuesdays.png
ORGANIZER;CN="Old Colorado Brewing Company":MAILTO:info@oldcoloradobrewing.com
END:VEVENT
BEGIN:VEVENT
DTSTART;TZID=America/Denver:20260324T160000
DTEND;TZID=America/Denver:20260324T200000
DTSTAMP:20260425T210246
CREATED:20250819T221400Z
LAST-MODIFIED:20260422T044206Z
UID:10001036-1774368000-1774382400@oldcoloradobrewing.com
SUMMARY:Fry It Riot
DESCRIPTION:
URL:https://oldcoloradobrewing.com/event/fry-it-riot-2/2026-03-24/
LOCATION:Old Colorado Brewing Company\, 3700 Cleveland Avenue\, Wellington\, Colorado\, 80549\, United States
CATEGORIES:Food Trucks
ATTACH;FMTTYPE=image/jpeg:https://oldcoloradobrewing.com/wp-content/uploads/2025/08/Fry-it-Riot-1.jpg
END:VEVENT
BEGIN:VEVENT
DTSTART;TZID=America/Denver:20260320T160000
DTEND;TZID=America/Denver:20260320T200000
DTSTAMP:20260425T210246
CREATED:20250914T001333Z
LAST-MODIFIED:20260422T042914Z
UID:10000961-1774022400-1774036800@oldcoloradobrewing.com
SUMMARY:Bite of the Bayou
DESCRIPTION:Bite of the Bayou — Berthoud’s Veteran-Owned Cajun Food Truck \nCome get a taste of Louisiana right here in Wellington! Bite of the Bayou serves up bold Cajun flavors inspired by the Bayou’s rich food tradition.
URL:https://oldcoloradobrewing.com/event/bite-of-the-bayou/2026-03-20/
LOCATION:Old Colorado Brewing Company\, 3700 Cleveland Avenue\, Wellington\, Colorado\, 80549\, United States
CATEGORIES:Food Trucks
ATTACH;FMTTYPE=image/jpeg:https://oldcoloradobrewing.com/wp-content/uploads/2025/09/bitebayou2.jpg
END:VEVENT
BEGIN:VEVENT
DTSTART;TZID=America/Denver:20260319T113000
DTEND;TZID=America/Denver:20260319T190000
DTSTAMP:20260425T210246
CREATED:20250708T200034Z
LAST-MODIFIED:20250815T210807Z
UID:10000043-1773919800-1773946800@oldcoloradobrewing.com
SUMMARY:Double Dubs Wings
DESCRIPTION:
URL:https://oldcoloradobrewing.com/event/double-dubs-wings/2026-03-19/
LOCATION:Old Colorado Brewing Company\, 3700 Cleveland Avenue\, Wellington\, Colorado\, 80549\, United States
CATEGORIES:Food Trucks
ATTACH;FMTTYPE=image/jpeg:https://oldcoloradobrewing.com/wp-content/uploads/2025/07/dubs.jpg
ORGANIZER;CN="Old Colorado Brewing Company":MAILTO:info@oldcoloradobrewing.com
END:VEVENT
END:VCALENDAR