BEGIN:VCALENDAR
VERSION:2.0
PRODID:-//Old Colorado Brewing Company - ECPv6.15.20//NONSGML v1.0//EN
CALSCALE:GREGORIAN
METHOD:PUBLISH
X-WR-CALNAME:Old Colorado Brewing Company
X-ORIGINAL-URL:https://oldcoloradobrewing.com
X-WR-CALDESC:Events for Old Colorado Brewing Company
REFRESH-INTERVAL;VALUE=DURATION:PT1H
X-Robots-Tag:noindex
X-PUBLISHED-TTL:PT1H
BEGIN:VTIMEZONE
TZID:America/Denver
BEGIN:DAYLIGHT
TZOFFSETFROM:-0700
TZOFFSETTO:-0600
TZNAME:MDT
DTSTART:20240310T090000
END:DAYLIGHT
BEGIN:STANDARD
TZOFFSETFROM:-0600
TZOFFSETTO:-0700
TZNAME:MST
DTSTART:20241103T080000
END:STANDARD
BEGIN:DAYLIGHT
TZOFFSETFROM:-0700
TZOFFSETTO:-0600
TZNAME:MDT
DTSTART:20250309T090000
END:DAYLIGHT
BEGIN:STANDARD
TZOFFSETFROM:-0600
TZOFFSETTO:-0700
TZNAME:MST
DTSTART:20251102T080000
END:STANDARD
BEGIN:DAYLIGHT
TZOFFSETFROM:-0700
TZOFFSETTO:-0600
TZNAME:MDT
DTSTART:20260308T090000
END:DAYLIGHT
BEGIN:STANDARD
TZOFFSETFROM:-0600
TZOFFSETTO:-0700
TZNAME:MST
DTSTART:20261101T080000
END:STANDARD
BEGIN:DAYLIGHT
TZOFFSETFROM:-0700
TZOFFSETTO:-0600
TZNAME:MDT
DTSTART:20270314T090000
END:DAYLIGHT
BEGIN:STANDARD
TZOFFSETFROM:-0600
TZOFFSETTO:-0700
TZNAME:MST
DTSTART:20271107T080000
END:STANDARD
END:VTIMEZONE
BEGIN:VEVENT
DTSTART;TZID=America/Denver:20260212T113000
DTEND;TZID=America/Denver:20260212T190000
DTSTAMP:20260425T222940
CREATED:20250708T200034Z
LAST-MODIFIED:20250815T210807Z
UID:10000038-1770895800-1770922800@oldcoloradobrewing.com
SUMMARY:Double Dubs Wings
DESCRIPTION:
URL:https://oldcoloradobrewing.com/event/double-dubs-wings/2026-02-12/
LOCATION:Old Colorado Brewing Company\, 3700 Cleveland Avenue\, Wellington\, Colorado\, 80549\, United States
CATEGORIES:Food Trucks
ATTACH;FMTTYPE=image/jpeg:https://oldcoloradobrewing.com/wp-content/uploads/2025/07/dubs.jpg
ORGANIZER;CN="Old Colorado Brewing Company":MAILTO:info@oldcoloradobrewing.com
END:VEVENT
BEGIN:VEVENT
DTSTART;TZID=America/Denver:20260210T183000
DTEND;TZID=America/Denver:20260210T203000
DTSTAMP:20260425T222940
CREATED:20250708T202354Z
LAST-MODIFIED:20250731T224320Z
UID:10000301-1770748200-1770755400@oldcoloradobrewing.com
SUMMARY:Trivia Tuesdays
DESCRIPTION:
URL:https://oldcoloradobrewing.com/event/trivia-tuesdays/2026-02-10/
LOCATION:Old Colorado Brewing Company\, 3700 Cleveland Avenue\, Wellington\, Colorado\, 80549\, United States
CATEGORIES:Trivia
ATTACH;FMTTYPE=image/jpeg:https://oldcoloradobrewing.com/wp-content/uploads/2025/07/Trivia-Tuesdays.jpg
ORGANIZER;CN="Old Colorado Brewing Company":MAILTO:info@oldcoloradobrewing.com
END:VEVENT
BEGIN:VEVENT
DTSTART;TZID=America/Denver:20260210T160000
DTEND;TZID=America/Denver:20260210T190000
DTSTAMP:20260425T222940
CREATED:20250819T221400Z
LAST-MODIFIED:20260422T044206Z
UID:10001002-1770739200-1770750000@oldcoloradobrewing.com
SUMMARY:Fry It Riot
DESCRIPTION:
URL:https://oldcoloradobrewing.com/event/fry-it-riot-2/2026-02-10/
LOCATION:Old Colorado Brewing Company\, 3700 Cleveland Avenue\, Wellington\, Colorado\, 80549\, United States
CATEGORIES:Food Trucks
ATTACH;FMTTYPE=image/jpeg:https://oldcoloradobrewing.com/wp-content/uploads/2025/08/Fry-it-Riot-1.jpg
END:VEVENT
BEGIN:VEVENT
DTSTART;TZID=America/Denver:20260208T163000
DTEND;TZID=America/Denver:20260208T203000
DTSTAMP:20260425T222940
CREATED:20260204T054700Z
LAST-MODIFIED:20260204T054700Z
UID:10001006-1770568200-1770582600@oldcoloradobrewing.com
SUMMARY:Big Game & Commercial Watch Party
DESCRIPTION:🏈 Big Game & Commercial Watch Party! 📺✨\nWe’re hosting a party for the Big Game this Sunday and yes\, the commercials count as part of the sport. \n🔥 Sizzlin’ Eats will be here serving burgers and wings.\n🍺 Cold drinks\, multiple screens\, football\, and ad breaks worth cheering for. \nCome for the game\, stay for the commercials\, and judge every halftime moment like a panel of experts. 🏆🍔🍗\n#BigGameParty #CommercialWatchParty #GameDayEats #SizzlinEats #TaproomFun #BringASnack #WellingtonCO
URL:https://oldcoloradobrewing.com/event/big-game-commercial-watch-party/
LOCATION:Old Colorado Brewing Company\, 3700 Cleveland Avenue\, Wellington\, Colorado\, 80549\, United States
CATEGORIES:Community Event
ATTACH;FMTTYPE=image/png:https://oldcoloradobrewing.com/wp-content/uploads/2026/02/Green-And-White-Bold-Party-Celebration-Football-Event-Tailgate-Invitation-2.png
END:VEVENT
BEGIN:VEVENT
DTSTART;TZID=America/Denver:20260208T130000
DTEND;TZID=America/Denver:20260208T190000
DTSTAMP:20260425T222940
CREATED:20251002T034235Z
LAST-MODIFIED:20260331T025730Z
UID:10000973-1770555600-1770577200@oldcoloradobrewing.com
SUMMARY:Sizzlin' Eats & Treats
DESCRIPTION:Sizzlin’ Eats brings the heat with all your comfort food favorites — juicy burgers stacked high\, crispy wings tossed in bold flavors\, and loaded nachos piled to perfection. Whether you’re craving a quick bite or a full-on feast\, Sizzlin’ Eats serves up big flavor that always hits the spot.
URL:https://oldcoloradobrewing.com/event/sizzlin-eats-treats/2026-02-08/
LOCATION:Old Colorado Brewing Company\, 3700 Cleveland Avenue\, Wellington\, Colorado\, 80549\, United States
CATEGORIES:Food Trucks
ATTACH;FMTTYPE=image/jpeg:https://oldcoloradobrewing.com/wp-content/uploads/2025/10/Sizzlin-Eats.jpg
END:VEVENT
BEGIN:VEVENT
DTSTART;TZID=America/Denver:20260206T160000
DTEND;TZID=America/Denver:20260206T200000
DTSTAMP:20260425T222940
CREATED:20260123T045830Z
LAST-MODIFIED:20260414T024827Z
UID:10001004-1770393600-1770408000@oldcoloradobrewing.com
SUMMARY:Huka Sushi
DESCRIPTION:Rolling up with fresh fish and big flavor\, Huka Sushi serves street-style sushi done right. Everything is made fresh with quality ingredients and a whole lot of care. Fast\, fresh\, and seriously satisfying\, Huka Sushi is your go-to for sushi on the move 🍣
URL:https://oldcoloradobrewing.com/event/huka-sushi/2026-02-06/
LOCATION:Old Colorado Brewing Company\, 3700 Cleveland Avenue\, Wellington\, Colorado\, 80549\, United States
CATEGORIES:Food Trucks
ATTACH;FMTTYPE=image/jpeg:https://oldcoloradobrewing.com/wp-content/uploads/2026/01/Huka-Sushi-logo.jpg
END:VEVENT
BEGIN:VEVENT
DTSTART;TZID=America/Denver:20260205T113000
DTEND;TZID=America/Denver:20260205T190000
DTSTAMP:20260425T222940
CREATED:20250708T200034Z
LAST-MODIFIED:20250815T210807Z
UID:10000037-1770291000-1770318000@oldcoloradobrewing.com
SUMMARY:Double Dubs Wings
DESCRIPTION:
URL:https://oldcoloradobrewing.com/event/double-dubs-wings/2026-02-05/
LOCATION:Old Colorado Brewing Company\, 3700 Cleveland Avenue\, Wellington\, Colorado\, 80549\, United States
CATEGORIES:Food Trucks
ATTACH;FMTTYPE=image/jpeg:https://oldcoloradobrewing.com/wp-content/uploads/2025/07/dubs.jpg
ORGANIZER;CN="Old Colorado Brewing Company":MAILTO:info@oldcoloradobrewing.com
END:VEVENT
BEGIN:VEVENT
DTSTART;TZID=America/Denver:20260203T183000
DTEND;TZID=America/Denver:20260203T203000
DTSTAMP:20260425T222940
CREATED:20250708T202354Z
LAST-MODIFIED:20250731T224320Z
UID:10000300-1770143400-1770150600@oldcoloradobrewing.com
SUMMARY:Trivia Tuesdays
DESCRIPTION:
URL:https://oldcoloradobrewing.com/event/trivia-tuesdays/2026-02-03/
LOCATION:Old Colorado Brewing Company\, 3700 Cleveland Avenue\, Wellington\, Colorado\, 80549\, United States
CATEGORIES:Trivia
ATTACH;FMTTYPE=image/jpeg:https://oldcoloradobrewing.com/wp-content/uploads/2025/07/Trivia-Tuesdays.jpg
ORGANIZER;CN="Old Colorado Brewing Company":MAILTO:info@oldcoloradobrewing.com
END:VEVENT
BEGIN:VEVENT
DTSTART;TZID=America/Denver:20260201T130000
DTEND;TZID=America/Denver:20260201T190000
DTSTAMP:20260425T222940
CREATED:20251002T034235Z
LAST-MODIFIED:20260331T025730Z
UID:10000972-1769950800-1769972400@oldcoloradobrewing.com
SUMMARY:Sizzlin' Eats & Treats
DESCRIPTION:Sizzlin’ Eats brings the heat with all your comfort food favorites — juicy burgers stacked high\, crispy wings tossed in bold flavors\, and loaded nachos piled to perfection. Whether you’re craving a quick bite or a full-on feast\, Sizzlin’ Eats serves up big flavor that always hits the spot.
URL:https://oldcoloradobrewing.com/event/sizzlin-eats-treats/2026-02-01/
LOCATION:Old Colorado Brewing Company\, 3700 Cleveland Avenue\, Wellington\, Colorado\, 80549\, United States
CATEGORIES:Food Trucks
ATTACH;FMTTYPE=image/jpeg:https://oldcoloradobrewing.com/wp-content/uploads/2025/10/Sizzlin-Eats.jpg
END:VEVENT
BEGIN:VEVENT
DTSTART;TZID=America/Denver:20260201T120000
DTEND;TZID=America/Denver:20260201T140000
DTSTAMP:20260425T222940
CREATED:20250708T203300Z
LAST-MODIFIED:20250731T225255Z
UID:10000663-1769947200-1769954400@oldcoloradobrewing.com
SUMMARY:Sip & Swap
DESCRIPTION:
URL:https://oldcoloradobrewing.com/event/sip-swap/2026-02-01/
LOCATION:Old Colorado Brewing Company\, 3700 Cleveland Avenue\, Wellington\, Colorado\, 80549\, United States
CATEGORIES:Plants
ATTACH;FMTTYPE=image/jpeg:https://oldcoloradobrewing.com/wp-content/uploads/2025/07/Sip-and-Swap.jpg
ORGANIZER;CN="Old Colorado Brewing Company":MAILTO:info@oldcoloradobrewing.com
END:VEVENT
BEGIN:VEVENT
DTSTART;TZID=America/Denver:20260131T130000
DTEND;TZID=America/Denver:20260131T190000
DTSTAMP:20260425T222940
CREATED:20251002T034235Z
LAST-MODIFIED:20260331T025730Z
UID:10000971-1769864400-1769886000@oldcoloradobrewing.com
SUMMARY:Sizzlin' Eats & Treats
DESCRIPTION:Sizzlin’ Eats brings the heat with all your comfort food favorites — juicy burgers stacked high\, crispy wings tossed in bold flavors\, and loaded nachos piled to perfection. Whether you’re craving a quick bite or a full-on feast\, Sizzlin’ Eats serves up big flavor that always hits the spot.
URL:https://oldcoloradobrewing.com/event/sizzlin-eats-treats/2026-01-31/
LOCATION:Old Colorado Brewing Company\, 3700 Cleveland Avenue\, Wellington\, Colorado\, 80549\, United States
CATEGORIES:Food Trucks
ATTACH;FMTTYPE=image/jpeg:https://oldcoloradobrewing.com/wp-content/uploads/2025/10/Sizzlin-Eats.jpg
END:VEVENT
BEGIN:VEVENT
DTSTART;TZID=America/Denver:20260130T160000
DTEND;TZID=America/Denver:20260130T200000
DTSTAMP:20260425T222940
CREATED:20250823T010451Z
LAST-MODIFIED:20260324T042843Z
UID:10000957-1769788800-1769803200@oldcoloradobrewing.com
SUMMARY:Lulu's Taters
DESCRIPTION:Dig into hearty baked potato creations loaded with flavor! From tender brisket to melty queso and all your favorite toppings\, Lulu’s Taters takes the humble spud and turns it into a full meal. Comfort food at its finest\, piled high and made to satisfy.
URL:https://oldcoloradobrewing.com/event/lulus-taters/2026-01-30/
LOCATION:Old Colorado Brewing Company\, 3700 Cleveland Avenue\, Wellington\, Colorado\, 80549\, United States
CATEGORIES:Food Trucks
ATTACH;FMTTYPE=image/jpeg:https://oldcoloradobrewing.com/wp-content/uploads/2025/08/lulus-1.jpg
END:VEVENT
BEGIN:VEVENT
DTSTART;TZID=America/Denver:20260129T113000
DTEND;TZID=America/Denver:20260129T190000
DTSTAMP:20260425T222940
CREATED:20250708T200034Z
LAST-MODIFIED:20250815T210807Z
UID:10000036-1769686200-1769713200@oldcoloradobrewing.com
SUMMARY:Double Dubs Wings
DESCRIPTION:
URL:https://oldcoloradobrewing.com/event/double-dubs-wings/2026-01-29/
LOCATION:Old Colorado Brewing Company\, 3700 Cleveland Avenue\, Wellington\, Colorado\, 80549\, United States
CATEGORIES:Food Trucks
ATTACH;FMTTYPE=image/jpeg:https://oldcoloradobrewing.com/wp-content/uploads/2025/07/dubs.jpg
ORGANIZER;CN="Old Colorado Brewing Company":MAILTO:info@oldcoloradobrewing.com
END:VEVENT
BEGIN:VEVENT
DTSTART;TZID=America/Denver:20260127T183000
DTEND;TZID=America/Denver:20260127T203000
DTSTAMP:20260425T222940
CREATED:20250708T202354Z
LAST-MODIFIED:20250731T224320Z
UID:10000299-1769538600-1769545800@oldcoloradobrewing.com
SUMMARY:Trivia Tuesdays
DESCRIPTION:
URL:https://oldcoloradobrewing.com/event/trivia-tuesdays/2026-01-27/
LOCATION:Old Colorado Brewing Company\, 3700 Cleveland Avenue\, Wellington\, Colorado\, 80549\, United States
CATEGORIES:Trivia
ATTACH;FMTTYPE=image/jpeg:https://oldcoloradobrewing.com/wp-content/uploads/2025/07/Trivia-Tuesdays.jpg
ORGANIZER;CN="Old Colorado Brewing Company":MAILTO:info@oldcoloradobrewing.com
END:VEVENT
BEGIN:VEVENT
DTSTART;TZID=America/Denver:20260122T113000
DTEND;TZID=America/Denver:20260122T190000
DTSTAMP:20260425T222940
CREATED:20250708T200034Z
LAST-MODIFIED:20250815T210807Z
UID:10000035-1769081400-1769108400@oldcoloradobrewing.com
SUMMARY:Double Dubs Wings
DESCRIPTION:
URL:https://oldcoloradobrewing.com/event/double-dubs-wings/2026-01-22/
LOCATION:Old Colorado Brewing Company\, 3700 Cleveland Avenue\, Wellington\, Colorado\, 80549\, United States
CATEGORIES:Food Trucks
ATTACH;FMTTYPE=image/jpeg:https://oldcoloradobrewing.com/wp-content/uploads/2025/07/dubs.jpg
ORGANIZER;CN="Old Colorado Brewing Company":MAILTO:info@oldcoloradobrewing.com
END:VEVENT
BEGIN:VEVENT
DTSTART;TZID=America/Denver:20260120T183000
DTEND;TZID=America/Denver:20260120T203000
DTSTAMP:20260425T222940
CREATED:20250708T202354Z
LAST-MODIFIED:20250731T224320Z
UID:10000298-1768933800-1768941000@oldcoloradobrewing.com
SUMMARY:Trivia Tuesdays
DESCRIPTION:
URL:https://oldcoloradobrewing.com/event/trivia-tuesdays/2026-01-20/
LOCATION:Old Colorado Brewing Company\, 3700 Cleveland Avenue\, Wellington\, Colorado\, 80549\, United States
CATEGORIES:Trivia
ATTACH;FMTTYPE=image/jpeg:https://oldcoloradobrewing.com/wp-content/uploads/2025/07/Trivia-Tuesdays.jpg
ORGANIZER;CN="Old Colorado Brewing Company":MAILTO:info@oldcoloradobrewing.com
END:VEVENT
BEGIN:VEVENT
DTSTART;TZID=America/Denver:20260120T160000
DTEND;TZID=America/Denver:20260120T190000
DTSTAMP:20260425T222940
CREATED:20250819T221400Z
LAST-MODIFIED:20260422T044206Z
UID:10001001-1768924800-1768935600@oldcoloradobrewing.com
SUMMARY:Fry It Riot
DESCRIPTION:
URL:https://oldcoloradobrewing.com/event/fry-it-riot-2/2026-01-20/
LOCATION:Old Colorado Brewing Company\, 3700 Cleveland Avenue\, Wellington\, Colorado\, 80549\, United States
CATEGORIES:Food Trucks
ATTACH;FMTTYPE=image/jpeg:https://oldcoloradobrewing.com/wp-content/uploads/2025/08/Fry-it-Riot-1.jpg
END:VEVENT
BEGIN:VEVENT
DTSTART;TZID=America/Denver:20260118T140000
DTEND;TZID=America/Denver:20260118T190000
DTSTAMP:20260425T222940
CREATED:20260108T052242Z
LAST-MODIFIED:20260108T052242Z
UID:10001000-1768744800-1768762800@oldcoloradobrewing.com
SUMMARY:Big Dub Sliders & Spuds
DESCRIPTION:Big Dub Sliders & Spuds serves up bold\, comfort-food favorites with a creative twist. The menu features signature sliders\, classic and loaded fries\, the crowd-favorite tornado potato\, and rich\, flavorful green chile that takes everything to the next level. From quick bites to full-on indulgence\, Big Dub Sliders & Spuds delivers hearty portions\, big flavor\, and serious food truck appeal. 🍔🍟
URL:https://oldcoloradobrewing.com/event/big-dub-sliders-spuds/
LOCATION:Old Colorado Brewing Company\, 3700 Cleveland Avenue\, Wellington\, Colorado\, 80549\, United States
CATEGORIES:Food Trucks
ATTACH;FMTTYPE=image/jpeg:https://oldcoloradobrewing.com/wp-content/uploads/2026/01/Big-Dub-Sliders.jpg
END:VEVENT
BEGIN:VEVENT
DTSTART;TZID=America/Denver:20260117T130000
DTEND;TZID=America/Denver:20260117T190000
DTSTAMP:20260425T222940
CREATED:20251002T034235Z
LAST-MODIFIED:20260331T025730Z
UID:10000970-1768654800-1768676400@oldcoloradobrewing.com
SUMMARY:Sizzlin' Eats & Treats
DESCRIPTION:Sizzlin’ Eats brings the heat with all your comfort food favorites — juicy burgers stacked high\, crispy wings tossed in bold flavors\, and loaded nachos piled to perfection. Whether you’re craving a quick bite or a full-on feast\, Sizzlin’ Eats serves up big flavor that always hits the spot.
URL:https://oldcoloradobrewing.com/event/sizzlin-eats-treats/2026-01-17/
LOCATION:Old Colorado Brewing Company\, 3700 Cleveland Avenue\, Wellington\, Colorado\, 80549\, United States
CATEGORIES:Food Trucks
ATTACH;FMTTYPE=image/jpeg:https://oldcoloradobrewing.com/wp-content/uploads/2025/10/Sizzlin-Eats.jpg
END:VEVENT
BEGIN:VEVENT
DTSTART;TZID=America/Denver:20260115T113000
DTEND;TZID=America/Denver:20260115T190000
DTSTAMP:20260425T222940
CREATED:20250708T200034Z
LAST-MODIFIED:20250815T210807Z
UID:10000034-1768476600-1768503600@oldcoloradobrewing.com
SUMMARY:Double Dubs Wings
DESCRIPTION:
URL:https://oldcoloradobrewing.com/event/double-dubs-wings/2026-01-15/
LOCATION:Old Colorado Brewing Company\, 3700 Cleveland Avenue\, Wellington\, Colorado\, 80549\, United States
CATEGORIES:Food Trucks
ATTACH;FMTTYPE=image/jpeg:https://oldcoloradobrewing.com/wp-content/uploads/2025/07/dubs.jpg
ORGANIZER;CN="Old Colorado Brewing Company":MAILTO:info@oldcoloradobrewing.com
END:VEVENT
BEGIN:VEVENT
DTSTART;TZID=America/Denver:20260113T183000
DTEND;TZID=America/Denver:20260113T203000
DTSTAMP:20260425T222940
CREATED:20250708T202354Z
LAST-MODIFIED:20250731T224320Z
UID:10000297-1768329000-1768336200@oldcoloradobrewing.com
SUMMARY:Trivia Tuesdays
DESCRIPTION:
URL:https://oldcoloradobrewing.com/event/trivia-tuesdays/2026-01-13/
LOCATION:Old Colorado Brewing Company\, 3700 Cleveland Avenue\, Wellington\, Colorado\, 80549\, United States
CATEGORIES:Trivia
ATTACH;FMTTYPE=image/jpeg:https://oldcoloradobrewing.com/wp-content/uploads/2025/07/Trivia-Tuesdays.jpg
ORGANIZER;CN="Old Colorado Brewing Company":MAILTO:info@oldcoloradobrewing.com
END:VEVENT
BEGIN:VEVENT
DTSTART;TZID=America/Denver:20260110T120000
DTEND;TZID=America/Denver:20260110T190000
DTSTAMP:20260425T222940
CREATED:20250902T035620Z
LAST-MODIFIED:20260422T043413Z
UID:10000979-1768046400-1768071600@oldcoloradobrewing.com
SUMMARY:Dos Medinas
DESCRIPTION:Serving up bold island favorites and family recipes\, Dos Medinas brings the taste of Puerto Rico to Northern Colorado—no plane ticket required.
URL:https://oldcoloradobrewing.com/event/dos-medinas-3/2026-01-10/
LOCATION:Old Colorado Brewing Company\, 3700 Cleveland Avenue\, Wellington\, Colorado\, 80549\, United States
CATEGORIES:Food Trucks
ATTACH;FMTTYPE=image/jpeg:https://oldcoloradobrewing.com/wp-content/uploads/2025/09/Dos-Medinas-Logo.jpg
END:VEVENT
BEGIN:VEVENT
DTSTART;TZID=America/Denver:20260109T160000
DTEND;TZID=America/Denver:20260109T200000
DTSTAMP:20260425T222940
CREATED:20250823T010451Z
LAST-MODIFIED:20260324T042843Z
UID:10000955-1767974400-1767988800@oldcoloradobrewing.com
SUMMARY:Lulu's Taters
DESCRIPTION:Dig into hearty baked potato creations loaded with flavor! From tender brisket to melty queso and all your favorite toppings\, Lulu’s Taters takes the humble spud and turns it into a full meal. Comfort food at its finest\, piled high and made to satisfy.
URL:https://oldcoloradobrewing.com/event/lulus-taters/2026-01-09/
LOCATION:Old Colorado Brewing Company\, 3700 Cleveland Avenue\, Wellington\, Colorado\, 80549\, United States
CATEGORIES:Food Trucks
ATTACH;FMTTYPE=image/jpeg:https://oldcoloradobrewing.com/wp-content/uploads/2025/08/lulus-1.jpg
END:VEVENT
BEGIN:VEVENT
DTSTART;TZID=America/Denver:20260108T113000
DTEND;TZID=America/Denver:20260108T190000
DTSTAMP:20260425T222940
CREATED:20250708T200034Z
LAST-MODIFIED:20250815T210807Z
UID:10000033-1767871800-1767898800@oldcoloradobrewing.com
SUMMARY:Double Dubs Wings
DESCRIPTION:
URL:https://oldcoloradobrewing.com/event/double-dubs-wings/2026-01-08/
LOCATION:Old Colorado Brewing Company\, 3700 Cleveland Avenue\, Wellington\, Colorado\, 80549\, United States
CATEGORIES:Food Trucks
ATTACH;FMTTYPE=image/jpeg:https://oldcoloradobrewing.com/wp-content/uploads/2025/07/dubs.jpg
ORGANIZER;CN="Old Colorado Brewing Company":MAILTO:info@oldcoloradobrewing.com
END:VEVENT
BEGIN:VEVENT
DTSTART;TZID=America/Denver:20260106T183000
DTEND;TZID=America/Denver:20260106T203000
DTSTAMP:20260425T222940
CREATED:20250708T202354Z
LAST-MODIFIED:20250731T224320Z
UID:10000296-1767724200-1767731400@oldcoloradobrewing.com
SUMMARY:Trivia Tuesdays
DESCRIPTION:
URL:https://oldcoloradobrewing.com/event/trivia-tuesdays/2026-01-06/
LOCATION:Old Colorado Brewing Company\, 3700 Cleveland Avenue\, Wellington\, Colorado\, 80549\, United States
CATEGORIES:Trivia
ATTACH;FMTTYPE=image/jpeg:https://oldcoloradobrewing.com/wp-content/uploads/2025/07/Trivia-Tuesdays.jpg
ORGANIZER;CN="Old Colorado Brewing Company":MAILTO:info@oldcoloradobrewing.com
END:VEVENT
BEGIN:VEVENT
DTSTART;TZID=America/Denver:20260104T120000
DTEND;TZID=America/Denver:20260104T140000
DTSTAMP:20260425T222940
CREATED:20250708T203300Z
LAST-MODIFIED:20250731T225255Z
UID:10000662-1767528000-1767535200@oldcoloradobrewing.com
SUMMARY:Sip & Swap
DESCRIPTION:
URL:https://oldcoloradobrewing.com/event/sip-swap/2026-01-04/
LOCATION:Old Colorado Brewing Company\, 3700 Cleveland Avenue\, Wellington\, Colorado\, 80549\, United States
CATEGORIES:Plants
ATTACH;FMTTYPE=image/jpeg:https://oldcoloradobrewing.com/wp-content/uploads/2025/07/Sip-and-Swap.jpg
ORGANIZER;CN="Old Colorado Brewing Company":MAILTO:info@oldcoloradobrewing.com
END:VEVENT
BEGIN:VEVENT
DTSTART;TZID=America/Denver:20260103T130000
DTEND;TZID=America/Denver:20260103T190000
DTSTAMP:20260425T222940
CREATED:20251002T034235Z
LAST-MODIFIED:20260331T025730Z
UID:10000969-1767445200-1767466800@oldcoloradobrewing.com
SUMMARY:Sizzlin' Eats & Treats
DESCRIPTION:Sizzlin’ Eats brings the heat with all your comfort food favorites — juicy burgers stacked high\, crispy wings tossed in bold flavors\, and loaded nachos piled to perfection. Whether you’re craving a quick bite or a full-on feast\, Sizzlin’ Eats serves up big flavor that always hits the spot.
URL:https://oldcoloradobrewing.com/event/sizzlin-eats-treats/2026-01-03/
LOCATION:Old Colorado Brewing Company\, 3700 Cleveland Avenue\, Wellington\, Colorado\, 80549\, United States
CATEGORIES:Food Trucks
ATTACH;FMTTYPE=image/jpeg:https://oldcoloradobrewing.com/wp-content/uploads/2025/10/Sizzlin-Eats.jpg
END:VEVENT
BEGIN:VEVENT
DTSTART;TZID=America/Denver:20260101T113000
DTEND;TZID=America/Denver:20260101T190000
DTSTAMP:20260425T222940
CREATED:20250708T200034Z
LAST-MODIFIED:20250815T210807Z
UID:10000032-1767267000-1767294000@oldcoloradobrewing.com
SUMMARY:Double Dubs Wings
DESCRIPTION:
URL:https://oldcoloradobrewing.com/event/double-dubs-wings/2026-01-01/
LOCATION:Old Colorado Brewing Company\, 3700 Cleveland Avenue\, Wellington\, Colorado\, 80549\, United States
CATEGORIES:Food Trucks
ATTACH;FMTTYPE=image/jpeg:https://oldcoloradobrewing.com/wp-content/uploads/2025/07/dubs.jpg
ORGANIZER;CN="Old Colorado Brewing Company":MAILTO:info@oldcoloradobrewing.com
END:VEVENT
BEGIN:VEVENT
DTSTART;TZID=America/Denver:20251231T190000
DTEND;TZID=America/Denver:20260101T000000
DTSTAMP:20260425T222940
CREATED:20251221T184652Z
LAST-MODIFIED:20251221T184652Z
UID:10000978-1767207600-1767225600@oldcoloradobrewing.com
SUMMARY:Licensed to Party - NYE Event
DESCRIPTION:🕶️🍸 New Year’s Eve: Licensed to Party. \nSuit up\, sip smart\, and step into our James Bond–themed NYE party. We’ll be shaking martinis (never stirring)\, serving up snacks worthy of a secret agent\, and keeping the vibes dangerously smooth all night long. \nDress dapper like a double-O… or roll in with your best wildly inappropriate villain name. The Tipsy Tyrant? Baron von Buzzkill? We won’t ask questions. 😎 \nStay classy\, stay late\, and cheers in the New Year with us.\nNo gadgets required… just good company and excellent drinks. ✨🥂
URL:https://oldcoloradobrewing.com/event/licensed-to-party-nye-event/
LOCATION:Old Colorado Brewing Company\, 3700 Cleveland Avenue\, Wellington\, Colorado\, 80549\, United States
CATEGORIES:Community Event
ATTACH;FMTTYPE=image/png:https://oldcoloradobrewing.com/wp-content/uploads/2025/12/007-NYE.png
END:VEVENT
BEGIN:VEVENT
DTSTART;TZID=America/Denver:20251230T183000
DTEND;TZID=America/Denver:20251230T203000
DTSTAMP:20260425T222940
CREATED:20250708T202354Z
LAST-MODIFIED:20250731T224320Z
UID:10000295-1767119400-1767126600@oldcoloradobrewing.com
SUMMARY:Trivia Tuesdays
DESCRIPTION:
URL:https://oldcoloradobrewing.com/event/trivia-tuesdays/2025-12-30/
LOCATION:Old Colorado Brewing Company\, 3700 Cleveland Avenue\, Wellington\, Colorado\, 80549\, United States
CATEGORIES:Trivia
ATTACH;FMTTYPE=image/jpeg:https://oldcoloradobrewing.com/wp-content/uploads/2025/07/Trivia-Tuesdays.jpg
ORGANIZER;CN="Old Colorado Brewing Company":MAILTO:info@oldcoloradobrewing.com
END:VEVENT
END:VCALENDAR