BEGIN:VCALENDAR
VERSION:2.0
PRODID:-//Old Colorado Brewing Company - ECPv6.15.20//NONSGML v1.0//EN
CALSCALE:GREGORIAN
METHOD:PUBLISH
X-WR-CALNAME:Old Colorado Brewing Company
X-ORIGINAL-URL:https://oldcoloradobrewing.com
X-WR-CALDESC:Events for Old Colorado Brewing Company
REFRESH-INTERVAL;VALUE=DURATION:PT1H
X-Robots-Tag:noindex
X-PUBLISHED-TTL:PT1H
BEGIN:VTIMEZONE
TZID:America/Denver
BEGIN:DAYLIGHT
TZOFFSETFROM:-0700
TZOFFSETTO:-0600
TZNAME:MDT
DTSTART:20250309T090000
END:DAYLIGHT
BEGIN:STANDARD
TZOFFSETFROM:-0600
TZOFFSETTO:-0700
TZNAME:MST
DTSTART:20251102T080000
END:STANDARD
BEGIN:DAYLIGHT
TZOFFSETFROM:-0700
TZOFFSETTO:-0600
TZNAME:MDT
DTSTART:20260308T090000
END:DAYLIGHT
BEGIN:STANDARD
TZOFFSETFROM:-0600
TZOFFSETTO:-0700
TZNAME:MST
DTSTART:20261101T080000
END:STANDARD
BEGIN:DAYLIGHT
TZOFFSETFROM:-0700
TZOFFSETTO:-0600
TZNAME:MDT
DTSTART:20270314T090000
END:DAYLIGHT
BEGIN:STANDARD
TZOFFSETFROM:-0600
TZOFFSETTO:-0700
TZNAME:MST
DTSTART:20271107T080000
END:STANDARD
END:VTIMEZONE
BEGIN:VEVENT
DTSTART;TZID=America/Denver:20260428T160000
DTEND;TZID=America/Denver:20260428T200000
DTSTAMP:20260425T121017
CREATED:20250914T001333Z
LAST-MODIFIED:20260422T042914Z
UID:10000963-1777392000-1777406400@oldcoloradobrewing.com
SUMMARY:Bite of the Bayou
DESCRIPTION:Bite of the Bayou — Berthoud’s Veteran-Owned Cajun Food Truck \nCome get a taste of Louisiana right here in Wellington! Bite of the Bayou serves up bold Cajun flavors inspired by the Bayou’s rich food tradition.
URL:https://oldcoloradobrewing.com/event/bite-of-the-bayou/2026-04-28/
LOCATION:Old Colorado Brewing Company\, 3700 Cleveland Avenue\, Wellington\, Colorado\, 80549\, United States
CATEGORIES:Food Trucks
ATTACH;FMTTYPE=image/jpeg:https://oldcoloradobrewing.com/wp-content/uploads/2025/09/bitebayou2.jpg
END:VEVENT
BEGIN:VEVENT
DTSTART;TZID=America/Denver:20260530T160000
DTEND;TZID=America/Denver:20260530T200000
DTSTAMP:20260425T121017
CREATED:20250914T001333Z
LAST-MODIFIED:20260422T042914Z
UID:10001091-1780156800-1780171200@oldcoloradobrewing.com
SUMMARY:Bite of the Bayou
DESCRIPTION:Bite of the Bayou — Berthoud’s Veteran-Owned Cajun Food Truck \nCome get a taste of Louisiana right here in Wellington! Bite of the Bayou serves up bold Cajun flavors inspired by the Bayou’s rich food tradition.
URL:https://oldcoloradobrewing.com/event/bite-of-the-bayou/2026-05-30/
LOCATION:Old Colorado Brewing Company\, 3700 Cleveland Avenue\, Wellington\, Colorado\, 80549\, United States
CATEGORIES:Food Trucks
ATTACH;FMTTYPE=image/jpeg:https://oldcoloradobrewing.com/wp-content/uploads/2025/09/bitebayou2.jpg
END:VEVENT
BEGIN:VEVENT
DTSTART;TZID=America/Denver:20260602T160000
DTEND;TZID=America/Denver:20260602T193000
DTSTAMP:20260425T121017
CREATED:20250914T001333Z
LAST-MODIFIED:20260422T042914Z
UID:10001092-1780416000-1780428600@oldcoloradobrewing.com
SUMMARY:Bite of the Bayou
DESCRIPTION:Bite of the Bayou — Berthoud’s Veteran-Owned Cajun Food Truck \nCome get a taste of Louisiana right here in Wellington! Bite of the Bayou serves up bold Cajun flavors inspired by the Bayou’s rich food tradition.
URL:https://oldcoloradobrewing.com/event/bite-of-the-bayou/2026-06-02/
LOCATION:Old Colorado Brewing Company\, 3700 Cleveland Avenue\, Wellington\, Colorado\, 80549\, United States
CATEGORIES:Food Trucks
ATTACH;FMTTYPE=image/jpeg:https://oldcoloradobrewing.com/wp-content/uploads/2025/09/bitebayou2.jpg
END:VEVENT
BEGIN:VEVENT
DTSTART;TZID=America/Denver:20260619T160000
DTEND;TZID=America/Denver:20260619T200000
DTSTAMP:20260425T121017
CREATED:20250914T001333Z
LAST-MODIFIED:20260422T042914Z
UID:10001093-1781884800-1781899200@oldcoloradobrewing.com
SUMMARY:Bite of the Bayou
DESCRIPTION:Bite of the Bayou — Berthoud’s Veteran-Owned Cajun Food Truck \nCome get a taste of Louisiana right here in Wellington! Bite of the Bayou serves up bold Cajun flavors inspired by the Bayou’s rich food tradition.
URL:https://oldcoloradobrewing.com/event/bite-of-the-bayou/2026-06-19/
LOCATION:Old Colorado Brewing Company\, 3700 Cleveland Avenue\, Wellington\, Colorado\, 80549\, United States
CATEGORIES:Food Trucks
ATTACH;FMTTYPE=image/jpeg:https://oldcoloradobrewing.com/wp-content/uploads/2025/09/bitebayou2.jpg
END:VEVENT
END:VCALENDAR