BEGIN:VCALENDAR
VERSION:2.0
PRODID:-//Old Colorado Brewing Company - ECPv6.15.20//NONSGML v1.0//EN
CALSCALE:GREGORIAN
METHOD:PUBLISH
X-WR-CALNAME:Old Colorado Brewing Company
X-ORIGINAL-URL:https://oldcoloradobrewing.com
X-WR-CALDESC:Events for Old Colorado Brewing Company
REFRESH-INTERVAL;VALUE=DURATION:PT1H
X-Robots-Tag:noindex
X-PUBLISHED-TTL:PT1H
BEGIN:VTIMEZONE
TZID:America/Denver
BEGIN:DAYLIGHT
TZOFFSETFROM:-0700
TZOFFSETTO:-0600
TZNAME:MDT
DTSTART:20250309T090000
END:DAYLIGHT
BEGIN:STANDARD
TZOFFSETFROM:-0600
TZOFFSETTO:-0700
TZNAME:MST
DTSTART:20251102T080000
END:STANDARD
BEGIN:DAYLIGHT
TZOFFSETFROM:-0700
TZOFFSETTO:-0600
TZNAME:MDT
DTSTART:20260308T090000
END:DAYLIGHT
BEGIN:STANDARD
TZOFFSETFROM:-0600
TZOFFSETTO:-0700
TZNAME:MST
DTSTART:20261101T080000
END:STANDARD
BEGIN:DAYLIGHT
TZOFFSETFROM:-0700
TZOFFSETTO:-0600
TZNAME:MDT
DTSTART:20270314T090000
END:DAYLIGHT
BEGIN:STANDARD
TZOFFSETFROM:-0600
TZOFFSETTO:-0700
TZNAME:MST
DTSTART:20271107T080000
END:STANDARD
END:VTIMEZONE
BEGIN:VEVENT
DTSTART;TZID=America/Denver:20260818T183000
DTEND;TZID=America/Denver:20260818T203000
DTSTAMP:20260425T191334
CREATED:20260217T012642Z
LAST-MODIFIED:20260217T012643Z
UID:10000328-1787077800-1787085000@oldcoloradobrewing.com
SUMMARY:Trivia Tuesdays
DESCRIPTION:
URL:https://oldcoloradobrewing.com/event/trivia-tuesdays-2/2026-08-18/
LOCATION:Old Colorado Brewing Company\, 3700 Cleveland Avenue\, Wellington\, Colorado\, 80549\, United States
CATEGORIES:Trivia
ATTACH;FMTTYPE=image/png:https://oldcoloradobrewing.com/wp-content/uploads/2025/07/OCB-Trivia-Tuesdays.png
ORGANIZER;CN="Old Colorado Brewing Company":MAILTO:info@oldcoloradobrewing.com
END:VEVENT
BEGIN:VEVENT
DTSTART;TZID=America/Denver:20260820T113000
DTEND;TZID=America/Denver:20260820T190000
DTSTAMP:20260425T191334
CREATED:20250708T200034Z
LAST-MODIFIED:20250815T210807Z
UID:10000065-1787225400-1787252400@oldcoloradobrewing.com
SUMMARY:Double Dubs Wings
DESCRIPTION:
URL:https://oldcoloradobrewing.com/event/double-dubs-wings/2026-08-20/
LOCATION:Old Colorado Brewing Company\, 3700 Cleveland Avenue\, Wellington\, Colorado\, 80549\, United States
CATEGORIES:Food Trucks
ATTACH;FMTTYPE=image/jpeg:https://oldcoloradobrewing.com/wp-content/uploads/2025/07/dubs.jpg
ORGANIZER;CN="Old Colorado Brewing Company":MAILTO:info@oldcoloradobrewing.com
END:VEVENT
BEGIN:VEVENT
DTSTART;TZID=America/Denver:20260825T183000
DTEND;TZID=America/Denver:20260825T203000
DTSTAMP:20260425T191334
CREATED:20260217T012642Z
LAST-MODIFIED:20260217T012643Z
UID:10000329-1787682600-1787689800@oldcoloradobrewing.com
SUMMARY:Trivia Tuesdays
DESCRIPTION:
URL:https://oldcoloradobrewing.com/event/trivia-tuesdays-2/2026-08-25/
LOCATION:Old Colorado Brewing Company\, 3700 Cleveland Avenue\, Wellington\, Colorado\, 80549\, United States
CATEGORIES:Trivia
ATTACH;FMTTYPE=image/png:https://oldcoloradobrewing.com/wp-content/uploads/2025/07/OCB-Trivia-Tuesdays.png
ORGANIZER;CN="Old Colorado Brewing Company":MAILTO:info@oldcoloradobrewing.com
END:VEVENT
BEGIN:VEVENT
DTSTART;TZID=America/Denver:20260827T113000
DTEND;TZID=America/Denver:20260827T190000
DTSTAMP:20260425T191334
CREATED:20250708T200034Z
LAST-MODIFIED:20250815T210807Z
UID:10000066-1787830200-1787857200@oldcoloradobrewing.com
SUMMARY:Double Dubs Wings
DESCRIPTION:
URL:https://oldcoloradobrewing.com/event/double-dubs-wings/2026-08-27/
LOCATION:Old Colorado Brewing Company\, 3700 Cleveland Avenue\, Wellington\, Colorado\, 80549\, United States
CATEGORIES:Food Trucks
ATTACH;FMTTYPE=image/jpeg:https://oldcoloradobrewing.com/wp-content/uploads/2025/07/dubs.jpg
ORGANIZER;CN="Old Colorado Brewing Company":MAILTO:info@oldcoloradobrewing.com
END:VEVENT
BEGIN:VEVENT
DTSTART;TZID=America/Denver:20260901T183000
DTEND;TZID=America/Denver:20260901T203000
DTSTAMP:20260425T191334
CREATED:20260217T012642Z
LAST-MODIFIED:20260217T012643Z
UID:10000330-1788287400-1788294600@oldcoloradobrewing.com
SUMMARY:Trivia Tuesdays
DESCRIPTION:
URL:https://oldcoloradobrewing.com/event/trivia-tuesdays-2/2026-09-01/
LOCATION:Old Colorado Brewing Company\, 3700 Cleveland Avenue\, Wellington\, Colorado\, 80549\, United States
CATEGORIES:Trivia
ATTACH;FMTTYPE=image/png:https://oldcoloradobrewing.com/wp-content/uploads/2025/07/OCB-Trivia-Tuesdays.png
ORGANIZER;CN="Old Colorado Brewing Company":MAILTO:info@oldcoloradobrewing.com
END:VEVENT
BEGIN:VEVENT
DTSTART;TZID=America/Denver:20260903T113000
DTEND;TZID=America/Denver:20260903T190000
DTSTAMP:20260425T191334
CREATED:20250708T200034Z
LAST-MODIFIED:20250815T210807Z
UID:10000067-1788435000-1788462000@oldcoloradobrewing.com
SUMMARY:Double Dubs Wings
DESCRIPTION:
URL:https://oldcoloradobrewing.com/event/double-dubs-wings/2026-09-03/
LOCATION:Old Colorado Brewing Company\, 3700 Cleveland Avenue\, Wellington\, Colorado\, 80549\, United States
CATEGORIES:Food Trucks
ATTACH;FMTTYPE=image/jpeg:https://oldcoloradobrewing.com/wp-content/uploads/2025/07/dubs.jpg
ORGANIZER;CN="Old Colorado Brewing Company":MAILTO:info@oldcoloradobrewing.com
END:VEVENT
BEGIN:VEVENT
DTSTART;TZID=America/Denver:20260906T120000
DTEND;TZID=America/Denver:20260906T140000
DTSTAMP:20260425T191334
CREATED:20250708T203300Z
LAST-MODIFIED:20250731T225255Z
UID:10000670-1788696000-1788703200@oldcoloradobrewing.com
SUMMARY:Sip & Swap
DESCRIPTION:
URL:https://oldcoloradobrewing.com/event/sip-swap/2026-09-06/
LOCATION:Old Colorado Brewing Company\, 3700 Cleveland Avenue\, Wellington\, Colorado\, 80549\, United States
CATEGORIES:Plants
ATTACH;FMTTYPE=image/jpeg:https://oldcoloradobrewing.com/wp-content/uploads/2025/07/Sip-and-Swap.jpg
ORGANIZER;CN="Old Colorado Brewing Company":MAILTO:info@oldcoloradobrewing.com
END:VEVENT
BEGIN:VEVENT
DTSTART;TZID=America/Denver:20260908T183000
DTEND;TZID=America/Denver:20260908T203000
DTSTAMP:20260425T191334
CREATED:20260217T012642Z
LAST-MODIFIED:20260217T012643Z
UID:10000331-1788892200-1788899400@oldcoloradobrewing.com
SUMMARY:Trivia Tuesdays
DESCRIPTION:
URL:https://oldcoloradobrewing.com/event/trivia-tuesdays-2/2026-09-08/
LOCATION:Old Colorado Brewing Company\, 3700 Cleveland Avenue\, Wellington\, Colorado\, 80549\, United States
CATEGORIES:Trivia
ATTACH;FMTTYPE=image/png:https://oldcoloradobrewing.com/wp-content/uploads/2025/07/OCB-Trivia-Tuesdays.png
ORGANIZER;CN="Old Colorado Brewing Company":MAILTO:info@oldcoloradobrewing.com
END:VEVENT
BEGIN:VEVENT
DTSTART;TZID=America/Denver:20260910T113000
DTEND;TZID=America/Denver:20260910T190000
DTSTAMP:20260425T191334
CREATED:20250708T200034Z
LAST-MODIFIED:20250815T210807Z
UID:10000068-1789039800-1789066800@oldcoloradobrewing.com
SUMMARY:Double Dubs Wings
DESCRIPTION:
URL:https://oldcoloradobrewing.com/event/double-dubs-wings/2026-09-10/
LOCATION:Old Colorado Brewing Company\, 3700 Cleveland Avenue\, Wellington\, Colorado\, 80549\, United States
CATEGORIES:Food Trucks
ATTACH;FMTTYPE=image/jpeg:https://oldcoloradobrewing.com/wp-content/uploads/2025/07/dubs.jpg
ORGANIZER;CN="Old Colorado Brewing Company":MAILTO:info@oldcoloradobrewing.com
END:VEVENT
BEGIN:VEVENT
DTSTART;TZID=America/Denver:20260915T183000
DTEND;TZID=America/Denver:20260915T203000
DTSTAMP:20260425T191334
CREATED:20260217T012642Z
LAST-MODIFIED:20260217T012643Z
UID:10000332-1789497000-1789504200@oldcoloradobrewing.com
SUMMARY:Trivia Tuesdays
DESCRIPTION:
URL:https://oldcoloradobrewing.com/event/trivia-tuesdays-2/2026-09-15/
LOCATION:Old Colorado Brewing Company\, 3700 Cleveland Avenue\, Wellington\, Colorado\, 80549\, United States
CATEGORIES:Trivia
ATTACH;FMTTYPE=image/png:https://oldcoloradobrewing.com/wp-content/uploads/2025/07/OCB-Trivia-Tuesdays.png
ORGANIZER;CN="Old Colorado Brewing Company":MAILTO:info@oldcoloradobrewing.com
END:VEVENT
BEGIN:VEVENT
DTSTART;TZID=America/Denver:20260917T113000
DTEND;TZID=America/Denver:20260917T190000
DTSTAMP:20260425T191334
CREATED:20250708T200034Z
LAST-MODIFIED:20250815T210807Z
UID:10000069-1789644600-1789671600@oldcoloradobrewing.com
SUMMARY:Double Dubs Wings
DESCRIPTION:
URL:https://oldcoloradobrewing.com/event/double-dubs-wings/2026-09-17/
LOCATION:Old Colorado Brewing Company\, 3700 Cleveland Avenue\, Wellington\, Colorado\, 80549\, United States
CATEGORIES:Food Trucks
ATTACH;FMTTYPE=image/jpeg:https://oldcoloradobrewing.com/wp-content/uploads/2025/07/dubs.jpg
ORGANIZER;CN="Old Colorado Brewing Company":MAILTO:info@oldcoloradobrewing.com
END:VEVENT
BEGIN:VEVENT
DTSTART;TZID=America/Denver:20260922T183000
DTEND;TZID=America/Denver:20260922T203000
DTSTAMP:20260425T191334
CREATED:20260217T012642Z
LAST-MODIFIED:20260217T012643Z
UID:10000333-1790101800-1790109000@oldcoloradobrewing.com
SUMMARY:Trivia Tuesdays
DESCRIPTION:
URL:https://oldcoloradobrewing.com/event/trivia-tuesdays-2/2026-09-22/
LOCATION:Old Colorado Brewing Company\, 3700 Cleveland Avenue\, Wellington\, Colorado\, 80549\, United States
CATEGORIES:Trivia
ATTACH;FMTTYPE=image/png:https://oldcoloradobrewing.com/wp-content/uploads/2025/07/OCB-Trivia-Tuesdays.png
ORGANIZER;CN="Old Colorado Brewing Company":MAILTO:info@oldcoloradobrewing.com
END:VEVENT
BEGIN:VEVENT
DTSTART;TZID=America/Denver:20260924T113000
DTEND;TZID=America/Denver:20260924T190000
DTSTAMP:20260425T191334
CREATED:20250708T200034Z
LAST-MODIFIED:20250815T210807Z
UID:10000070-1790249400-1790276400@oldcoloradobrewing.com
SUMMARY:Double Dubs Wings
DESCRIPTION:
URL:https://oldcoloradobrewing.com/event/double-dubs-wings/2026-09-24/
LOCATION:Old Colorado Brewing Company\, 3700 Cleveland Avenue\, Wellington\, Colorado\, 80549\, United States
CATEGORIES:Food Trucks
ATTACH;FMTTYPE=image/jpeg:https://oldcoloradobrewing.com/wp-content/uploads/2025/07/dubs.jpg
ORGANIZER;CN="Old Colorado Brewing Company":MAILTO:info@oldcoloradobrewing.com
END:VEVENT
BEGIN:VEVENT
DTSTART;TZID=America/Denver:20260929T183000
DTEND;TZID=America/Denver:20260929T203000
DTSTAMP:20260425T191334
CREATED:20260217T012642Z
LAST-MODIFIED:20260217T012643Z
UID:10000334-1790706600-1790713800@oldcoloradobrewing.com
SUMMARY:Trivia Tuesdays
DESCRIPTION:
URL:https://oldcoloradobrewing.com/event/trivia-tuesdays-2/2026-09-29/
LOCATION:Old Colorado Brewing Company\, 3700 Cleveland Avenue\, Wellington\, Colorado\, 80549\, United States
CATEGORIES:Trivia
ATTACH;FMTTYPE=image/png:https://oldcoloradobrewing.com/wp-content/uploads/2025/07/OCB-Trivia-Tuesdays.png
ORGANIZER;CN="Old Colorado Brewing Company":MAILTO:info@oldcoloradobrewing.com
END:VEVENT
BEGIN:VEVENT
DTSTART;TZID=America/Denver:20261001T113000
DTEND;TZID=America/Denver:20261001T190000
DTSTAMP:20260425T191334
CREATED:20250708T200034Z
LAST-MODIFIED:20250815T210807Z
UID:10000071-1790854200-1790881200@oldcoloradobrewing.com
SUMMARY:Double Dubs Wings
DESCRIPTION:
URL:https://oldcoloradobrewing.com/event/double-dubs-wings/2026-10-01/
LOCATION:Old Colorado Brewing Company\, 3700 Cleveland Avenue\, Wellington\, Colorado\, 80549\, United States
CATEGORIES:Food Trucks
ATTACH;FMTTYPE=image/jpeg:https://oldcoloradobrewing.com/wp-content/uploads/2025/07/dubs.jpg
ORGANIZER;CN="Old Colorado Brewing Company":MAILTO:info@oldcoloradobrewing.com
END:VEVENT
BEGIN:VEVENT
DTSTART;TZID=America/Denver:20261004T120000
DTEND;TZID=America/Denver:20261004T140000
DTSTAMP:20260425T191334
CREATED:20250708T203300Z
LAST-MODIFIED:20250731T225255Z
UID:10000671-1791115200-1791122400@oldcoloradobrewing.com
SUMMARY:Sip & Swap
DESCRIPTION:
URL:https://oldcoloradobrewing.com/event/sip-swap/2026-10-04/
LOCATION:Old Colorado Brewing Company\, 3700 Cleveland Avenue\, Wellington\, Colorado\, 80549\, United States
CATEGORIES:Plants
ATTACH;FMTTYPE=image/jpeg:https://oldcoloradobrewing.com/wp-content/uploads/2025/07/Sip-and-Swap.jpg
ORGANIZER;CN="Old Colorado Brewing Company":MAILTO:info@oldcoloradobrewing.com
END:VEVENT
BEGIN:VEVENT
DTSTART;TZID=America/Denver:20261006T183000
DTEND;TZID=America/Denver:20261006T203000
DTSTAMP:20260425T191334
CREATED:20260217T012642Z
LAST-MODIFIED:20260217T012643Z
UID:10000335-1791311400-1791318600@oldcoloradobrewing.com
SUMMARY:Trivia Tuesdays
DESCRIPTION:
URL:https://oldcoloradobrewing.com/event/trivia-tuesdays-2/2026-10-06/
LOCATION:Old Colorado Brewing Company\, 3700 Cleveland Avenue\, Wellington\, Colorado\, 80549\, United States
CATEGORIES:Trivia
ATTACH;FMTTYPE=image/png:https://oldcoloradobrewing.com/wp-content/uploads/2025/07/OCB-Trivia-Tuesdays.png
ORGANIZER;CN="Old Colorado Brewing Company":MAILTO:info@oldcoloradobrewing.com
END:VEVENT
BEGIN:VEVENT
DTSTART;TZID=America/Denver:20261008T113000
DTEND;TZID=America/Denver:20261008T190000
DTSTAMP:20260425T191334
CREATED:20250708T200034Z
LAST-MODIFIED:20250815T210807Z
UID:10000072-1791459000-1791486000@oldcoloradobrewing.com
SUMMARY:Double Dubs Wings
DESCRIPTION:
URL:https://oldcoloradobrewing.com/event/double-dubs-wings/2026-10-08/
LOCATION:Old Colorado Brewing Company\, 3700 Cleveland Avenue\, Wellington\, Colorado\, 80549\, United States
CATEGORIES:Food Trucks
ATTACH;FMTTYPE=image/jpeg:https://oldcoloradobrewing.com/wp-content/uploads/2025/07/dubs.jpg
ORGANIZER;CN="Old Colorado Brewing Company":MAILTO:info@oldcoloradobrewing.com
END:VEVENT
BEGIN:VEVENT
DTSTART;TZID=America/Denver:20261013T183000
DTEND;TZID=America/Denver:20261013T203000
DTSTAMP:20260425T191334
CREATED:20260217T012642Z
LAST-MODIFIED:20260217T012643Z
UID:10000336-1791916200-1791923400@oldcoloradobrewing.com
SUMMARY:Trivia Tuesdays
DESCRIPTION:
URL:https://oldcoloradobrewing.com/event/trivia-tuesdays-2/2026-10-13/
LOCATION:Old Colorado Brewing Company\, 3700 Cleveland Avenue\, Wellington\, Colorado\, 80549\, United States
CATEGORIES:Trivia
ATTACH;FMTTYPE=image/png:https://oldcoloradobrewing.com/wp-content/uploads/2025/07/OCB-Trivia-Tuesdays.png
ORGANIZER;CN="Old Colorado Brewing Company":MAILTO:info@oldcoloradobrewing.com
END:VEVENT
BEGIN:VEVENT
DTSTART;TZID=America/Denver:20261015T113000
DTEND;TZID=America/Denver:20261015T190000
DTSTAMP:20260425T191334
CREATED:20250708T200034Z
LAST-MODIFIED:20250815T210807Z
UID:10000073-1792063800-1792090800@oldcoloradobrewing.com
SUMMARY:Double Dubs Wings
DESCRIPTION:
URL:https://oldcoloradobrewing.com/event/double-dubs-wings/2026-10-15/
LOCATION:Old Colorado Brewing Company\, 3700 Cleveland Avenue\, Wellington\, Colorado\, 80549\, United States
CATEGORIES:Food Trucks
ATTACH;FMTTYPE=image/jpeg:https://oldcoloradobrewing.com/wp-content/uploads/2025/07/dubs.jpg
ORGANIZER;CN="Old Colorado Brewing Company":MAILTO:info@oldcoloradobrewing.com
END:VEVENT
BEGIN:VEVENT
DTSTART;TZID=America/Denver:20261020T183000
DTEND;TZID=America/Denver:20261020T203000
DTSTAMP:20260425T191334
CREATED:20260217T012642Z
LAST-MODIFIED:20260217T012643Z
UID:10000337-1792521000-1792528200@oldcoloradobrewing.com
SUMMARY:Trivia Tuesdays
DESCRIPTION:
URL:https://oldcoloradobrewing.com/event/trivia-tuesdays-2/2026-10-20/
LOCATION:Old Colorado Brewing Company\, 3700 Cleveland Avenue\, Wellington\, Colorado\, 80549\, United States
CATEGORIES:Trivia
ATTACH;FMTTYPE=image/png:https://oldcoloradobrewing.com/wp-content/uploads/2025/07/OCB-Trivia-Tuesdays.png
ORGANIZER;CN="Old Colorado Brewing Company":MAILTO:info@oldcoloradobrewing.com
END:VEVENT
BEGIN:VEVENT
DTSTART;TZID=America/Denver:20261022T113000
DTEND;TZID=America/Denver:20261022T190000
DTSTAMP:20260425T191334
CREATED:20250708T200034Z
LAST-MODIFIED:20250815T210807Z
UID:10000074-1792668600-1792695600@oldcoloradobrewing.com
SUMMARY:Double Dubs Wings
DESCRIPTION:
URL:https://oldcoloradobrewing.com/event/double-dubs-wings/2026-10-22/
LOCATION:Old Colorado Brewing Company\, 3700 Cleveland Avenue\, Wellington\, Colorado\, 80549\, United States
CATEGORIES:Food Trucks
ATTACH;FMTTYPE=image/jpeg:https://oldcoloradobrewing.com/wp-content/uploads/2025/07/dubs.jpg
ORGANIZER;CN="Old Colorado Brewing Company":MAILTO:info@oldcoloradobrewing.com
END:VEVENT
BEGIN:VEVENT
DTSTART;TZID=America/Denver:20261027T183000
DTEND;TZID=America/Denver:20261027T203000
DTSTAMP:20260425T191334
CREATED:20260217T012642Z
LAST-MODIFIED:20260217T012643Z
UID:10000338-1793125800-1793133000@oldcoloradobrewing.com
SUMMARY:Trivia Tuesdays
DESCRIPTION:
URL:https://oldcoloradobrewing.com/event/trivia-tuesdays-2/2026-10-27/
LOCATION:Old Colorado Brewing Company\, 3700 Cleveland Avenue\, Wellington\, Colorado\, 80549\, United States
CATEGORIES:Trivia
ATTACH;FMTTYPE=image/png:https://oldcoloradobrewing.com/wp-content/uploads/2025/07/OCB-Trivia-Tuesdays.png
ORGANIZER;CN="Old Colorado Brewing Company":MAILTO:info@oldcoloradobrewing.com
END:VEVENT
BEGIN:VEVENT
DTSTART;TZID=America/Denver:20261029T113000
DTEND;TZID=America/Denver:20261029T190000
DTSTAMP:20260425T191334
CREATED:20250708T200034Z
LAST-MODIFIED:20250815T210807Z
UID:10000075-1793273400-1793300400@oldcoloradobrewing.com
SUMMARY:Double Dubs Wings
DESCRIPTION:
URL:https://oldcoloradobrewing.com/event/double-dubs-wings/2026-10-29/
LOCATION:Old Colorado Brewing Company\, 3700 Cleveland Avenue\, Wellington\, Colorado\, 80549\, United States
CATEGORIES:Food Trucks
ATTACH;FMTTYPE=image/jpeg:https://oldcoloradobrewing.com/wp-content/uploads/2025/07/dubs.jpg
ORGANIZER;CN="Old Colorado Brewing Company":MAILTO:info@oldcoloradobrewing.com
END:VEVENT
BEGIN:VEVENT
DTSTART;TZID=America/Denver:20261101T120000
DTEND;TZID=America/Denver:20261101T140000
DTSTAMP:20260425T191334
CREATED:20250708T203300Z
LAST-MODIFIED:20250731T225255Z
UID:10000672-1793534400-1793541600@oldcoloradobrewing.com
SUMMARY:Sip & Swap
DESCRIPTION:
URL:https://oldcoloradobrewing.com/event/sip-swap/2026-11-01/
LOCATION:Old Colorado Brewing Company\, 3700 Cleveland Avenue\, Wellington\, Colorado\, 80549\, United States
CATEGORIES:Plants
ATTACH;FMTTYPE=image/jpeg:https://oldcoloradobrewing.com/wp-content/uploads/2025/07/Sip-and-Swap.jpg
ORGANIZER;CN="Old Colorado Brewing Company":MAILTO:info@oldcoloradobrewing.com
END:VEVENT
BEGIN:VEVENT
DTSTART;TZID=America/Denver:20261103T183000
DTEND;TZID=America/Denver:20261103T203000
DTSTAMP:20260425T191334
CREATED:20260217T012642Z
LAST-MODIFIED:20260217T012643Z
UID:10000339-1793730600-1793737800@oldcoloradobrewing.com
SUMMARY:Trivia Tuesdays
DESCRIPTION:
URL:https://oldcoloradobrewing.com/event/trivia-tuesdays-2/2026-11-03/
LOCATION:Old Colorado Brewing Company\, 3700 Cleveland Avenue\, Wellington\, Colorado\, 80549\, United States
CATEGORIES:Trivia
ATTACH;FMTTYPE=image/png:https://oldcoloradobrewing.com/wp-content/uploads/2025/07/OCB-Trivia-Tuesdays.png
ORGANIZER;CN="Old Colorado Brewing Company":MAILTO:info@oldcoloradobrewing.com
END:VEVENT
BEGIN:VEVENT
DTSTART;TZID=America/Denver:20261105T113000
DTEND;TZID=America/Denver:20261105T190000
DTSTAMP:20260425T191334
CREATED:20250708T200034Z
LAST-MODIFIED:20250815T210807Z
UID:10000076-1793878200-1793905200@oldcoloradobrewing.com
SUMMARY:Double Dubs Wings
DESCRIPTION:
URL:https://oldcoloradobrewing.com/event/double-dubs-wings/2026-11-05/
LOCATION:Old Colorado Brewing Company\, 3700 Cleveland Avenue\, Wellington\, Colorado\, 80549\, United States
CATEGORIES:Food Trucks
ATTACH;FMTTYPE=image/jpeg:https://oldcoloradobrewing.com/wp-content/uploads/2025/07/dubs.jpg
ORGANIZER;CN="Old Colorado Brewing Company":MAILTO:info@oldcoloradobrewing.com
END:VEVENT
BEGIN:VEVENT
DTSTART;TZID=America/Denver:20261110T183000
DTEND;TZID=America/Denver:20261110T203000
DTSTAMP:20260425T191334
CREATED:20260217T012642Z
LAST-MODIFIED:20260217T012643Z
UID:10000340-1794335400-1794342600@oldcoloradobrewing.com
SUMMARY:Trivia Tuesdays
DESCRIPTION:
URL:https://oldcoloradobrewing.com/event/trivia-tuesdays-2/2026-11-10/
LOCATION:Old Colorado Brewing Company\, 3700 Cleveland Avenue\, Wellington\, Colorado\, 80549\, United States
CATEGORIES:Trivia
ATTACH;FMTTYPE=image/png:https://oldcoloradobrewing.com/wp-content/uploads/2025/07/OCB-Trivia-Tuesdays.png
ORGANIZER;CN="Old Colorado Brewing Company":MAILTO:info@oldcoloradobrewing.com
END:VEVENT
BEGIN:VEVENT
DTSTART;TZID=America/Denver:20261112T113000
DTEND;TZID=America/Denver:20261112T190000
DTSTAMP:20260425T191334
CREATED:20250708T200034Z
LAST-MODIFIED:20250815T210807Z
UID:10000077-1794483000-1794510000@oldcoloradobrewing.com
SUMMARY:Double Dubs Wings
DESCRIPTION:
URL:https://oldcoloradobrewing.com/event/double-dubs-wings/2026-11-12/
LOCATION:Old Colorado Brewing Company\, 3700 Cleveland Avenue\, Wellington\, Colorado\, 80549\, United States
CATEGORIES:Food Trucks
ATTACH;FMTTYPE=image/jpeg:https://oldcoloradobrewing.com/wp-content/uploads/2025/07/dubs.jpg
ORGANIZER;CN="Old Colorado Brewing Company":MAILTO:info@oldcoloradobrewing.com
END:VEVENT
BEGIN:VEVENT
DTSTART;TZID=America/Denver:20261117T183000
DTEND;TZID=America/Denver:20261117T203000
DTSTAMP:20260425T191334
CREATED:20260217T012642Z
LAST-MODIFIED:20260217T012643Z
UID:10000341-1794940200-1794947400@oldcoloradobrewing.com
SUMMARY:Trivia Tuesdays
DESCRIPTION:
URL:https://oldcoloradobrewing.com/event/trivia-tuesdays-2/2026-11-17/
LOCATION:Old Colorado Brewing Company\, 3700 Cleveland Avenue\, Wellington\, Colorado\, 80549\, United States
CATEGORIES:Trivia
ATTACH;FMTTYPE=image/png:https://oldcoloradobrewing.com/wp-content/uploads/2025/07/OCB-Trivia-Tuesdays.png
ORGANIZER;CN="Old Colorado Brewing Company":MAILTO:info@oldcoloradobrewing.com
END:VEVENT
END:VCALENDAR